BEGIN:VCALENDAR
VERSION:2.0
PRODID:-//UM//UM*Events//EN
CALSCALE:GREGORIAN
BEGIN:VTIMEZONE
TZID:America/Detroit
TZURL:http://tzurl.org/zoneinfo/America/Detroit
X-LIC-LOCATION:America/Detroit
BEGIN:DAYLIGHT
TZOFFSETFROM:-0500
TZOFFSETTO:-0400
TZNAME:EDT
DTSTART:20070311T020000
RRULE:FREQ=YEARLY;BYMONTH=3;BYDAY=2SU
END:DAYLIGHT
BEGIN:STANDARD
TZOFFSETFROM:-0400
TZOFFSETTO:-0500
TZNAME:EST
DTSTART:20071104T020000
RRULE:FREQ=YEARLY;BYMONTH=11;BYDAY=1SU
END:STANDARD
END:VTIMEZONE
BEGIN:VEVENT
DTSTAMP:20240930T135318
DTSTART;TZID=America/Detroit:20241023T190000
DTEND;TZID=America/Detroit:20241023T200000
SUMMARY:Presentation:Undergraduate Teacher Education Info Session
DESCRIPTION:During this information session\, our staff and a current student will provide an overview of what makes us a top ranked education program! The session will cover details about the application process\, academic program schedule\, courses\, funding\, and will conclude with time for questions.
UID:127137-21858546@events.umich.edu
URL:https://events.umich.edu/event/127137
CLASS:PUBLIC
STATUS:CONFIRMED
CATEGORIES:Transfer Students,Undergraduate,Undergraduate Students
LOCATION:Off Campus Location - https://umich.zoom.us/meeting/register/tJYqdO2grjIiHtJKiCGF9lVyLnn6k5wsk6Ye
CONTACT:
END:VEVENT
BEGIN:VEVENT
DTSTAMP:20240608T131926
DTSTART;TZID=America/Detroit:20241023T200000
SUMMARY:Performance:Both Sides Now: The Music and Lives of Joni Mitchell and Leonard Cohen
DESCRIPTION:With these words\, we are drawn into the world of Both Sides Now\, a theatrical concert that explores the music and lives of long-time friends and one-time lovers\, Joni Mitchell and Leonard Cohen. Created by\, and starring Robbie Schaefer and Danielle Wertz\, the cabaret-style performance travels decades alongside songs such as A Case of You\, Hallelujah\, Big Yellow Taxi\, Suzanne\, and many more. Both Sides Now is at once a piece of the 60’s and 70’s\, and of right now--offering us a story about the messiness of being human\, of lives persistently lived at the edge of growth\, and of finding the courage to turn toward one another\, again and again. \n\nhttps://robbieschaefer.com/\nhttp://www.daniellewertz.com/
UID:121699-21847120@events.umich.edu
URL:https://events.umich.edu/event/121699
CLASS:PUBLIC
STATUS:CONFIRMED
CATEGORIES:Ark,Concert,Music,Mutotix
LOCATION:Off Campus Location
CONTACT:
END:VEVENT
BEGIN:VEVENT
DTSTAMP:20241023T180002
DTSTART;TZID=America/Detroit:20241023T200000
DTEND;TZID=America/Detroit:20241023T213000
SUMMARY:Exercise / Fitness:Bujinkan Budo Training Session
DESCRIPTION:During the Fall 2024 semester\, Bujinkan Budo Club training will be held on Wednesdays from 20:00 - 21:30 (8-9:30pm) at the Intramural Sports Building (IMSB) in Room MPR B. If you are interested in trying out a class\, please send a message through Maize Pages or an email to michiganbujinkan@gmail.com. --For more information\, email us at michiganbujinkan@gmail.com or checkout our website\, which also includes a training schedule!
UID:123449-21850924@events.umich.edu
URL:https://events.umich.edu/event/123449
CLASS:PUBLIC
STATUS:CONFIRMED
CATEGORIES:
LOCATION:Intramural Sports Building
CONTACT:
END:VEVENT
END:VCALENDAR