BEGIN:VCALENDAR
VERSION:2.0
PRODID:-//UM//UM*Events//EN
CALSCALE:GREGORIAN
BEGIN:VTIMEZONE
TZID:America/Detroit
TZURL:http://tzurl.org/zoneinfo/America/Detroit
X-LIC-LOCATION:America/Detroit
BEGIN:DAYLIGHT
TZOFFSETFROM:-0500
TZOFFSETTO:-0400
TZNAME:EDT
DTSTART:20070311T020000
RRULE:FREQ=YEARLY;BYMONTH=3;BYDAY=2SU
END:DAYLIGHT
BEGIN:STANDARD
TZOFFSETFROM:-0400
TZOFFSETTO:-0500
TZNAME:EST
DTSTART:20071104T020000
RRULE:FREQ=YEARLY;BYMONTH=11;BYDAY=1SU
END:STANDARD
END:VTIMEZONE
BEGIN:VEVENT
DTSTAMP:20241029T111200
DTSTART;TZID=America/Detroit:20241114T190000
DTEND;TZID=America/Detroit:20241114T200000
SUMMARY:Presentation:Undergraduate Teacher Education Info Session
DESCRIPTION:Please join us in person to learn more about how Marsal Education can help you reach your education goals through our teacher certification program!
UID:127751-21859621@events.umich.edu
URL:https://events.umich.edu/event/127751
CLASS:PUBLIC
STATUS:CONFIRMED
CATEGORIES:Education,Prospective Undergraduate Students,Undergraduate,Undergraduate Students
LOCATION:Museum of Art - Multipurpose room
CONTACT:
END:VEVENT
BEGIN:VEVENT
DTSTAMP:20241010T121556
DTSTART;TZID=America/Detroit:20241114T190000
SUMMARY:Sporting Event:Women's Basketball vs Central Michigan
DESCRIPTION:Women's Basketball vs Central Michigan
UID:127455-21859140@events.umich.edu
URL:https://events.umich.edu/event/127455
CLASS:PUBLIC
STATUS:CONFIRMED
CATEGORIES:Athletics,Athletics - Women's Basketball
LOCATION:Crisler Arena
CONTACT:
END:VEVENT
BEGIN:VEVENT
DTSTAMP:20241114T061532
DTSTART;TZID=America/Detroit:20241114T190000
SUMMARY:Sporting Event:Women's Basketball vs Central Michigan
DESCRIPTION:Women's Basketball vs Central Michigan
UID:127686-21859486@events.umich.edu
URL:https://events.umich.edu/event/127686
CLASS:PUBLIC
STATUS:CONFIRMED
CATEGORIES:Athletics,Athletics - Women's Basketball
LOCATION:Crisler Arena
CONTACT:
END:VEVENT
END:VCALENDAR