BEGIN:VCALENDAR
VERSION:2.0
PRODID:-//UM//UM*Events//EN
CALSCALE:GREGORIAN
BEGIN:VTIMEZONE
TZID:America/Detroit
TZURL:http://tzurl.org/zoneinfo/America/Detroit
X-LIC-LOCATION:America/Detroit
BEGIN:DAYLIGHT
TZOFFSETFROM:-0500
TZOFFSETTO:-0400
TZNAME:EDT
DTSTART:20070311T020000
RRULE:FREQ=YEARLY;BYMONTH=3;BYDAY=2SU
END:DAYLIGHT
BEGIN:STANDARD
TZOFFSETFROM:-0400
TZOFFSETTO:-0500
TZNAME:EST
DTSTART:20071104T020000
RRULE:FREQ=YEARLY;BYMONTH=11;BYDAY=1SU
END:STANDARD
END:VTIMEZONE
BEGIN:VEVENT
DTSTAMP:20240417T082021
DTSTART;TZID=America/Detroit:20240417T090000
DTEND;TZID=America/Detroit:20240417T110000
SUMMARY:Workshop / Seminar:UMPDA Coffee Hour
DESCRIPTION:UMPDA will be hosting a coffee hour on April 17th from 9:00 to 11:00am in the East Conference Room (ackham).\nReady to take your research to the next level? Join Us for the National Science Foundation I-Corps Introduction at the UMPDA Coffee Hour!\nDear Postdoctoral Scholars\,\nThe UMPDA Coffee Hour will feature a special introduction to the NSF I-CORPS programs alongside our usual refreshments and conversation!National Science Foundation I-Corps programs empower innovators to understand the potential value of their research or ideas by teaching them how to view their research through the eyes of their customers. Nationally recognized instructors\, mentors\, and experienced entrepreneurs offer support throughout your innovation journey. Through iterative testing and validation\, participants discover their ideas’ potential. Whether or not you’re pursuing entrepreneurship\, these programs offer an invaluable professional development opportunity. \nDo you want to learn more?  Don't know if these programs are the right fit for your career journey?\nDani Koniczek from the Center for Entrepreneurship joins this month' Postdoc Coffee Hour to answer your questions and advice on next steps. Dani Koniczek will guide you through the I-Corps offerings and how they can fit into your career path. Whether you&#39\;re considering entrepreneurship or simply looking to develop a broader view of your research\, this coffee hour is for you. Don't miss out on this chance to elevate your professional development\, network with fellow researchers\, and enjoy this coffee hour courtesy of UMPDA.We look forward to seeing you there and embarking together on this journey of innovation and growth.\n\nWarm regards\,\nI-CORPS &amp\; UMPDA Community\nP.S. Bring your ideas and be ready for an engaging conversation!
UID:121183-21845960@events.umich.edu
URL:https://events.umich.edu/event/121183
CLASS:PUBLIC
STATUS:CONFIRMED
CATEGORIES:Sessions
LOCATION:East conference room, Rackham
CONTACT:
END:VEVENT
BEGIN:VEVENT
DTSTAMP:20240502T063110
DTSTART;TZID=America/Detroit:20240417T090000
DTEND;TZID=America/Detroit:20240417T100000
SUMMARY:Careers / Jobs:USDA Forest Service – Eligibilities & Qualifications Webinar
DESCRIPTION:The Forest Service is hosting webinars to help you through theapplication process. Join us and get answers to your questions.\n\nNote: You may be prompted to download the free Microsoft Teams application. All webinars will be available to watch on-demand after the date and time listed.\n\nEligibilities & Qualifications – Wednesday\, April 17\, 10am-11amMT\n\nVisit the Forest Service Jobs webpage\, fs.usda.gov/fsjobs\, to learn more about career opportunities\, benefits\, hiring events\, and resources to help with the application process.\n\nWe look forward to working with you.
UID:119627-21843085@events.umich.edu
URL:https://events.umich.edu/event/119627
CLASS:PUBLIC
STATUS:CONFIRMED
CATEGORIES:
LOCATION:
CONTACT:
END:VEVENT
BEGIN:VEVENT
DTSTAMP:20240122T134822
DTSTART;TZID=America/Detroit:20240417T090000
DTEND;TZID=America/Detroit:20240417T120000
SUMMARY:Social / Informal Gathering:Welcome Wednesday for Students (Free Breakfast)
DESCRIPTION:On most Wednesday mornings throughout the semester\, the Alumni Association hosts Welcome Wednesdays for U-M students. Located at the Alumni Center\, students can stop by from 9 a.m. to noon for free coffee\, tea\, hot chocolate\, and a breakfast snack. Just make sure you bring your Mcard!\n\n*Dates subject to change. \n\nFree refreshments are made possible by Alumni Association members and their membership dues.
UID:116698-21837815@events.umich.edu
URL:https://events.umich.edu/event/116698
CLASS:PUBLIC
STATUS:CONFIRMED
CATEGORIES:Student Affairs,Welcome To Michigan,Student Org,Alumni,Networking
LOCATION:Alumni Center
CONTACT:
END:VEVENT
END:VCALENDAR