BEGIN:VCALENDAR
VERSION:2.0
PRODID:-//UM//UM*Events//EN
CALSCALE:GREGORIAN
BEGIN:VTIMEZONE
TZID:America/Detroit
TZURL:http://tzurl.org/zoneinfo/America/Detroit
X-LIC-LOCATION:America/Detroit
BEGIN:DAYLIGHT
TZOFFSETFROM:-0500
TZOFFSETTO:-0400
TZNAME:EDT
DTSTART:20070311T020000
RRULE:FREQ=YEARLY;BYMONTH=3;BYDAY=2SU
END:DAYLIGHT
BEGIN:STANDARD
TZOFFSETFROM:-0400
TZOFFSETTO:-0500
TZNAME:EST
DTSTART:20071104T020000
RRULE:FREQ=YEARLY;BYMONTH=11;BYDAY=1SU
END:STANDARD
END:VTIMEZONE
BEGIN:VEVENT
DTSTAMP:20241106T125855
DTSTART;TZID=America/Detroit:20241023T200000
DTEND;TZID=America/Detroit:20241023T210000
SUMMARY:Well-being:Heartfulness Meditation At UMich Club Meeting
DESCRIPTION:What is Heartfulness Meditation?\n\nHeartfulness is about feeling. Our entire life is led by feelings and inspirations\, and that is the role of the heart. When we manage to listen to the heart and capture the inspiration that comes from within\, we learn to master our life. The whole exercise of fine-tuning the heart with the mind is through meditation on the heart\, and that is why it is called Heartfulness Meditation.\n\nJoin us for a step-by-step guided relaxation and meditation at our next club meeting.
UID:127710-21860178@events.umich.edu
URL:https://events.umich.edu/event/127710
CLASS:PUBLIC
STATUS:CONFIRMED
CATEGORIES:Yoga,Wellness,Well-being,Mental Health
LOCATION:Michigan Union - Tappan (2nd Floor)
CONTACT:
END:VEVENT
BEGIN:VEVENT
DTSTAMP:20241215T120008
DTSTART;TZID=America/Detroit:20241024T000000
DTEND;TZID=America/Detroit:20241024T235959
SUMMARY:Meeting:Check Out the P4P Public Calendar Here
DESCRIPTION:bit.ly/p4pumcalendar
UID:127131-21858482@events.umich.edu
URL:https://events.umich.edu/event/127131
CLASS:PUBLIC
STATUS:CONFIRMED
CATEGORIES:
LOCATION:Online
CONTACT:
END:VEVENT
BEGIN:VEVENT
DTSTAMP:20241009T211244
DTSTART;TZID=America/Detroit:20241024T070000
DTEND;TZID=America/Detroit:20241024T210000
SUMMARY:Workshop / Seminar:Noon at Night presents: Frequency of Grief
DESCRIPTION:Noon at Night presents Frequency of Grief\, an experimental dinner theatre that explores how we can process both personal and collective grief through sound\, food\, and community.\n\nDuring a three-hour performative workshop\, on-site participants will silently assemble pockets of food (dumplings\, pierogies\, empanadas\, etc.) while thirty virtual guests from around the world offer frequencies of grief (humming\, singing\, whistling\, reading a poem\, and sighing utterances) for two minutes each. The workshop will culminate in recording sounds of our communal grief in-person\, eating the pockets of grief\, and\, as participants feel compelled\, sharing their personal relationship to grief. \n\nJoin us on October 25\, 2024\, 5–8 pm at Canterbury House (721 E Huron St\, Ann Arbor\, MI 48104) or ONLINE with artists Fatemeh Afimoh Kazemi\, dawn weleski\, and participants looking to build a communal space for grief.\n\nSPOTS ARE LIMITED\; FILL OUT THE INTEREST FORM!\n\nThis event is in partnership with MDining\, with contributions from MDining chefs.
UID:127644-21859427@events.umich.edu
URL:https://events.umich.edu/event/127644
CLASS:PUBLIC
STATUS:CONFIRMED
CATEGORIES:Free,Workshop,Food,Art
LOCATION:
CONTACT:
END:VEVENT
END:VCALENDAR