BEGIN:VCALENDAR
VERSION:2.0
PRODID:-//UM//UM*Events//EN
CALSCALE:GREGORIAN
BEGIN:VTIMEZONE
TZID:America/Detroit
TZURL:http://tzurl.org/zoneinfo/America/Detroit
X-LIC-LOCATION:America/Detroit
BEGIN:DAYLIGHT
TZOFFSETFROM:-0500
TZOFFSETTO:-0400
TZNAME:EDT
DTSTART:20070311T020000
RRULE:FREQ=YEARLY;BYMONTH=3;BYDAY=2SU
END:DAYLIGHT
BEGIN:STANDARD
TZOFFSETFROM:-0400
TZOFFSETTO:-0500
TZNAME:EST
DTSTART:20071104T020000
RRULE:FREQ=YEARLY;BYMONTH=11;BYDAY=1SU
END:STANDARD
END:VTIMEZONE
BEGIN:VEVENT
DTSTAMP:20241112T121634
DTSTART;TZID=America/Detroit:20241114T191500
DTEND;TZID=America/Detroit:20241114T194500
SUMMARY:Lecture / Discussion:Pre-Concert Lecture: Arts Chorale
DESCRIPTION:DMA candidate Sydney Mukasa\, conductor of the Arts Chorale\, presents a pre-concert talk. This lecture begins at 7:15 pm before the 8:00 pm Arts Chorale performance.
UID:129046-21862082@events.umich.edu
URL:https://events.umich.edu/event/129046
CLASS:PUBLIC
STATUS:CONFIRMED
CATEGORIES:Concert,Free,Lecture,Music,North Campus,Talk
LOCATION:Walgreen Drama Center - Stamps Auditorium
CONTACT:
END:VEVENT
BEGIN:VEVENT
DTSTAMP:20241024T192131
DTSTART;TZID=America/Detroit:20241114T193000
DTEND;TZID=America/Detroit:20241114T213000
SUMMARY:Other:Chef Demo
DESCRIPTION:Join Spectrum Center and the Maize & Blue Cupboard for a virtual chef demo! You'll be able to cook the same meal alongside a chef (virtually)\, from your kitchen. Plus\, you'll be able to enjoy a nice meal and be in community while doing so. All core ingredients will be provided and you will be able to pick them up from the Maize and Blue Cupboard\, prior to the event. Further details about pick-up will be emailed to you.
UID:128307-21860634@events.umich.edu
URL:https://events.umich.edu/event/128307
CLASS:PUBLIC
STATUS:CONFIRMED
CATEGORIES:Diversity Equity and Inclusion,Food,LGBT
LOCATION:Off Campus Location
CONTACT:
END:VEVENT
BEGIN:VEVENT
DTSTAMP:20241106T121643
DTSTART;TZID=America/Detroit:20241114T193000
DTEND;TZID=America/Detroit:20241114T213000
SUMMARY:Performance:Hänsel und Gretel
DESCRIPTION:A fairy-tale opera with a folk-inspired score\, Hänsel und Gretel – by German composer Engelbert Humperdinck\, with a libretto by his sister\, Adelheid Wette – has been loved by audiences of all ages since its first performance in 1893. This production\, situated in the 1970s with echoes of classic TV shows The Brady Bunch and Bewitched\, emphasizes the darker undercurrents in the familiar tale of Hänsel and Gretel being sent into the forest by their frustrated mother. They gather berries and frolic in the woods\, soon realizing they are lost as darkness descends. In the morning\, Hänsel and Gretel spot an enticing house made of sugary cereal. As they nibble on the house\, a frightening witch appears from within and captures the children\, threatening to fatten Hansel up and use him to make confections. The clever children must keep their wits about them to avoid a fiery fate.\n\nComposed by Engelbert Humperdinck\; libretto by Adelheid Wette \nBased on the fairy tale by the Brothers Grimm\nConductor Kirk Severtson\nDirected by Gregory Keller\n
UID:122608-21849438@events.umich.edu
URL:https://events.umich.edu/event/122608
CLASS:PUBLIC
STATUS:CONFIRMED
CATEGORIES:Dance,Music,Storytelling,Theater
LOCATION:Power Center for the Performing Arts
CONTACT:
END:VEVENT
END:VCALENDAR