BEGIN:VCALENDAR
VERSION:2.0
PRODID:-//UM//UM*Events//EN
CALSCALE:GREGORIAN
BEGIN:VTIMEZONE
TZID:America/Detroit
TZURL:http://tzurl.org/zoneinfo/America/Detroit
X-LIC-LOCATION:America/Detroit
BEGIN:DAYLIGHT
TZOFFSETFROM:-0500
TZOFFSETTO:-0400
TZNAME:EDT
DTSTART:20070311T020000
RRULE:FREQ=YEARLY;BYMONTH=3;BYDAY=2SU
END:DAYLIGHT
BEGIN:STANDARD
TZOFFSETFROM:-0400
TZOFFSETTO:-0500
TZNAME:EST
DTSTART:20071104T020000
RRULE:FREQ=YEARLY;BYMONTH=11;BYDAY=1SU
END:STANDARD
END:VTIMEZONE
BEGIN:VEVENT
DTSTAMP:20231006T101645
DTSTART;TZID=America/Detroit:20240417T100000
DTEND;TZID=America/Detroit:20240417T120000
SUMMARY:Workshop / Seminar:Business Administration 101: Introduction to Financial Resources
DESCRIPTION:Course registration and details are available on the Organizational Learning website.
UID:113618-21831243@events.umich.edu
URL:https://events.umich.edu/event/113618
CLASS:PUBLIC
STATUS:CONFIRMED
CATEGORIES:Career,Leadership,Professional Development
LOCATION:Off Campus Location
CONTACT:
END:VEVENT
BEGIN:VEVENT
DTSTAMP:20240109T101115
DTSTART;TZID=America/Detroit:20240417T100000
DTEND;TZID=America/Detroit:20240417T120000
SUMMARY:Well-being:SAPAC Wellness Wednesdays
DESCRIPTION:Wellness Wednesdays at SAPAC is an open and informal offering for students to engage with community and optional self-care resources including journaling\, art\, discussion\, mindfulness and movement. You are welcome to drop-in for a few minutes or stay for the duration! \n\nA SAPAC team member will be present. This is not a support group or a clinical group setting\, but we are here to hold space\, and provide connections to supportive resources if you have questions! \n\n\nLocation: SAPAC Shared Space - Rm 4100 (4th Floor Michigan Union)\nTime: 10am-12pm and 2pm-4pm\nDates: January 17\, February 21\, March 20\, April 17
UID:116747-21837888@events.umich.edu
URL:https://events.umich.edu/event/116747
CLASS:PUBLIC
STATUS:CONFIRMED
CATEGORIES:free,sapac,Well-being
LOCATION:Michigan Union - SAPAC Office (4100)
CONTACT:
END:VEVENT
BEGIN:VEVENT
DTSTAMP:20240813T145945
DTSTART;TZID=America/Detroit:20240417T100000
DTEND;TZID=America/Detroit:20240417T123000
SUMMARY:Lecture / Discussion:Tanner Symposium
DESCRIPTION:The Tanner Symposiasts will include:\n- Don Herzog\, Edson R. Sunderland Professor of Law (UM Law)\n- Kyla Ebels-Duggan\, Associate Professor of Philosophy (Northwestern)\n- Anne Phillips\, Emeritus Professor of Political Theory (LSE)\n\nVideo Link: https://www.youtube.com/watch?v=sib64t0Cpqc
UID:111368-21826898@events.umich.edu
URL:https://events.umich.edu/event/111368
CLASS:PUBLIC
STATUS:CONFIRMED
CATEGORIES:Philosophy,Politics
LOCATION:Rackham Graduate School (Horace H.) - Rackham Amphitheatre
CONTACT:
END:VEVENT
END:VCALENDAR