BEGIN:VCALENDAR
VERSION:2.0
PRODID:-//UM//UM*Events//EN
CALSCALE:GREGORIAN
BEGIN:VTIMEZONE
TZID:America/Detroit
TZURL:http://tzurl.org/zoneinfo/America/Detroit
X-LIC-LOCATION:America/Detroit
BEGIN:DAYLIGHT
TZOFFSETFROM:-0500
TZOFFSETTO:-0400
TZNAME:EDT
DTSTART:20070311T020000
RRULE:FREQ=YEARLY;BYMONTH=3;BYDAY=2SU
END:DAYLIGHT
BEGIN:STANDARD
TZOFFSETFROM:-0400
TZOFFSETTO:-0500
TZNAME:EST
DTSTART:20071104T020000
RRULE:FREQ=YEARLY;BYMONTH=11;BYDAY=1SU
END:STANDARD
END:VTIMEZONE
BEGIN:VEVENT
DTSTAMP:20241108T063219
DTSTART;TZID=America/Detroit:20241024T080000
DTEND;TZID=America/Detroit:20241024T170000
SUMMARY:Careers / Jobs:Caterpillar at WE24
DESCRIPTION:Join Caterpillar for the world's largest conference for women in engineering and technology at WE24 in Chicago. Visit us at booth 601and speak to our industry professionals who are excited to connect with top-tier engineering students about a career at Caterpillar. 
UID:127782-21859684@events.umich.edu
URL:https://events.umich.edu/event/127782
CLASS:PUBLIC
STATUS:CONFIRMED
CATEGORIES:
LOCATION:Chicago, Illinois, United States
CONTACT:
END:VEVENT
BEGIN:VEVENT
DTSTAMP:20241024T072044
DTSTART;TZID=America/Detroit:20241024T080000
DTEND;TZID=America/Detroit:20241024T090000
SUMMARY:Workshop / Seminar:How to Submit a Travel & Expense Request to the SSC for Adult Hospitals
DESCRIPTION:This session will provide instructions (30 minutes) on how to submit a request to the Shared Services Center (SSC) for processing.  Following the presentation\, we welcome questions from the participants (30 minutes).
UID:126696-21857584@events.umich.edu
URL:https://events.umich.edu/event/126696
CLASS:PUBLIC
STATUS:CONFIRMED
CATEGORIES:Sessions
LOCATION:
CONTACT:
END:VEVENT
BEGIN:VEVENT
DTSTAMP:20241108T063211
DTSTART;TZID=America/Detroit:20241024T080000
DTEND;TZID=America/Detroit:20241024T180000
SUMMARY:Careers / Jobs:SWE Annual Conference and Career Fair 2024
DESCRIPTION:Ready to launch your engineering career? Join us at the SWE24Annual Conference and Career Fair!&nbsp\;As an undergraduate engineering student\, majoring in Chemical\, Mechanical\, or Metallurgical Engineering\, this is your golden opportunity to connect with our Dow recruiters.&nbsp\;Dow\, Inc. will be conducting interviews in-person at the SWE 24Annual Conference\, giving you the chance to showcase your skillsand land your dream job.&nbsp\;To be eligible for interview selection\, please:RVSP for this event here at: SWE Annual Conference and Career Fair 2024 - THEN-&nbsp\;Pre-Register here on Yello®: https://tinyurl.com/2d339cwsIf you are not planning to attend the conference in-person\, then please indicate that in your Pre-Registration and we will possibly consider you for a Virtual interview in the near future.Don’t miss out on this awesome experience with #TeamDow. This event is designed to empower the next generation of women engineers. Get ready to take your careerto the next level with Dow\, Inc.!
UID:127348-21858928@events.umich.edu
URL:https://events.umich.edu/event/127348
CLASS:PUBLIC
STATUS:CONFIRMED
CATEGORIES:
LOCATION:
CONTACT:
END:VEVENT
END:VCALENDAR