BEGIN:VCALENDAR
VERSION:2.0
PRODID:-//UM//UM*Events//EN
CALSCALE:GREGORIAN
BEGIN:VTIMEZONE
TZID:America/Detroit
TZURL:http://tzurl.org/zoneinfo/America/Detroit
X-LIC-LOCATION:America/Detroit
BEGIN:DAYLIGHT
TZOFFSETFROM:-0500
TZOFFSETTO:-0400
TZNAME:EDT
DTSTART:20070311T020000
RRULE:FREQ=YEARLY;BYMONTH=3;BYDAY=2SU
END:DAYLIGHT
BEGIN:STANDARD
TZOFFSETFROM:-0400
TZOFFSETTO:-0500
TZNAME:EST
DTSTART:20071104T020000
RRULE:FREQ=YEARLY;BYMONTH=11;BYDAY=1SU
END:STANDARD
END:VTIMEZONE
BEGIN:VEVENT
DTSTAMP:20241111T181655
DTSTART;TZID=America/Detroit:20241114T193000
DTEND;TZID=America/Detroit:20241114T210000
SUMMARY:Performance:Violin Studio Recital
DESCRIPTION:Violin students of Professor Fabiola Kim perform a recital.
UID:127529-21859271@events.umich.edu
URL:https://events.umich.edu/event/127529
CLASS:PUBLIC
STATUS:CONFIRMED
CATEGORIES:Free,Music,North Campus
LOCATION:Earl V. Moore Building - Britton Recital Hall
CONTACT:
END:VEVENT
BEGIN:VEVENT
DTSTAMP:20240626T202116
DTSTART;TZID=America/Detroit:20241114T200000
SUMMARY:Performance:Adam Ezra Group
DESCRIPTION:Spontaneous roots-based music that makes a connection\n\nWelcome to Adam Ezra Group\, who\, along with nonprofit organization RallySound\, host a free festival every summer that raised $143\,000 for homeless veterans in 2023. During the pandemic\, Adam live-streamed for 500 nights in a row. The group co-produced an album with 163 fans\, and Adam takes a month out of each year to visit the living rooms of his fans around the country.\n\nIf you haven’t connected with Adam Ezra Group yet\, these are just a few examples to help understand how this underground\, Americana songwriter and his bandmates seem to have popped out of nowhere\, establishing a connection with their fans unlike any other\, and are suddenly selling out theaters throughout the Northeast.  \nAdam Ezra will joke with you that while the “nowhere” part might be accurate\, nothing has ever just “popped” for this folk musician\, activist.  Without resources\, connections\, or any kind of clue how the music world works\, Ezra began playing shows over 20 years ago. He played bars\, bookstores\, fields\, and parking lots\, often raising money for causes he cared about\; a practice that grew into his nonprofit organization RallySound.  \n\nSo how did this band operating so far outside the traditional music world come to win New England Music Award’s “Americana Act of the Year” in 2023? What could have happened to inspire John Oates to call Adam and invite him to begin a songwriting friendship that would lead to John producing their upcoming release and co-write\, “Hold Each Other Now”?  What happened to catch the attention of The Wallflowers\, who recently invited AEG to join them on their spring tour\, or SPIN Magazine who recently proclaimed\, “This Independent Underground Folk Band Is Blowing Up Without Selling Out”? \n\nIf you ask Adam\, he’ll tell you: “One person at a time\, over many years and thousands of shows\, decided to turn their heads to listen…  It’s no fairytale\, but it sure makes me proud and humbled when I look out from the stage to watch theaters full of people singing along to our music.”\n\nThese days you’ll find Adam and his bandmates\, Corinna Smith (Fiddle)\, Poche Ponce (Bass)\, and Alex Martin (Percussion)\, constantly out on the road. If you look at their tour schedule now\, you can buy tickets to see them at festivals\, rock venues\, and theaters around the country\, but you will also see their tour continuously peppered with activism and grassroots events\; a testament to an artist who will never forget where he came from\, and whose mission is about much more than music.\n\nhttps://www.adamezra.com/\n\nPlease visit https://mutotix.umich.edu/5059/5060 for more detail.
UID:123032-21849982@events.umich.edu
URL:https://events.umich.edu/event/123032
CLASS:PUBLIC
STATUS:CONFIRMED
CATEGORIES:Ark,Mutotix
LOCATION:ARK Reserved
CONTACT:
END:VEVENT
BEGIN:VEVENT
DTSTAMP:20241111T121635
DTSTART;TZID=America/Detroit:20241114T200000
DTEND;TZID=America/Detroit:20241114T213000
SUMMARY:Performance:Arts Chorale
DESCRIPTION:PROGRAM\n\nSydney Guillaume\, *Karnaval*\nFlorence Price\, *Poem of Praise*\nStephen Paulus\, *Pilgrim's Hymn*\nEleanor Daley\, *Upon your Heart*\nRosephanye Powell\, *The Word was God*\nWilliam Dawson\, *Soon ah Will be Done*\nAaron Copland\, *Zion's Walls*\nStephen Chatman\, *Remember*\narr. Arnold Sevier\, *Precious Lord*\nHealey Willan\, *Rise Up my Love my Fair One*\nDaniel Pinkham\, *Wedding Cantata*\nAaron Copland\, *The Promise of Living*\n\nThe Arts Chorale is the official choir of the College of Literature\, Science\, and the Arts. It provides a fun and enriching environment for students who enjoy singing. A mixed choir that is open to any U-M student\, the Arts Chorale is a musical and social group that has existed at the University for over 60 years. Although affiliated with SMTD\, most members are not music majors.
UID:122626-21849459@events.umich.edu
URL:https://events.umich.edu/event/122626
CLASS:PUBLIC
STATUS:CONFIRMED
CATEGORIES:Concert,Free,Music,North Campus
LOCATION:Walgreen Drama Center - Stamps Auditorium
CONTACT:
END:VEVENT
END:VCALENDAR