BEGIN:VCALENDAR
VERSION:2.0
PRODID:-//UM//UM*Events//EN
CALSCALE:GREGORIAN
BEGIN:VTIMEZONE
TZID:America/Detroit
TZURL:http://tzurl.org/zoneinfo/America/Detroit
X-LIC-LOCATION:America/Detroit
BEGIN:DAYLIGHT
TZOFFSETFROM:-0500
TZOFFSETTO:-0400
TZNAME:EDT
DTSTART:20070311T020000
RRULE:FREQ=YEARLY;BYMONTH=3;BYDAY=2SU
END:DAYLIGHT
BEGIN:STANDARD
TZOFFSETFROM:-0400
TZOFFSETTO:-0500
TZNAME:EST
DTSTART:20071104T020000
RRULE:FREQ=YEARLY;BYMONTH=11;BYDAY=1SU
END:STANDARD
END:VTIMEZONE
BEGIN:VEVENT
DTSTAMP:20240610T181615
DTSTART;TZID=America/Detroit:20241114T200000
DTEND;TZID=America/Detroit:20241114T220000
SUMMARY:Performance:Creative Arts Orchestra
DESCRIPTION:This is a unique\, largely improvisation-based group that invites interaction with other performance fields such as dance\, theatre\, and music technology.\n\nMarcus Elliot\, director
UID:122609-21849439@events.umich.edu
URL:https://events.umich.edu/event/122609
CLASS:PUBLIC
STATUS:CONFIRMED
CATEGORIES:Concert,Free,Interdisciplinary,Music,North Campus
LOCATION:Earl V. Moore Building - Hankinson Rehearsal Hall
CONTACT:
END:VEVENT
BEGIN:VEVENT
DTSTAMP:20241112T134245
DTSTART;TZID=America/Detroit:20241114T200000
DTEND;TZID=America/Detroit:20241114T230000
SUMMARY:Social / Informal Gathering:Driving into UMix
DESCRIPTION:Get ready for an evening packed with hands-on fun and good vibes! Join us for an exciting UMix featuring personalized license plates\, Lego car building\, free food from Great Greek\, crafts\, Mario Kart\, and the Cars movie to top it all off. This is the perfect chance for everyone to connect\, unwind\, and get creative. Come for the fun\, stay for the memories—see you there!
UID:128483-21860967@events.umich.edu
URL:https://events.umich.edu/event/128483
CLASS:PUBLIC
STATUS:CONFIRMED
CATEGORIES:CCI,center for campus involvement,north campus,pierpont commons,umix,umix late night
LOCATION:Pierpont Commons
CONTACT:
END:VEVENT
BEGIN:VEVENT
DTSTAMP:20241129T183122
DTSTART;TZID=America/Detroit:20241114T203000
DTEND;TZID=America/Detroit:20241114T213000
SUMMARY:Careers / Jobs:PwC China Sourcing Initiative (CSI) Information Session - Hong Kong
DESCRIPTION:This CSI information session will focus only on PwCHong Kong based positions.This info session will invite professionals and partners from the following service lines of PwC Hong Kong:Core AssuranceRisk AssuranceTaxConsultingThe PwC Hong Kong professionals and partners will share business insights\, their career development experiences and help you prepare for interviews and future careers with their teams and PwC Hong Kong.We have many positions available across the line of services in assurance\, tax\, and consulting in our Hong Kong office. Positions are forfull time Associate roles with a start date in fall/late of 2025.&nbsp\;​Application Eligibility:Bachelor and Master students who graduate from universities in the United States or Canada between August 2023 and August 2025 are eligible to apply. ​Mandarin or Cantonese language skills as well as English are required.PwC will provide Hong Kong working visa sponsorship for selected associates.&nbsp\;​We welcome STEM major students who are interested in getting professional training and professional service experiences in Hong Kong to join our program.&nbsp\;​Please join the CSI Virtual Information Session - Hong Kong on November 14\, 2024 from 8:30 pm - 9:30 pm US Eastern Time to learn more about the opportunities in PwC Hong Kong.&nbsp\;For all current CSI openings\, please visit: https://app.mokahr.com/campus-recruitment/pwc/148260#/page/CSI
UID:128502-21861024@events.umich.edu
URL:https://events.umich.edu/event/128502
CLASS:PUBLIC
STATUS:CONFIRMED
CATEGORIES:
LOCATION:
CONTACT:
END:VEVENT
END:VCALENDAR