BEGIN:VCALENDAR
VERSION:2.0
PRODID:-//UM//UM*Events//EN
CALSCALE:GREGORIAN
BEGIN:VTIMEZONE
TZID:America/Detroit
TZURL:http://tzurl.org/zoneinfo/America/Detroit
X-LIC-LOCATION:America/Detroit
BEGIN:DAYLIGHT
TZOFFSETFROM:-0500
TZOFFSETTO:-0400
TZNAME:EDT
DTSTART:20070311T020000
RRULE:FREQ=YEARLY;BYMONTH=3;BYDAY=2SU
END:DAYLIGHT
BEGIN:STANDARD
TZOFFSETFROM:-0400
TZOFFSETTO:-0500
TZNAME:EST
DTSTART:20071104T020000
RRULE:FREQ=YEARLY;BYMONTH=11;BYDAY=1SU
END:STANDARD
END:VTIMEZONE
BEGIN:VEVENT
DTSTAMP:20240130T121548
DTSTART;TZID=America/Detroit:20240417T110000
DTEND;TZID=America/Detroit:20240417T170000
SUMMARY:Exhibition:Andrea Carlson Future Cache
DESCRIPTION:In Andrea Carlson Future Cache\, a 40-foot-tall memorial wall towers over visitors\, commemorating the Cheboiganing (Burt Lake) Band of Ottawa and Chippewa Indians who were violently burned from their land in Northern Michigan on October 15\, 1900. Written across the walls above and around the memorial\, a statement proclaims Anishinaabe rights to the land we stand on: “You are on Anishinaabe Land.”  \n \nPresented alongside are paintings of imagined decolonized landscapes and a symbolic cache of provisions. Future Cache implicitly asks those who have benefited from the legacies of colonization to consider where they stand and where to go from here and seeks to foster a sense of belonging for displaced Indigenous peoples fighting for restitution.\n\nSpecial thanks to the Cheboiganing (Burt Lake) Band of Ottawa and Chippewa Indians\, Margaret Noodin\, and Richard A. Wiles\, for their consultation on the State Historical Marker text\; to Margaret Noodin and Michael Zimmerman\, Jr. for translating the gallery texts into Anishinaabemowin\; to James Horton and Fritz Swanson for generously producing the letterpress broadsides\; to colleagues at the U-M Biological Station\, U-M Museum of Anthropological Archaeology\, U-M Clements Library\, and U-M Clark Map Library. For more information on the Cheboiganing (Burt Lake) Band of Ottawa and Chippewa Indians visit BurtLakeBand.org. \n\nLead support for Future Cache is provided by Lizzie and Jonathan Tisch\, Erica Gervais Pappendick and Ted Pappendick\, and the U-M Office of the Provost.\n 
UID:95387-21789332@events.umich.edu
URL:https://events.umich.edu/event/95387
CLASS:PUBLIC
STATUS:CONFIRMED
CATEGORIES:Art,UMMA,Museum,Exhibition
LOCATION:Museum of Art - Vertical Gallery
CONTACT:
END:VEVENT
BEGIN:VEVENT
DTSTAMP:20240130T121549
DTSTART;TZID=America/Detroit:20240417T110000
DTEND;TZID=America/Detroit:20240417T170000
SUMMARY:Exhibition:Angkor Complex: ​Cultural Heritage and Post-Genocide Memory in Cambodia.
DESCRIPTION:Care in Uncertain Times\n \nAs crises of public health\, economic instability\, authoritarian regimes\, racial injustice\, and climate change spread around the globe\, millions are experiencing distress\, conflict\, uncertainty\, and vulnerability. This troubling combination of experiences is nothing new for Cambodians. Between 1975-1979\, when the Khmer Rouge ruled Cambodia\, about a quarter of the country’s populations died of infectious diseases\, weapon wounds\, and malnutrition.\n \nThis exhibition brings together more than 80 works of art spanning a millennium to present how the visual culture of Cambodia and its diaspora has evolved in the face of cultural upheaval. Showcasing works from worldwide collections\, including those from some of the foremost members of the Cambodian contemporary art scene\, Angkor Complex allows viewers to encounter the still-fresh scars of a genocide and critically appreciate the strategies evolved to nurture resilience in trying times.\n\nLead support for this exhibition is provided by the U-M Office of the Provost\, U-M Office of the President\, National Endowment for the Arts\, Michigan Arts and Culture Council\, Eleanor Noyes Crumpacker Endowment Fund\, and U-M Ross School of Business.\n 
UID:114750-21833479@events.umich.edu
URL:https://events.umich.edu/event/114750
CLASS:PUBLIC
STATUS:CONFIRMED
CATEGORIES:Exhibition,Culture,Art,UMMA,Museum,Public Health
LOCATION:Museum of Art - A. Alfred Taubman Gallery I
CONTACT:
END:VEVENT
BEGIN:VEVENT
DTSTAMP:20240130T121547
DTSTART;TZID=America/Detroit:20240417T110000
DTEND;TZID=America/Detroit:20240417T170000
SUMMARY:Exhibition:Curriculum / Collection
DESCRIPTION:In Curriculum / Collection\, an incredible variety of University of Michigan courses take material form. Collected for each course are objects that address the nature of materiality\, time\, and human interaction in relation to our environments\, our wars\, our relationships\, and our eccentricities. \n \nWorking in collaboration with University faculty\, the works in this exhibition were selected for their capacity to provoke engagement with the guiding questions and themes of their specific courses\, while also offering students inspiration for research and art projects in their areas of study. The exhibition demonstrates some of the diverse and creative ways art plays a central role in learning across the disciplines. It also asks us to consider what we can learn from art objects across an infinite variety of specialties and subject matter.\n \nAs classes begin in Fall of 2021\, you’ll be able to use these pages to explore the collections designed for each course\, dive into the works themselves\, and hear from the professors and students about how they are engaging with art and objects in new ways. Who knows\, maybe you’ll learn something surprising along the way\, too.\n\nLead support for this exhibition is provided by the University of Michigan Office of the Provost\, Erica Gervais Pappendick and Ted Pappendick\, and the Eleanor Noyes Crumpacker Endowment Fund\, and the Oakriver Foundation.\n 
UID:86001-21795864@events.umich.edu
URL:https://events.umich.edu/event/86001
CLASS:PUBLIC
STATUS:CONFIRMED
CATEGORIES:Exhibition,UMMA,Faculty,Art,Nature,Museum,Research
LOCATION:Museum of Art - Eleanor Noyes Crumpacker Gallery
CONTACT:
END:VEVENT
END:VCALENDAR