BEGIN:VCALENDAR
VERSION:2.0
PRODID:-//UM//UM*Events//EN
CALSCALE:GREGORIAN
BEGIN:VTIMEZONE
TZID:America/Detroit
TZURL:http://tzurl.org/zoneinfo/America/Detroit
X-LIC-LOCATION:America/Detroit
BEGIN:DAYLIGHT
TZOFFSETFROM:-0500
TZOFFSETTO:-0400
TZNAME:EDT
DTSTART:20070311T020000
RRULE:FREQ=YEARLY;BYMONTH=3;BYDAY=2SU
END:DAYLIGHT
BEGIN:STANDARD
TZOFFSETFROM:-0400
TZOFFSETTO:-0500
TZNAME:EST
DTSTART:20071104T020000
RRULE:FREQ=YEARLY;BYMONTH=11;BYDAY=1SU
END:STANDARD
END:VTIMEZONE
BEGIN:VEVENT
DTSTAMP:20241023T143517
DTSTART;TZID=America/Detroit:20241024T090000
DTEND;TZID=America/Detroit:20241024T180000
SUMMARY:Conference / Symposium:42nd Thomas Francis Jr. Memorial Lecture
DESCRIPTION:Celebrating 25th Anniversary of the Center for Social Epidemiology and Population Health (CSEPH).\n\n9AM Poster Session\n11:30AM Alumni Panel\n3:30PM Keynote Lecture\n\nKeynote: Twenty-five years of research on the social and environmental determinants of health\nThis lecture will review examples of epidemiologic research into the multifaceted ways in which social and environmental contexts impact health and health inequities. Using examples from work on neighborhoods and health\, stress and health\,  the interactions of social and genetic factors\, and the impacts of urban environments on health and health inequities\, the talk will highlight  aspects related to the formulation of research questions\, the challenges of analysis and interpretation\, and the implications of this work for public health and social action more broadly.
UID:126516-21857234@events.umich.edu
URL:https://events.umich.edu/event/126516
CLASS:PUBLIC
STATUS:CONFIRMED
CATEGORIES:Alumni,AEM Featured,Talk,Sociology,Research,Poverty,Lecture,In Person,Free,Food,Epidemiology
LOCATION:Public Health I (Vaughan Building) - 1680, 3755 and 1690
CONTACT:
END:VEVENT
BEGIN:VEVENT
DTSTAMP:20240917T155505
DTSTART;TZID=America/Detroit:20241024T090000
DTEND;TZID=America/Detroit:20241024T103000
SUMMARY:Livestream / Virtual:DEI 2.0 Year One Progress Report Information Session (Virtual)
DESCRIPTION:The Office of Diversity\, Equity and Inclusion invites you to a dynamic and thought-provoking session on our first year of progress on the university's DEI 2.0 Plan. We will explore the strategies and initiatives in our initial year of implementation and discuss progress on the university's campuswide action items and highlight some of our significant unit-level achievements. \n\nParticipants will be able to view this year's presentation by CDO Tabbye Chavous by visiting our website at https://diversity.umich.edu where the event will be streamed live. Community members are encouraged to read the Year One Progress Report that will be released on October 15th.\n\nThe goals and major campuswide actions that will be highlighted are a reflection of the dedication and commitment exhibited by our community to become a more diverse\, equitable\, and inclusive institution. These goals are an outcome of feedback from students\, faculty\, and staff collected during outreach events which were analyzed and synthesized to identify key themes and priorities that define our approach.
UID:126583-21857371@events.umich.edu
URL:https://events.umich.edu/event/126583
CLASS:PUBLIC
STATUS:CONFIRMED
CATEGORIES:Identity,Diversity Strategic Plan,American Culture,Diversity Equity and Inclusion,Diversity,Community,Civic Engagement,accessibility
LOCATION:Off Campus Location
CONTACT:
END:VEVENT
BEGIN:VEVENT
DTSTAMP:20241007T152309
DTSTART;TZID=America/Detroit:20241024T090000
DTEND;TZID=America/Detroit:20241024T160000
SUMMARY:Other:ELO | Theme Year Case Study Competition
DESCRIPTION:Join us for a case study competition!  \n\nWhat is a Case Study? \nA case competition is an academic competition where self-selected\, interdisciplinary teams receive a case study for a limited period of time. During this period\, the teams utilize their teamwork\, critical thinking\, analyzing\, and organizational skills to deduce a recommendation that they support in a presentation in front of judges or company sponsors. The teams must hone in on the most prominent issues related to the identified challenge and\, using a variety of resources\, develop a strategy to address these key issues in order to help companies achieve their goals.\n\nRegister and attend the Information Sessions to participate! Register for those sessions here: https://umsi.info/elo-register\n\nThe top case study teams will receive $2\,500 and $1\,000.
UID:127496-21859220@events.umich.edu
URL:https://events.umich.edu/event/127496
CLASS:PUBLIC
STATUS:CONFIRMED
CATEGORIES:Engaged Learning Office,Future Of Work
LOCATION:Off Campus Location
CONTACT:
END:VEVENT
END:VCALENDAR