BEGIN:VCALENDAR
VERSION:2.0
PRODID:-//UM//UM*Events//EN
CALSCALE:GREGORIAN
BEGIN:VTIMEZONE
TZID:America/Detroit
TZURL:http://tzurl.org/zoneinfo/America/Detroit
X-LIC-LOCATION:America/Detroit
BEGIN:DAYLIGHT
TZOFFSETFROM:-0500
TZOFFSETTO:-0400
TZNAME:EDT
DTSTART:20070311T020000
RRULE:FREQ=YEARLY;BYMONTH=3;BYDAY=2SU
END:DAYLIGHT
BEGIN:STANDARD
TZOFFSETFROM:-0400
TZOFFSETTO:-0500
TZNAME:EST
DTSTART:20071104T020000
RRULE:FREQ=YEARLY;BYMONTH=11;BYDAY=1SU
END:STANDARD
END:VTIMEZONE
BEGIN:VEVENT
DTSTAMP:20240416T131645
DTSTART;TZID=America/Detroit:20240417T110000
DTEND;TZID=America/Detroit:20240417T130000
SUMMARY:Social / Informal Gathering:Decorating Pots and Planting Succulents with GradSWE
DESCRIPTION:As the world outside bursts forth with vibrant greens and blossoms\, let’s welcome the spirit of spring into our homes! Succulents\, with their effortless charm and resilience\, offer a perfect touch of nature’s beauty. Join us in a delightful activity of painting terracotta pots and planting these lovely succulents\, adding a touch of freshness and vitality to our living spaces!\n\nRSVP is required: https://sessions.studentlife.umich.edu/track/event/session/78279
UID:121511-21846641@events.umich.edu
URL:https://events.umich.edu/event/121511
CLASS:PUBLIC
STATUS:CONFIRMED
CATEGORIES:Engineering,Free,Michigan Engineering,Student Org
LOCATION:Electrical Engineering and Computer Science Building - Atrium
CONTACT:
END:VEVENT
BEGIN:VEVENT
DTSTAMP:20241211T161203
DTSTART;TZID=America/Detroit:20240417T110000
DTEND;TZID=America/Detroit:20240417T120000
SUMMARY:Livestream / Virtual:Newnan Info Session for LSA + School of Information Multiple Dependent Degree Program (MDDP)
DESCRIPTION:Want to learn more about earning a dual undergraduate degree between LSA and the School of Information (SI)? This session is for you\, whether you are currently an SI student or a Newnan-advised LSA student.\n\nStudents interested in exploring or declaring a dual degree between LSA and SI should attend one of these group info sessions to get started. This session will also cover instructions on how to schedule an advising appointment for more individualized support.\n\nPlease note: students arriving more than 5 minutes after the session start time will not be admitted.
UID:98429-21839091@events.umich.edu
URL:https://events.umich.edu/event/98429
CLASS:PUBLIC
STATUS:CONFIRMED
CATEGORIES:Advising,Information and Technology,Newnan
LOCATION:Off Campus Location
CONTACT:
END:VEVENT
BEGIN:VEVENT
DTSTAMP:20240416T113649
DTSTART;TZID=America/Detroit:20240417T110000
DTEND;TZID=America/Detroit:20240417T120000
SUMMARY:Presentation:Singularities of GL-varieties
DESCRIPTION:Loosely speaking\, GL-varieties are affine schemes whose coordinate rings are polynomial representations. Their closed points can be obtained as the inverse limits of Vec-varieties\, functors from the category of finite dimensional vector spaces to reduced affine varieties.\n\nIn a previous talk\, we saw that the inverse limit of the singular loci of a Vec-variety defines a closed Vec-subvariety of “singular points”. In a forthcoming paper with Andrew Snowden\, we show that the GL-variety arising from these \"singular points\" is the locus of singular points\, in the classical sense\, of the initial GL-variety.\n\nIn this talk\, I will present the necessary background and the aforementioned result.
UID:121505-21846633@events.umich.edu
URL:https://events.umich.edu/event/121505
CLASS:PUBLIC
STATUS:CONFIRMED
CATEGORIES:Mathematics,seminar
LOCATION:
CONTACT:
END:VEVENT
END:VCALENDAR