BEGIN:VCALENDAR
VERSION:2.0
PRODID:-//UM//UM*Events//EN
CALSCALE:GREGORIAN
BEGIN:VTIMEZONE
TZID:America/Detroit
TZURL:http://tzurl.org/zoneinfo/America/Detroit
X-LIC-LOCATION:America/Detroit
BEGIN:DAYLIGHT
TZOFFSETFROM:-0500
TZOFFSETTO:-0400
TZNAME:EDT
DTSTART:20070311T020000
RRULE:FREQ=YEARLY;BYMONTH=3;BYDAY=2SU
END:DAYLIGHT
BEGIN:STANDARD
TZOFFSETFROM:-0400
TZOFFSETTO:-0500
TZNAME:EST
DTSTART:20071104T020000
RRULE:FREQ=YEARLY;BYMONTH=11;BYDAY=1SU
END:STANDARD
END:VTIMEZONE
BEGIN:VEVENT
DTSTAMP:20240417T102021
DTSTART;TZID=America/Detroit:20240417T110000
DTEND;TZID=America/Detroit:20240417T120000
SUMMARY:Workshop / Seminar:Student Life Professional Development: Winter 2024
DESCRIPTION:Join SLPD for sessions aimed at enhancing and developing your Marketing and Communication plan\, learning about different aspects of wellbeing\, and developing leadership skills. Attendees can participate in an array of sessions. These sessions are open to Student Life staff and our academic colleagues\, and serve to support Student Life's 3 Year Strategic Plan.Sessions are free unless staff register and fail to attend\, or \"no-show\" to a session\, then a $25 charge will be applied. At least 24 hour notice is needed to avoid your Unit being charged. You will be asked to provide a Unit shortcode when you complete registration.
UID:118655-21844105@events.umich.edu
URL:https://events.umich.edu/event/118655
CLASS:PUBLIC
STATUS:CONFIRMED
CATEGORIES:Sessions
LOCATION:Michigan Union, Pond Room
CONTACT:
END:VEVENT
BEGIN:VEVENT
DTSTAMP:20240502T063127
DTSTART;TZID=America/Detroit:20240417T110000
DTEND;TZID=America/Detroit:20240417T170000
SUMMARY:Careers / Jobs:U.S. Border Patrol Virtual Career Expo
DESCRIPTION:A career with U.S. Border Patrol (USBP) is unlike any other. Every day\, we safeguard the nation and its people from harmful individualsand substances like fentanyl\, while enhancing our economic prosperity and providing humanitarian aid. United by uniform\, our shared mission is toprotect that which we hold dear\, the safety and prosperity of our families and communities.
UID:121192-21845969@events.umich.edu
URL:https://events.umich.edu/event/121192
CLASS:PUBLIC
STATUS:CONFIRMED
CATEGORIES:
LOCATION:
CONTACT:
END:VEVENT
BEGIN:VEVENT
DTSTAMP:20240130T121551
DTSTART;TZID=America/Detroit:20240417T110000
DTEND;TZID=America/Detroit:20240417T170000
SUMMARY:Exhibition:Unsettling Histories: Legacies of Slavery and Colonialism
DESCRIPTION:Organized as a response to the Museum’s recent acquisition of Titus Kaphar’s Flay (James Madison)\, this upcoming reinstallation of one of our most prominent gallery spaces forces us to grapple with our collection of European and American art\, 1650-1850.\n \nIn recent times\, growing public awareness of the continued reverberations of the legacy of slavery and colonization has challenged museums to examine the uncomfortable histories contained in our collections\, and challenged the public to probe the choices we make about those stories. Choices about which artists you see in our galleries\, choices about what relevant facts we share about the works\, and choices about what - out of an infinite number of options - we don’t say about them.\n \nPieces in this exhibition were made at a time when the world came to be shaped by the ideologies of colonial expansion and Western domination. And yet\, that history and the stories of those marginalized do not readily appear in the still lives and portraits on display here. By grappling with what is visible and what remains hidden\, we are forced to examine whose stories and histories are prioritized and why.  \n \nIn this online exhibition\, you can explore our efforts to deeply question the Museum’s collection and our own past complicity in favoring colonial voices. In the Museum gallery\, which will open in early 2021\, you’ll be able to experience the changes we’re making to the physical space to highlight a more honest version of European and American history. \n \nBy challenging our own practice\, and continuing to add to what we know and what we write about the works we display\, UMMA tells a more complex and more complete story of this nation - one that unsettles\, and fails to settle for\, simple narratives. \n \n“Invisible things are not necessarily ‘not there’.... Certain absences are so stressed\, so ornate\, so planned\, they call attention to themselves\; arrest us with intentionality and purpose\, like neighborhoods that are defined by the population held away from them.” \n \n— Toni Morrison\n\nLead support for Unsettling Histories: Legacies of Slavery and Colonialism is provided by the University of Michigan Office of the Provost\, the U-M Arts Initiative\, and the Susan and Richard Gutow Endowed Fund.\n 
UID:84303-21621262@events.umich.edu
URL:https://events.umich.edu/event/84303
CLASS:PUBLIC
STATUS:CONFIRMED
CATEGORIES:History,UMMA,Museum,Art,Exhibition,European
LOCATION:Museum of Art - European and American Decorative Art
CONTACT:
END:VEVENT
END:VCALENDAR