BEGIN:VCALENDAR
VERSION:2.0
PRODID:-//UM//UM*Events//EN
CALSCALE:GREGORIAN
BEGIN:VTIMEZONE
TZID:America/Detroit
TZURL:http://tzurl.org/zoneinfo/America/Detroit
X-LIC-LOCATION:America/Detroit
BEGIN:DAYLIGHT
TZOFFSETFROM:-0500
TZOFFSETTO:-0400
TZNAME:EDT
DTSTART:20070311T020000
RRULE:FREQ=YEARLY;BYMONTH=3;BYDAY=2SU
END:DAYLIGHT
BEGIN:STANDARD
TZOFFSETFROM:-0400
TZOFFSETTO:-0500
TZNAME:EST
DTSTART:20071104T020000
RRULE:FREQ=YEARLY;BYMONTH=11;BYDAY=1SU
END:STANDARD
END:VTIMEZONE
BEGIN:VEVENT
DTSTAMP:20241130T063106
DTSTART;TZID=America/Detroit:20241115T090000
DTEND;TZID=America/Detroit:20241115T143000
SUMMARY:Careers / Jobs:2024 Develop with Deutsche Bank
DESCRIPTION:At our Develop with Deutsche Bank event being held virtually on November 15th\, you’ll see that working at Deutsche Bank is about much more than banking. We work hard to foster an inclusive workplace that makes a real\, positive difference in the industry while shaping the next generation of global banking. Develop with Deutsche Bank will give you the opportunity to learn about our divisions\, discover our commitment to DEI\, connect with recruiters\, and receive valuable advice for succeeding in the recruitment process. Discover how you can drive change for the future of finance! This event is designed for sophomore students (December 2026 – May 2027) who are diverse (for example\, students who identify as women\, Black\, Hispanic/Latinx\, LGBTQI\, veterans\, people with disabilities\, and those who may be diverse in other ways) and/or students who can show a commitment to diversity.Click here to RSVPApplications are due October 24th at 11:59PM EDT.Applicants will be notified the last week of October via the email used to apply
UID:127237-21858684@events.umich.edu
URL:https://events.umich.edu/event/127237
CLASS:PUBLIC
STATUS:CONFIRMED
CATEGORIES:
LOCATION:
CONTACT:
END:VEVENT
BEGIN:VEVENT
DTSTAMP:20241130T063108
DTSTART;TZID=America/Detroit:20241115T090000
DTEND;TZID=America/Detroit:20241115T150000
SUMMARY:Careers / Jobs:Boston Career Forum 2024 (Citi Japan)
DESCRIPTION:Are you Japanese national and currently study abroad? Or you are Japanese-English bilingual professionals? Boston Career Forums is open for you if you’re interested to start your career in Citi Japan. Come and meet us in the forum to learn more about our 2025 summer internship and full-time opportunities. Welcome student studies oversea with a bachelor's degree or above and graduates from Mar 2025 to Sep 2025 for Full-time 2025\, and from October 2025 to September 2026 for Summer Internship 2025 or student from domestic university and currently in an exchange program (as of November 2024).Click here for more information and register TODAY to enjoy exclusive online sessions andopportunities with Citi. 
UID:127977-21859994@events.umich.edu
URL:https://events.umich.edu/event/127977
CLASS:PUBLIC
STATUS:CONFIRMED
CATEGORIES:
LOCATION:Boston, Massachusetts, United States
CONTACT:
END:VEVENT
BEGIN:VEVENT
DTSTAMP:20241030T143421
DTSTART;TZID=America/Detroit:20241115T090000
DTEND;TZID=America/Detroit:20241115T170000
SUMMARY:Exhibition:Hoshea Love: Photographs
DESCRIPTION:Hoshea Love is 85 years old. Born in San Francisco and raised in Southern California\, Love has traveled without bounds across the United States\, getting an education formally and spiritually. He holds degrees in fine art\, metaphysical science\, and biology (specializing in sustainable living) and is licensed in metaphysical science and traditional ministry.\n\nLove’s colorful\, abstract photographs are inspired by nature and the nature of things\, taking inventory of the immense beauty that surrounds us and guides us in our searching.\n\nLove’s work has been exhibited at the Ellen Kayrod Gallery\, Detroit\, and the U-M Museum of Art. He is a former artist-in-residence at The Heidelberg Project in Detroit.
UID:125047-21854259@events.umich.edu
URL:https://events.umich.edu/event/125047
CLASS:PUBLIC
STATUS:CONFIRMED
CATEGORIES:Art,Humanities
LOCATION:Thayer Academic Building - Osterman Common Room #1022
CONTACT:
END:VEVENT
END:VCALENDAR