BEGIN:VCALENDAR
VERSION:2.0
PRODID:-//UM//UM*Events//EN
CALSCALE:GREGORIAN
BEGIN:VTIMEZONE
TZID:America/Detroit
TZURL:http://tzurl.org/zoneinfo/America/Detroit
X-LIC-LOCATION:America/Detroit
BEGIN:DAYLIGHT
TZOFFSETFROM:-0500
TZOFFSETTO:-0400
TZNAME:EDT
DTSTART:20070311T020000
RRULE:FREQ=YEARLY;BYMONTH=3;BYDAY=2SU
END:DAYLIGHT
BEGIN:STANDARD
TZOFFSETFROM:-0400
TZOFFSETTO:-0500
TZNAME:EST
DTSTART:20071104T020000
RRULE:FREQ=YEARLY;BYMONTH=11;BYDAY=1SU
END:STANDARD
END:VTIMEZONE
BEGIN:VEVENT
DTSTAMP:20240502T123132
DTSTART;TZID=America/Detroit:20240417T120000
DTEND;TZID=America/Detroit:20240417T123000
SUMMARY:Careers / Jobs:2024 Student Leadership Program Info Session (Indianapolis)
DESCRIPTION:The CapinCrouse Student Leadership Program is for all classifications pursuing an accounting degree and interested in a career in publicaccounting. During this exclusive one-day in person event on Friday\, June 7\, 2024\, selected applicants will join us at the CapinCrouse office inIndianapolis\, Indiana. Note: This is not a job.\n\nApplication Link: Please copy and paste the link below to apply!\n\nhttps://capincrouse.com/join-our-team/career-opportunities-nonprofit-accounting-positions/?gnk=job&amp\;gni=8a78859e8cf533ca018cfa7453b343ae&amp\;gns=CapinCrouse+Recruiter\n\nIf the above link does not work\, please use the link below and visit our careers page to apply to the SLP event.\n\nwww.capincrouse.com/careers\n\nIn the CapinCrouse Student Leadership program you will have the opportunity to:\nDiscover what it is like to work at CapinCrouse\, a national CPA and consulting firm exclusively serving nonprofit organizations\nNetworking with CapinCrouse leadership and professionals at all levels from our Managing Partner to associate-level professionals\nHave your accounting-career related questions answered during a Q&amp\;A session\nLearn about the importance of teamwork\, accountability and flexibility\nParticipate in a fun and interactive team-building event with CapinCrouse staff and partners\n\nWho is eligible for the CapinCrouse Student Leadership Program?\nCollege Freshmen\, Sophomores\, Juniors\, and Seniors who:\nAre pursuing a degree in Accounting\nHave a strong interest in a career in public accounting\nHave a successful academic track record\nAre active in extracurricular activities\n\nQualifications:\nMajoring in Accounting\nPursuing a bachelor’s or master’s degree\nStrong interest in a career in public accounting\nSuccessful academic track record\n\nApplication and selection process:\nApplications will be accepted between January 11\, 2024 and May 31\, 2024\nStudents will be contacted no later than May 31\, 2024\, regarding the statusof their application.
UID:121353-21846446@events.umich.edu
URL:https://events.umich.edu/event/121353
CLASS:PUBLIC
STATUS:CONFIRMED
CATEGORIES:
LOCATION:
CONTACT:
END:VEVENT
BEGIN:VEVENT
DTSTAMP:20240314T121507
DTSTART;TZID=America/Detroit:20240417T120000
DTEND;TZID=America/Detroit:20240417T170000
SUMMARY:Exhibition:Anedged: 2024 MFA First Year Exhibition
DESCRIPTION:This annual celebration of the work of Stamps MFA in Art candidates features work by first-year students:\nHannah BuchananSam GriffithLaura MackieAndy MaticorenaCharlie ReynoldsDarren SpirkCress Thibodeaux\nThe 2024 MFA First Year Exhibition takes place March 22 - April 29\, 2024 at the Stamps Graduate/Faculty Studios\, 1919 Green Rd\, Ann Arbor\, MI 48109. \nJoin us at the public exhibition reception on Friday\, March 22 from 6-8pm (no RSVP required). Viewings March 23-April 29 are available by appointment only\; please contact Hannah Buchanan to arrange a visit.
UID:119889-21843763@events.umich.edu
URL:https://events.umich.edu/event/119889
CLASS:PUBLIC
STATUS:CONFIRMED
CATEGORIES:Art
LOCATION:Off Campus Location
CONTACT:
END:VEVENT
BEGIN:VEVENT
DTSTAMP:20240116T141648
DTSTART;TZID=America/Detroit:20240417T120000
DTEND;TZID=America/Detroit:20240417T123000
SUMMARY:Well-being:North Campus Mindfulness Meditation Drop-In (Online)
DESCRIPTION:Take a moment to create some space to breathe and invite a sense of calm into your day. This is a guided mindfulness meditation drop-in session. No experience necessary. Free and open to all. \n\nEmail dmitryb@umich.edu to sign up for the mailing list. You will receive a weekly reminder with the zoom link. Also\, you can add the sessions to your Google Calendar: https://tinyurl.com/y3kbkwd6
UID:40967-21838896@events.umich.edu
URL:https://events.umich.edu/event/40967
CLASS:PUBLIC
STATUS:CONFIRMED
CATEGORIES:Health & Wellness,Meditation,Mindfulness,Mindfulness\, Meditation,North campus,Stress Reduction,Virtual,Well-being
LOCATION:Off Campus Location
CONTACT:
END:VEVENT
END:VCALENDAR