BEGIN:VCALENDAR
VERSION:2.0
PRODID:-//UM//UM*Events//EN
CALSCALE:GREGORIAN
BEGIN:VTIMEZONE
TZID:America/Detroit
TZURL:http://tzurl.org/zoneinfo/America/Detroit
X-LIC-LOCATION:America/Detroit
BEGIN:DAYLIGHT
TZOFFSETFROM:-0500
TZOFFSETTO:-0400
TZNAME:EDT
DTSTART:20070311T020000
RRULE:FREQ=YEARLY;BYMONTH=3;BYDAY=2SU
END:DAYLIGHT
BEGIN:STANDARD
TZOFFSETFROM:-0400
TZOFFSETTO:-0500
TZNAME:EST
DTSTART:20071104T020000
RRULE:FREQ=YEARLY;BYMONTH=11;BYDAY=1SU
END:STANDARD
END:VTIMEZONE
BEGIN:VEVENT
DTSTAMP:20241024T082043
DTSTART;TZID=America/Detroit:20241024T090000
DTEND;TZID=America/Detroit:20241024T100000
SUMMARY:Workshop / Seminar:TNE Journal Club
DESCRIPTION:The Translational Neural Engineering (TNE) Group is a hybrid weekly neural engineering focused journal club every Thursday at 9:00 AM. TNE journal club aims to enable students\, medical residents\, engineers\, researchers\, and faculty to discuss current neural engineering topics and challenges. Each week students present their research or a current journal article for discussion. We also sometimes host guest speakers and statistical workshops. Free coffee is provided for in-person attendees!
UID:126683-21857553@events.umich.edu
URL:https://events.umich.edu/event/126683
CLASS:PUBLIC
STATUS:CONFIRMED
CATEGORIES:Sessions
LOCATION:NCRC Building 10 ACR2
CONTACT:
END:VEVENT
BEGIN:VEVENT
DTSTAMP:20241007T143537
DTSTART;TZID=America/Detroit:20241024T090000
DTEND;TZID=America/Detroit:20241024T103000
SUMMARY:Social / Informal Gathering:Transfer Student Week: Commuter Student Coffee Break
DESCRIPTION:All commuting transfer students are invited to stop by the Office of Academic Multicultural Initiatives (OAMI) on Thursday\, October 24 between 9:00 - 10:30 am to enjoy free coffee and pastries and meet other commuter students! You can also enter a drawing to win a free Michigan-themed prize! RSVP at https://myumi.ch/Er5xJ
UID:127482-21859207@events.umich.edu
URL:https://events.umich.edu/event/127482
CLASS:PUBLIC
STATUS:CONFIRMED
CATEGORIES:Tsw24,Transfer Students,M-connect
LOCATION:Student Activities Building - 3009
CONTACT:
END:VEVENT
BEGIN:VEVENT
DTSTAMP:20240130T121550
DTSTART;TZID=America/Detroit:20241024T100000
DTEND;TZID=America/Detroit:20241024T200000
SUMMARY:Exhibition:A Gathering
DESCRIPTION:Welcome. Make Yourself At Home.\n \nA Gathering brings together the newest works of art to enter UMMA’s collection — many on display here for the first time. \n \nAs a free\, public museum\, UMMA staff takes care of art for the benefit of the community and society at large. The works on view in this exhibition\, all brought into the Museum between 2019 and the present\, shows how institutions like UMMA are becoming more permeable to societal challenges\, and more nimble in responding to them in service to all in their communities. In this exhibition you will find works that reflect on how global migrations\, race\, gender\, and ecological change shape the way we engage with the world and inform our visions for the future.\n \nThis collection of artistic engagements with issues give us tools to envision who we want to be as individuals\, as a museum\, and as a society\, connected to one another across space and experience.\n \nSo gather here to take in these latest works of art brought here for you. Gather here to be engulfed in their forms and meanings\, to discuss their takes\, to learn\, to disagree. Gather to relax\, make a friend\, drink a coffee\, finish the daily Wordle. Gather to feel full\, to be moved and inspired by all the possible imaginations of what is yet to come.\n \nCurated by Félix Zamora Gómez Irving Stenn\, Jr. Fellow in Public Humanities & Museum Pedagogy\n\nLead support for this exhibition is provided by Lizzie and Jonathan Tisch\, the Richard and Rosann Noel Endowment\, and the University of Michigan Office of the Provost.\n 
UID:107870-21817945@events.umich.edu
URL:https://events.umich.edu/event/107870
CLASS:PUBLIC
STATUS:CONFIRMED
CATEGORIES:Museum,UMMA,Staff,Art,Humanities,Free,Exhibition
LOCATION:Museum of Art - Lizzie and Jonathan Tisch Apse
CONTACT:
END:VEVENT
END:VCALENDAR