BEGIN:VCALENDAR
VERSION:2.0
PRODID:-//UM//UM*Events//EN
CALSCALE:GREGORIAN
BEGIN:VTIMEZONE
TZID:America/Detroit
TZURL:http://tzurl.org/zoneinfo/America/Detroit
X-LIC-LOCATION:America/Detroit
BEGIN:DAYLIGHT
TZOFFSETFROM:-0500
TZOFFSETTO:-0400
TZNAME:EDT
DTSTART:20070311T020000
RRULE:FREQ=YEARLY;BYMONTH=3;BYDAY=2SU
END:DAYLIGHT
BEGIN:STANDARD
TZOFFSETFROM:-0400
TZOFFSETTO:-0500
TZNAME:EST
DTSTART:20071104T020000
RRULE:FREQ=YEARLY;BYMONTH=11;BYDAY=1SU
END:STANDARD
END:VTIMEZONE
BEGIN:VEVENT
DTSTAMP:20240213T121726
DTSTART;TZID=America/Detroit:20240417T120000
DTEND;TZID=America/Detroit:20240417T123000
SUMMARY:Performance:Pamela Ruiter-Feenstra\, carillon
DESCRIPTION:Pamela Ruiter-Feenstra performs on the Charles Baird Carillon\, an instrument of 53 bronze bells located inside the Burton Memorial Tower. The largest bell\, which strikes the hour\, weighs 12 tons\, while the smallest bell\, 4½ octaves above\, weighs just 15 pounds.\n\nThirty-minute recitals are performed on the Charles Baird Carillon at noon every weekday that classes are in session\, followed by visitor Q&A with the carillonist. The bell chamber may be accessed via a combination of elevator and stairs. Take the elevator to the highest floor possible (floor 8)\, and then climb two flights of stairs (39 steps) to the bell chamber (floor 10). Earplugs are available from the carillonist upon request. Be prepared to walk on ice and snow in the bell chamber during winter. Built in 1936\, the Charles Baird Carillon is not ADA accessible. Visitors with mobility concerns are invited to visit the Lurie Carillon: https://smtd.umich.edu/facilities/ann-and-robert-h-lurie-carillon/
UID:118523-21841175@events.umich.edu
URL:https://events.umich.edu/event/118523
CLASS:PUBLIC
STATUS:CONFIRMED
CATEGORIES:Talk,Music,In Person,Free
LOCATION:Burton Memorial Tower
CONTACT:
END:VEVENT
BEGIN:VEVENT
DTSTAMP:20240417T112021
DTSTART;TZID=America/Detroit:20240417T121000
DTEND;TZID=America/Detroit:20240417T140000
SUMMARY:Workshop / Seminar:Taubman College Zund Training Sign Up
DESCRIPTION:Sign up for Zund Training at Taubman College. Taubman College students only.
UID:113377-21845958@events.umich.edu
URL:https://events.umich.edu/event/113377
CLASS:PUBLIC
STATUS:CONFIRMED
CATEGORIES:Sessions
LOCATION:Art and Architecture Building RM. 1227
CONTACT:
END:VEVENT
BEGIN:VEVENT
DTSTAMP:20240619T084007
DTSTART;TZID=America/Detroit:20240417T121500
DTEND;TZID=America/Detroit:20240417T124500
SUMMARY:Well-being:VIRTUAL | CEW+Inspire Midweek Mindfulness Sits
DESCRIPTION:RSVP here: https://umich.zoom.us/meeting/register/tJUlcOuvpjkqHdA1Hj1C6fqBCDL4oMYBUz0A\n\nJoin us on Wednesdays from 12:15-12:45 pm. Register once to receive a Zoom link to access the sits each week or as your schedule allows. Live sits will continue through Wednesday\, June 19th and resume on August 21st.\n\nMindful meditation is a contemplative practice that\, over time\, can build resilience and coping skills to support you to gain perspective\, navigate the demands of daily life\, and build compassion. Weekly guided sits offer a virtual community of practice that explores present-moment awareness\, open and directed attention\, non-judgment\, and self-compassion. CEW+ Inspire Midweek Mindfulness welcomes practitioners of all skill levels. Each session offers instruction\, support\, and the opportunity to practice guided and self-directed mindful meditation. Participate weekly\, or drop in as your schedule allows. All are welcome!
UID:109796-21823175@events.umich.edu
URL:https://events.umich.edu/event/109796
CLASS:PUBLIC
STATUS:CONFIRMED
CATEGORIES:Undergraduate,transfer students,Undergraduate Students,Virtual,Welcome to Michigan,Well-being,Wellness,women,women's health,Work-life Balance,Nontraditional Students,Caregivers,first-generation,Free,Graduate and Professional Students,Health & Wellness,Mindfulness,Self-care,Student Parents,Students With Children,Support
LOCATION:Off Campus Location
CONTACT:
END:VEVENT
END:VCALENDAR