BEGIN:VCALENDAR
VERSION:2.0
PRODID:-//UM//UM*Events//EN
CALSCALE:GREGORIAN
BEGIN:VTIMEZONE
TZID:America/Detroit
TZURL:http://tzurl.org/zoneinfo/America/Detroit
X-LIC-LOCATION:America/Detroit
BEGIN:DAYLIGHT
TZOFFSETFROM:-0500
TZOFFSETTO:-0400
TZNAME:EDT
DTSTART:20070311T020000
RRULE:FREQ=YEARLY;BYMONTH=3;BYDAY=2SU
END:DAYLIGHT
BEGIN:STANDARD
TZOFFSETFROM:-0400
TZOFFSETTO:-0500
TZNAME:EST
DTSTART:20071104T020000
RRULE:FREQ=YEARLY;BYMONTH=11;BYDAY=1SU
END:STANDARD
END:VTIMEZONE
BEGIN:VEVENT
DTSTAMP:20241004T162942
DTSTART;TZID=America/Detroit:20241115T090000
DTEND;TZID=America/Detroit:20241115T153000
SUMMARY:Workshop / Seminar:University of Michigan Herbarium Workshop: Using digital plant collections to teach biodiversity science in your classroom
DESCRIPTION:Date: Friday and Saturday\, November 15-16 2024\n\nLocation: 3600 Varsity Drive\n\nTime: Workshop runs from 9:00am to 3:30pm each day. Please arrive at least 15 min early to allow for check in.\n\nWorkshop Goals: This 2-day in-person workshop at the University of Michigan Herbarium in Ann Arbor\, MI will introduce participants to using digital plant collections from Michigan and beyond to explore biodiversity. Natural History specimen digitization is stimulating a revolution in the biodiversity sciences and has the potential to transform learning in the classroom. Teachers will be guided through activities and provided instructions and accompanying presentations that can be used in the classroom by teachers to enhance STEM learning by students in collections-oriented science. The presentations and activities focus on three major topical areas: biodiversity\, collections\, and digitization. Also included is a tour of the research museums of the University of Michigan Herbarium and the Museum of Zoology. This workshop is part of the NSF funded TCN: Bringing Asia to Digital Life and will be led by Chuck Davis (Harvard University) and Brad Ruhfel (University of Michigan) and other presenters.\n\nTo Qualify: Currently employed as a middle school or high school biology or environmental science teachers\, and individuals enrolled in a teacher education program.\n\nState Continuing Education Clock Hours (SCECHs): This workshop will qualify for 10 SCECHs.\n\nCost: There is no cost to attend.\n\nMaximum Enrollment: 20 people.\n\nHonorarium: All participants will receive a $150 honorarium for completing the course.\n\nApplication Deadline: Friday October 25th\, 2024. Applicants will be notified of acceptance by Friday November 1st\, 2024.\n\nApplication:  https://docs.google.com/forms/d/e/1FAIpQLSfgVFBcUjicnPdTBU8vHEbTzIZN7l1dXPuExknUgOpT29heuw/viewform\n\nFood: A light breakfast and lunch will be provided each day. Dinner on Friday evening is on your own.\n\nLodging: Coming Soon! Funding may be available for participants traveling form outside the Ann Arbor/Ypsilanti Area.\n\nParking: Free to Participants. Permits will be used Friday morning November 15th. No permit necessary on Saturday.
UID:127427-21859063@events.umich.edu
URL:https://events.umich.edu/event/127427
CLASS:PUBLIC
STATUS:CONFIRMED
CATEGORIES:Workshop,Ecology & Biology,Ecology And Evolutionary Biology,eeb,Environment,Museum - Herbarium,open to public,Outdoors,plant evolution,Research Museums Center,scientists,seminar,Training
LOCATION:Off Campus Location
CONTACT:
END:VEVENT
BEGIN:VEVENT
DTSTAMP:20241130T063058
DTSTART;TZID=America/Detroit:20241115T100000
DTEND;TZID=America/Detroit:20241115T140000
SUMMARY:Careers / Jobs:2024 Audax Women in Private Debt Forum 
DESCRIPTION:Audax Women in Private Debt Forum Date: Friday\, November 15th  Time: 10:00 AM – 2:00 PM ET Where: Virtual Forum (Zoom)  The Audax Women in Private Debt Forum is a half-day program that will provide sophomore women an overview of careers in finance and the alternative asset industry with a focus onthe Audax Private Debt platform. Selected participants will be invited to the half-day workshop\, where they will learn the skills necessary for a successful career in finance and network with investment professionals from the firm.   This opportunity is open to current sophomore women\, of all majors\, who are interested in learning more about Audax Private Debt and the Summer Analyst internship opportunity.Please apply using this link: https://job-boards.greenhouse.io/audaxgroup/jobs/4464258005Applications are due by Monday\, October 28th at 11:59 PM ET. 
UID:125813-21856130@events.umich.edu
URL:https://events.umich.edu/event/125813
CLASS:PUBLIC
STATUS:CONFIRMED
CATEGORIES:
LOCATION:
CONTACT:
END:VEVENT
BEGIN:VEVENT
DTSTAMP:20240130T121550
DTSTART;TZID=America/Detroit:20241115T100000
DTEND;TZID=America/Detroit:20241115T200000
SUMMARY:Exhibition:A Gathering
DESCRIPTION:Welcome. Make Yourself At Home.\n \nA Gathering brings together the newest works of art to enter UMMA’s collection — many on display here for the first time. \n \nAs a free\, public museum\, UMMA staff takes care of art for the benefit of the community and society at large. The works on view in this exhibition\, all brought into the Museum between 2019 and the present\, shows how institutions like UMMA are becoming more permeable to societal challenges\, and more nimble in responding to them in service to all in their communities. In this exhibition you will find works that reflect on how global migrations\, race\, gender\, and ecological change shape the way we engage with the world and inform our visions for the future.\n \nThis collection of artistic engagements with issues give us tools to envision who we want to be as individuals\, as a museum\, and as a society\, connected to one another across space and experience.\n \nSo gather here to take in these latest works of art brought here for you. Gather here to be engulfed in their forms and meanings\, to discuss their takes\, to learn\, to disagree. Gather to relax\, make a friend\, drink a coffee\, finish the daily Wordle. Gather to feel full\, to be moved and inspired by all the possible imaginations of what is yet to come.\n \nCurated by Félix Zamora Gómez Irving Stenn\, Jr. Fellow in Public Humanities & Museum Pedagogy\n\nLead support for this exhibition is provided by Lizzie and Jonathan Tisch\, the Richard and Rosann Noel Endowment\, and the University of Michigan Office of the Provost.\n 
UID:107870-21817964@events.umich.edu
URL:https://events.umich.edu/event/107870
CLASS:PUBLIC
STATUS:CONFIRMED
CATEGORIES:UMMA,Humanities,Art,Exhibition,Free,Museum,Staff
LOCATION:Museum of Art - Lizzie and Jonathan Tisch Apse
CONTACT:
END:VEVENT
END:VCALENDAR