BEGIN:VCALENDAR
VERSION:2.0
PRODID:-//UM//UM*Events//EN
CALSCALE:GREGORIAN
BEGIN:VTIMEZONE
TZID:America/Detroit
TZURL:http://tzurl.org/zoneinfo/America/Detroit
X-LIC-LOCATION:America/Detroit
BEGIN:DAYLIGHT
TZOFFSETFROM:-0500
TZOFFSETTO:-0400
TZNAME:EDT
DTSTART:20070311T020000
RRULE:FREQ=YEARLY;BYMONTH=3;BYDAY=2SU
END:DAYLIGHT
BEGIN:STANDARD
TZOFFSETFROM:-0400
TZOFFSETTO:-0500
TZNAME:EST
DTSTART:20071104T020000
RRULE:FREQ=YEARLY;BYMONTH=11;BYDAY=1SU
END:STANDARD
END:VTIMEZONE
BEGIN:VEVENT
DTSTAMP:20231207T121529
DTSTART;TZID=America/Detroit:20240417T140000
DTEND;TZID=America/Detroit:20240417T150000
SUMMARY:Livestream / Virtual:Rackham Consultation Services: Virtual Office Hours
DESCRIPTION:If you have a quick question or have a time sensitive matter\, attend the Rackham Consultation Services open office hours weekly on Monday and Wednesday from 2:00 to 3:00 p.m. via Zoom. In the interest of providing students as much privacy as possible\, you may spend a brief time in a waiting room if the resolution officer is engaged with another student. They will be with you as quickly as possible.\nJoin Zoom Meeting\nhttps://umich.zoom.us/j/91936509614\nMeeting ID: 919 3650 9614\n—\nOne tap mobile\n+16468769923\,\,91936509614# US (New York)\n+16469313860\,\,91936509614# US\n—\nDial by your location\n\n+1 646 876 9923 US (New York)\n+1 646 931 3860 US\n+1 301 715 8592 US (Washington DC)\n+1 305 224 1968 US\n+1 309 205 3325 US\n+1 312 626 6799 US (Chicago)\n+1 669 444 9171 US\n+1 669 900 6833 US (San Jose)\n+1 689 278 1000 US\n+1 719 359 4580 US\n+1 253 205 0468 US\n+1 253 215 8782 US (Tacoma)\n+1 346 248 7799 US (Houston)\n+1 360 209 5623 US\n+1 386 347 5053 US\n+1 507 473 4847 US\n+1 564 217 2000 US\n+1 587 328 1099 Canada\n+1 647 374 4685 Canada\n+1 647 558 0588 Canada\n+1 778 907 2071 Canada\n+1 780 666 0144 Canada\n+1 204 272 7920 Canada\n+1 438 809 7799 Canada\n\nMeeting ID: 919 3650 9614\nFind your local number: https://umich.zoom.us/u/adnslmLWNf\n—\nJoin by SIP\n\n91936509614@zoomcrc.com\n\n—\nJoin by H.323\n\n162.255.37.11 (US West)\n162.255.36.11 (US East)\n115.114.131.7 (India Mumbai)\n115.114.115.7 (India Hyderabad)\n213.19.144.110 (Amsterdam Netherlands)\n213.244.140.110 (Germany)\n103.122.166.55 (Australia Sydney)\n103.122.167.55 (Australia Melbourne)\n149.137.40.110 (Singapore)\n64.211.144.160 (Brazil)\n149.137.68.253 (Mexico)\n69.174.57.160 (Canada Toronto)\n65.39.152.160 (Canada Vancouver)\n207.226.132.110 (Japan Tokyo)\n149.137.24.110 (Japan Osaka)\n\nMeeting ID: 919 3650 9614
UID:115892-21835786@events.umich.edu
URL:https://events.umich.edu/event/115892
CLASS:PUBLIC
STATUS:CONFIRMED
CATEGORIES:
LOCATION:Off Campus Location
CONTACT:
END:VEVENT
BEGIN:VEVENT
DTSTAMP:20240109T101115
DTSTART;TZID=America/Detroit:20240417T140000
DTEND;TZID=America/Detroit:20240417T160000
SUMMARY:Well-being:SAPAC Wellness Wednesdays
DESCRIPTION:Wellness Wednesdays at SAPAC is an open and informal offering for students to engage with community and optional self-care resources including journaling\, art\, discussion\, mindfulness and movement. You are welcome to drop-in for a few minutes or stay for the duration! \n\nA SAPAC team member will be present. This is not a support group or a clinical group setting\, but we are here to hold space\, and provide connections to supportive resources if you have questions! \n\n\nLocation: SAPAC Shared Space - Rm 4100 (4th Floor Michigan Union)\nTime: 10am-12pm and 2pm-4pm\nDates: January 17\, February 21\, March 20\, April 17
UID:116747-21837889@events.umich.edu
URL:https://events.umich.edu/event/116747
CLASS:PUBLIC
STATUS:CONFIRMED
CATEGORIES:free,sapac,Well-being
LOCATION:Michigan Union - SAPAC Office (4100)
CONTACT:
END:VEVENT
BEGIN:VEVENT
DTSTAMP:20240416T143742
DTSTART;TZID=America/Detroit:20240417T143000
DTEND;TZID=America/Detroit:20240417T155000
SUMMARY:Workshop / Seminar:Inattentive Network: Evidence and Theory
DESCRIPTION:In this paper\, we provide novel evidence on firms' attention allocation in a production network. Based on internet traffic log files collected by EDGAR\, we construct a firm-level panel that measures firms’ browsing intensity on other firms’ electronically filed reports. We find that: (1) firms pay more attention to other firms that are closer to themselves in terms of network distance\; (2) firms pay more attention to other firms that are more volatile\; (3) a firm's absolute forecast error decreases in its total browsing activities. We then build a framework where firms rationally acquire information to set prices in a production network. The model’s predictions on firms' attention allocation are consistent with the empirical patterns. In this framework\, we show that the optimal monetary policy design significantly differs from that in a model where informational frictions are exogenously given.\n\n\nThis talk is presented by the Macroeconomics Seminar\, sponsored by the Department of Economics with generous gifts given through the Michael Beauregard Fund for Macroeconomics and the Economics Strategic Fund.\n\nThis talk is presented by the International Economics Seminar\, sponsored by the Department of Economics with generous gifts given through the Economics Strategic Fund.
UID:117992-21840311@events.umich.edu
URL:https://events.umich.edu/event/117992
CLASS:PUBLIC
STATUS:CONFIRMED
CATEGORIES:seminar,Macroeconomics,Economics
LOCATION:Lorch Hall - 301
CONTACT:
END:VEVENT
END:VCALENDAR