BEGIN:VCALENDAR
VERSION:2.0
PRODID:-//UM//UM*Events//EN
CALSCALE:GREGORIAN
BEGIN:VTIMEZONE
TZID:America/Detroit
TZURL:http://tzurl.org/zoneinfo/America/Detroit
X-LIC-LOCATION:America/Detroit
BEGIN:DAYLIGHT
TZOFFSETFROM:-0500
TZOFFSETTO:-0400
TZNAME:EDT
DTSTART:20070311T020000
RRULE:FREQ=YEARLY;BYMONTH=3;BYDAY=2SU
END:DAYLIGHT
BEGIN:STANDARD
TZOFFSETFROM:-0400
TZOFFSETTO:-0500
TZNAME:EST
DTSTART:20071104T020000
RRULE:FREQ=YEARLY;BYMONTH=11;BYDAY=1SU
END:STANDARD
END:VTIMEZONE
BEGIN:VEVENT
DTSTAMP:20240912T112359
DTSTART;TZID=America/Detroit:20241024T120000
DTEND;TZID=America/Detroit:20241024T125000
SUMMARY:Lecture / Discussion:Breaking the 4th Wall: Secrets of Science Communication from Museums\, Movies and Memory
DESCRIPTION:Oral Health Sciences Seminar Series\nBreaking the 4th Wall:\nSecrets of Science Communication from Museums\, Movies and Memory\n\nJade Marks\, M.S.\nScience Communication Manager\nUniversity of Michigan Museum of Natural History\n\nThursday\, October 24\, 2024 \n12:00 – 12:50pm\nDENT G550 \nHost: Dr. Lauren Surface \nSponsored by Oral Health Sciences\n\n*CE credit will be given to the School of Dentistry Faculty. If you would like CE credit\, please sign in at the seminar
UID:126268-21856825@events.umich.edu
URL:https://events.umich.edu/event/126268
CLASS:PUBLIC
STATUS:CONFIRMED
CATEGORIES:Information and Technology,Interdisciplinary,Lecture,Media,Museum,Science
LOCATION:Dental & W.K. Kellogg Institute - DENT G550
CONTACT:
END:VEVENT
BEGIN:VEVENT
DTSTAMP:20241022T111525
DTSTART;TZID=America/Detroit:20241024T120000
DTEND;TZID=America/Detroit:20241024T133000
SUMMARY:Lecture / Discussion:CANCELED - CJS Noon Lecture Series | Techno-Menses: Period Products and FemTech in Japan
DESCRIPTION:We apologize that we have had to cancel this event.\n   \n   Menstrual product dispensers activated by scanning a QR code\, pads manufactured with deodorizing silver ions\, apps meant to predict the timing of menstrual bleeding and mood swings—more and more\, biological processes like the menstrual cycle are becoming enmeshed in high-tech interventions\, even outside of biomedical settings. Using examples from Japan\, this talk examines how and why menstrual management practices are technologized\, as well as the potential impacts of this for everyday consumers.\n   \n   Maura Stephens-Chu received her Ph.D. and MA in Anthropology from the University of Hawai‘i at Mānoa. She specializes in medical and cultural anthropology\, with an emphasis on embodied experiences of menstruation in contemporary Japan. Broadly\, Maura’s multidisciplinary and intersectional research includes theoretical and methodological approaches from anthropology\, Japanese studies\, gender studies\, history\, and science and technology studies. She has conducted extensive ethnographic research in Tokyo\, Japan on young women’s perceptions\, education\, and personal experiences of menstruation and commercial menstrual products. Her historical analysis of Japanese menstrual taboos\, “From Sacred to Secret: Tracing Changes in Views of Menstruation in Japan\,” can be found in the open access journal *Silva Iaponicarum.* Currently\, Maura is researching the formation of both layperson and medical understandings of conditions that fall under the umbrella of menstrual “irregularity\,” including endometriosis\, amenorrhea\, and severe dysmenorrhea. She is also interested in media representations of premenstrual syndrome\, as well as the impact on personal health and privacy from the proliferation of smartphone apps for tracking menstrual cycles.\n   \n   This lecture is made possible with the generous support of the U.S. Department of Education Title VI grant.\n\nIf there is anything we can do to make this event accessible to you\, please contact us at umcjs@umich.edu. Please be aware that advance notice is necessary as some accommodations may require more time for the university to arrange.
UID:124587-21853245@events.umich.edu
URL:https://events.umich.edu/event/124587
CLASS:PUBLIC
STATUS:CONFIRMED
CATEGORIES:Asian Languages And Cultures,japan,Japanese Studies
LOCATION:Weiser Hall - Room 555
CONTACT:
END:VEVENT
BEGIN:VEVENT
DTSTAMP:20241108T123220
DTSTART;TZID=America/Detroit:20241024T120000
DTEND;TZID=America/Detroit:20241024T123000
SUMMARY:Careers / Jobs:Cool role spotlight: how this social media pro built his \"extremely online\" career
DESCRIPTION:Interested in a career centered around creating content? OnOctober 24 at 12:00PM PT join us for a virtual session with Attentive’sSr. Manager of Communications and Social\, Todd Needle\, who will share insights into his role and career journey\, including:\nWhat the day-to-day looks like for a social and content marketer\nChallenges and roadblocks he faced when starting out\nTips for startinga career in social media\nHope to see you there! 
UID:127949-21859965@events.umich.edu
URL:https://events.umich.edu/event/127949
CLASS:PUBLIC
STATUS:CONFIRMED
CATEGORIES:
LOCATION:
CONTACT:
END:VEVENT
END:VCALENDAR