BEGIN:VCALENDAR
VERSION:2.0
PRODID:-//UM//UM*Events//EN
CALSCALE:GREGORIAN
BEGIN:VTIMEZONE
TZID:America/Detroit
TZURL:http://tzurl.org/zoneinfo/America/Detroit
X-LIC-LOCATION:America/Detroit
BEGIN:DAYLIGHT
TZOFFSETFROM:-0500
TZOFFSETTO:-0400
TZNAME:EDT
DTSTART:20070311T020000
RRULE:FREQ=YEARLY;BYMONTH=3;BYDAY=2SU
END:DAYLIGHT
BEGIN:STANDARD
TZOFFSETFROM:-0400
TZOFFSETTO:-0500
TZNAME:EST
DTSTART:20071104T020000
RRULE:FREQ=YEARLY;BYMONTH=11;BYDAY=1SU
END:STANDARD
END:VTIMEZONE
BEGIN:VEVENT
DTSTAMP:20241022T095723
DTSTART;TZID=America/Detroit:20241115T100000
DTEND;TZID=America/Detroit:20241115T160000
SUMMARY:Exhibition:GalleryDAAS Exhibition: \"Hip Hop @ 50\"
DESCRIPTION:It's back! Brought to you by the Department of Afroamerican and African Studies (DAAS)\, GalleryDAAS celebrates the 50th anniversary of hip hop with “Hip Hop @ 50\,” an exhibition highlighting this constantly evolving phenomenon. Explore various aspects of hip hop culture\, including definitions\, dates\, divas\, the Detroit scene\, and a special tribute to J Dilla (James Dewitt Yancey)\, a prolific producer. Through examining the five pillars of hip hop — rapping\, break dancing\, DJing\, graffiti and historical knowledge — it becomes evident that what began as a musical genre has impacted society\, fashion\, language\, entertainment and even politics. Visitors will also be treated to a GREAT playlist! The gallery is open Monday–Friday from 10 a.m. to 4 p.m.
UID:122094-21860347@events.umich.edu
URL:https://events.umich.edu/event/122094
CLASS:PUBLIC
STATUS:CONFIRMED
CATEGORIES:african and afroamerican studies,african and african american studies,AEM Featured
LOCATION:Haven Hall - G648
CONTACT:
END:VEVENT
BEGIN:VEVENT
DTSTAMP:20241130T063115
DTSTART;TZID=America/Detroit:20241115T100000
DTEND;TZID=America/Detroit:20241115T110000
SUMMARY:Careers / Jobs:Internship Lab
DESCRIPTION:*RSVP required to attend. Click \"Join Event\" here:https://umich.joinhandshake.com/edu/events/1636062Are you ready to start searching for a great internship? Do you have a few ideas\, but you’re not sure where to get started? Let's talk about search strategy!! Get real-time\, personalized support by checking out the in person Internship Lab. You’ll be guided by one of our Career Coaches who hasdesigned this experience to provide you strategies\, tools\, and motivation to get on the right track with searching for internships. Chat with folks from the University Career Center to explore Handshake\,the University Career Alumni Network (UCAN) and to learn about other tools you can use to build a great job/internship search strategy. **If you're not sure what you're interested in\, consider making an \"Exploring Major/Career Option\" appointment to get started clarifying your interests with a career coach in a 1-on-1 setting. Recent Grads: If you are an alumni\, you will not be able to access the link due the University’s policy of discontinuing alumni Zoom accounts 30 days after graduation. Please contact careercenter@umich.edu with the subject line“Recent Grad Help” to receive either a recording of the session or tobe set up with a 1:1. Include the name of the workshop/event in your email.
UID:128041-21860084@events.umich.edu
URL:https://events.umich.edu/event/128041
CLASS:PUBLIC
STATUS:CONFIRMED
CATEGORIES:
LOCATION:
CONTACT:
END:VEVENT
BEGIN:VEVENT
DTSTAMP:20240822T143331
DTSTART;TZID=America/Detroit:20241115T100000
DTEND;TZID=America/Detroit:20241115T110000
SUMMARY:Social / Informal Gathering:La Tertulia: Spanish Coffee Hour
DESCRIPTION:*Hola!* *¿Cómo estás?*\nALL LEVELS AND STUDENTS WELCOME!\n\n-Practice your Spanish speaking skills with fellow students & instructors in a welcoming and relaxed environment\n\n-Come & go as you please\; stay for the hour or only part\n\n-Free coffee\, tea\, light snacks & baked goods\n\nFor more information\, please contact Julie Harrell at harrelju@umich.edu
UID:124762-21853755@events.umich.edu
URL:https://events.umich.edu/event/124762
CLASS:PUBLIC
STATUS:CONFIRMED
CATEGORIES:Networking,Latin America,Romance Language,Romance Languages And Literatures,Social,Spain,Spanish,study abroad,Undergraduate,Undergraduate Students,European,Coffee,Community,Community Engagement,cultural,Culture,department of romance languages,Engaged Learning,Europe,Central America,Food,Free,Games,intercultural,International,Language,Languages
LOCATION:Modern Languages Building - RLL Commons (MLB 4314)
CONTACT:
END:VEVENT
END:VCALENDAR