BEGIN:VCALENDAR
VERSION:2.0
PRODID:-//UM//UM*Events//EN
CALSCALE:GREGORIAN
BEGIN:VTIMEZONE
TZID:America/Detroit
TZURL:http://tzurl.org/zoneinfo/America/Detroit
X-LIC-LOCATION:America/Detroit
BEGIN:DAYLIGHT
TZOFFSETFROM:-0500
TZOFFSETTO:-0400
TZNAME:EDT
DTSTART:20070311T020000
RRULE:FREQ=YEARLY;BYMONTH=3;BYDAY=2SU
END:DAYLIGHT
BEGIN:STANDARD
TZOFFSETFROM:-0400
TZOFFSETTO:-0500
TZNAME:EST
DTSTART:20071104T020000
RRULE:FREQ=YEARLY;BYMONTH=11;BYDAY=1SU
END:STANDARD
END:VTIMEZONE
BEGIN:VEVENT
DTSTAMP:20241115T112033
DTSTART;TZID=America/Detroit:20241115T100000
DTEND;TZID=America/Detroit:20241115T113000
SUMMARY:Workshop / Seminar:Round Table Insight Sessions: A series of open discussions with ME students
DESCRIPTION:We invite you to participate in a series of student roundtable discussions\, centering and exploring the experiences of ME students. Students at all levels are welcome to join\, from undergraduate to Masters to PhD. These sessions are meant to bridge gaps in our community and show commitment of mutual support. \nShare Your TruthThis is your platform to express your experiences\, aspirations\, and concerns within our department. Your stories matter\, and we are here to actively listen and learn from each other.\nForge ConnectionsConnect with fellow students who understand your journey. Build supportive networks\, exchange ideas\, and foster a sense of belonging within our community.\nInclusivity in ActionWhile our focus is on amplifying the voices of marginalized students\, we embrace and celebrate the diversity within our community. Allies and friends committed to creating an inclusive environment are warmly encouraged to join us.\nEach session will provide a meal and a ME swag item to all participants. To help us plan times for sessions please fill out the interest form by clicking on the button below. We look forward to connecting with you.
UID:128784-21861623@events.umich.edu
URL:https://events.umich.edu/event/128784
CLASS:PUBLIC
STATUS:CONFIRMED
CATEGORIES:
LOCATION:
CONTACT:
END:VEVENT
BEGIN:VEVENT
DTSTAMP:20240130T121551
DTSTART;TZID=America/Detroit:20241115T100000
DTEND;TZID=America/Detroit:20241115T200000
SUMMARY:Exhibition:Unsettling Histories: Legacies of Slavery and Colonialism
DESCRIPTION:Organized as a response to the Museum’s recent acquisition of Titus Kaphar’s Flay (James Madison)\, this upcoming reinstallation of one of our most prominent gallery spaces forces us to grapple with our collection of European and American art\, 1650-1850.\n \nIn recent times\, growing public awareness of the continued reverberations of the legacy of slavery and colonization has challenged museums to examine the uncomfortable histories contained in our collections\, and challenged the public to probe the choices we make about those stories. Choices about which artists you see in our galleries\, choices about what relevant facts we share about the works\, and choices about what - out of an infinite number of options - we don’t say about them.\n \nPieces in this exhibition were made at a time when the world came to be shaped by the ideologies of colonial expansion and Western domination. And yet\, that history and the stories of those marginalized do not readily appear in the still lives and portraits on display here. By grappling with what is visible and what remains hidden\, we are forced to examine whose stories and histories are prioritized and why.  \n \nIn this online exhibition\, you can explore our efforts to deeply question the Museum’s collection and our own past complicity in favoring colonial voices. In the Museum gallery\, which will open in early 2021\, you’ll be able to experience the changes we’re making to the physical space to highlight a more honest version of European and American history. \n \nBy challenging our own practice\, and continuing to add to what we know and what we write about the works we display\, UMMA tells a more complex and more complete story of this nation - one that unsettles\, and fails to settle for\, simple narratives. \n \n“Invisible things are not necessarily ‘not there’.... Certain absences are so stressed\, so ornate\, so planned\, they call attention to themselves\; arrest us with intentionality and purpose\, like neighborhoods that are defined by the population held away from them.” \n \n— Toni Morrison\n\nLead support for Unsettling Histories: Legacies of Slavery and Colonialism is provided by the University of Michigan Office of the Provost\, the U-M Arts Initiative\, and the Susan and Richard Gutow Endowed Fund.\n 
UID:84303-21621443@events.umich.edu
URL:https://events.umich.edu/event/84303
CLASS:PUBLIC
STATUS:CONFIRMED
CATEGORIES:History,UMMA,Museum,Art,Exhibition,European
LOCATION:Museum of Art - European and American Decorative Art
CONTACT:
END:VEVENT
BEGIN:VEVENT
DTSTAMP:20241011T132746
DTSTART;TZID=America/Detroit:20241115T100000
DTEND;TZID=America/Detroit:20241115T110000
SUMMARY:Workshop / Seminar:Visualizing TDP43 Pathology with Cryo-Electron Tomography
DESCRIPTION:Postdoctoral Fellow\nMosalaganti Lab
UID:127714-21859519@events.umich.edu
URL:https://events.umich.edu/event/127714
CLASS:PUBLIC
STATUS:CONFIRMED
CATEGORIES:Structural Biology
LOCATION:Life Sciences Institute - LSI Library
CONTACT:
END:VEVENT
END:VCALENDAR