BEGIN:VCALENDAR
VERSION:2.0
PRODID:-//UM//UM*Events//EN
CALSCALE:GREGORIAN
BEGIN:VTIMEZONE
TZID:America/Detroit
TZURL:http://tzurl.org/zoneinfo/America/Detroit
X-LIC-LOCATION:America/Detroit
BEGIN:DAYLIGHT
TZOFFSETFROM:-0500
TZOFFSETTO:-0400
TZNAME:EDT
DTSTART:20070311T020000
RRULE:FREQ=YEARLY;BYMONTH=3;BYDAY=2SU
END:DAYLIGHT
BEGIN:STANDARD
TZOFFSETFROM:-0400
TZOFFSETTO:-0500
TZNAME:EST
DTSTART:20071104T020000
RRULE:FREQ=YEARLY;BYMONTH=11;BYDAY=1SU
END:STANDARD
END:VTIMEZONE
BEGIN:VEVENT
DTSTAMP:20241108T063240
DTSTART;TZID=America/Detroit:20241024T120000
DTEND;TZID=America/Detroit:20241024T130000
SUMMARY:Careers / Jobs:Pro Football Hall of Fame \"Before the Snap\" ft. Dajah Stallings
DESCRIPTION:The Pro Football Hall of Fame is proud to offer a series for learners in high school\, college and beyond! “Before the Snap” gives an insight to professional careers in and around the NFL\, while giving the live viewing audience the opportunity to interact with an industry expert.Our special guest is Dajah Stallings\, who currently serves as the Community Engagement and Legends Coordinator with the Seattle Seahawks.We will be streaming the program LIVE on the Pro Football Hall of Fame’s YouTube page and will take questions from students across the country throughout the program. To participate\, all you will need to do is: - Visit https://www.youtube.com/user/ProFootballHOF at 12:00pm ET on Thursday\, October 24\, 2024 to view the program. -To ask a question\, comment on the post with the following information:*  Nameof School (if applicable)*  Location*  Question for Industry ExpertIf you have any questions\, do not hesitate to reach out!You can contact me at 330-588-3558 or by email at Jacob.Ray@ProFootballHOF.com
UID:128134-21860213@events.umich.edu
URL:https://events.umich.edu/event/128134
CLASS:PUBLIC
STATUS:CONFIRMED
CATEGORIES:
LOCATION:
CONTACT:
END:VEVENT
BEGIN:VEVENT
DTSTAMP:20240812T102513
DTSTART;TZID=America/Detroit:20241024T120000
DTEND;TZID=America/Detroit:20241024T150000
SUMMARY:Other:The Farm Stand
DESCRIPTION:The Farm Stand is a weekly pop-up market and education project that sells produce grown by students for students. It is held on Thursdays from 12pm-3pm from August 22 through mid-November on South Ingalls Mall. Powered by the U-M Sustainable Food Program (UMSFP) and the Campus Farm at Matthaei Botanical Gardens (CF)\, this project seeks to increase access to local food for students and engage the wider U-M community in food systems learning and engagement opportunities. Students receive a 30% discount and the proceeds from the Farm Stand go towards funding student-led sustainable food initiatives here at the U-M through UMSFP’s mini-grants for food justice program.
UID:111676-21852510@events.umich.edu
URL:https://events.umich.edu/event/111676
CLASS:PUBLIC
STATUS:CONFIRMED
CATEGORIES:campus farm,community gathering,cultivating community,education,environmental justice,food,food and the environment,Food Justice,food sustainability,Food System,Health & Wellness,healthy eating,local food,Sustainability,vegetables
LOCATION:
CONTACT:
END:VEVENT
BEGIN:VEVENT
DTSTAMP:20240904T181925
DTSTART;TZID=America/Detroit:20241024T120000
DTEND;TZID=America/Detroit:20241024T123000
SUMMARY:Auditions:Tiffany Ng & Eric Whitmer\, carillon
DESCRIPTION:University Carillonist Tiffany Ng & Musicology PhD student Eric Whitmer performson the Charles Baird Carillon\, an instrument of 53 bronze bells located inside the Burton Memorial Tower. The largest bell\, which strikes the hour\, weighs 12 tons\, while the smallest bell\, 4½ octaves above\, weighs just 15 pounds.\n\nThirty-minute recitals are performed on the Charles Baird Carillon at noon every weekday that classes are in session\, followed by visitor Q&A with the carillonist. The bell chamber may be accessed via a combination of elevator and stairs. Take the elevator to the highest floor possible (floor 8)\, and then climb two flights of stairs (39 steps) to the bell chamber (floor 10). Earplugs are available from the carillonist upon request. Be prepared to walk on ice and snow in the bell chamber during winter. Built in 1936\, the Charles Baird Carillon is not ADA accessible. Visitors with mobility concerns are invited to visit the Lurie Carillon: https://smtd.umich.edu/facilities/ann-and-robert-h-lurie-carillon/
UID:125733-21855679@events.umich.edu
URL:https://events.umich.edu/event/125733
CLASS:PUBLIC
STATUS:CONFIRMED
CATEGORIES:Faculty,Free,Music,Talk
LOCATION:Burton Memorial Tower
CONTACT:
END:VEVENT
END:VCALENDAR