BEGIN:VCALENDAR
VERSION:2.0
PRODID:-//UM//UM*Events//EN
CALSCALE:GREGORIAN
BEGIN:VTIMEZONE
TZID:America/Detroit
TZURL:http://tzurl.org/zoneinfo/America/Detroit
X-LIC-LOCATION:America/Detroit
BEGIN:DAYLIGHT
TZOFFSETFROM:-0500
TZOFFSETTO:-0400
TZNAME:EDT
DTSTART:20070311T020000
RRULE:FREQ=YEARLY;BYMONTH=3;BYDAY=2SU
END:DAYLIGHT
BEGIN:STANDARD
TZOFFSETFROM:-0400
TZOFFSETTO:-0500
TZNAME:EST
DTSTART:20071104T020000
RRULE:FREQ=YEARLY;BYMONTH=11;BYDAY=1SU
END:STANDARD
END:VTIMEZONE
BEGIN:VEVENT
DTSTAMP:20241108T063240
DTSTART;TZID=America/Detroit:20241024T120000
DTEND;TZID=America/Detroit:20241024T130000
SUMMARY:Careers / Jobs:UMich x ArtBound Initiative: Intern abroad with top creative companies this Summer
DESCRIPTION:UMich Students - Secure a guaranteed creative Summer internship in Berlin\, London\, Melbourne\, Sydney\, New York\,Chicago or Los Angeles through the ArtBound Initiative program! The program includes: \na guaranteed internship with one of our 300+ company partners in the creative industry\ninternship preparation curriculum\nnetworking events\naccess to a global network of alumni and industry professionals\nRegister yourself here!  Visit our website at www.artboundinitiative.com for more info.
UID:127982-21859999@events.umich.edu
URL:https://events.umich.edu/event/127982
CLASS:PUBLIC
STATUS:CONFIRMED
CATEGORIES:
LOCATION:
CONTACT:
END:VEVENT
BEGIN:VEVENT
DTSTAMP:20241016T142824
DTSTART;TZID=America/Detroit:20241024T130000
DTEND;TZID=America/Detroit:20241024T140000
SUMMARY:Livestream / Virtual:E-Mobility Around the World: Lessons and Opportunities from Mexico\, Costa Rica and the Philippines
DESCRIPTION:Despite some cooling of electric vehicle sales in the U.S. market\, emerging markets around the world are creating their own hot spots on the electrification journey. Whether it’s new educational initiatives to prepare future EV business leaders and automotive workers to new policies and investments designed to create new EV innovation and manufacturing hubs\, there’s a lot to learn from a new generation of leaders and innovators across geographies. The William Davidson Institute at the University of Michigan (WDI) invites you to a learning webinar featuring EV leaders in Costa Rica\, Mexico and the Philippines. Each with a different market perspective\, this public WDI discussion will reveal how emerging actors and new collaborations are energizing the EV value chain.\n\nSpeakers:\nOctavio Jimenez\nFounder and Current Executive Director of the CEA Institute and Motoschool in Costa Rica since 1999. Graduate in Educational Administration and Master’s in Business Administration in Costa Rica.\n\nCynthia López\nExecutive Director of Desarrollo Económico de Ciudad Juárez\, a non-profit organization formed by the leaders of the top-performing companies in the region\, aiming to enhance the quality of life for its residents and boost the economy of the Juárez-El Paso region. López is also a leader in the sustainable urban mobility movement in Ciudad Juárez\, Mexico.\n\nAudie Vergara\nExecutive Director of Apl.de.Ap Foundation International (APLFI)\, leading efforts to strengthen middle-class communities in the Philippines through workforce development and education aimed at advancing skills in electronics\, semiconductors\, artificial intelligence\, and electric vehicles.\n\nDiana E. Páez\nSenior Director\, Energy & Mobility at WDI\, helping energy and mobility businesses and stakeholders in low and middle-income countries take advantage of business opportunities and adapt to changes brought about by the energy transition. To do so\, she leverages more than a decade of global development experience working with partners across government\, private sector\, academia\, and civil society.
UID:127929-21859942@events.umich.edu
URL:https://events.umich.edu/event/127929
CLASS:PUBLIC
STATUS:CONFIRMED
CATEGORIES:Entrepreneurship,Sustainability,Southeast Asia,Social Justice,Social Impact,Latin America,international economy,International Affairs,Global,Environment,Energy,Corporate,Business
LOCATION:Off Campus Location
CONTACT:
END:VEVENT
BEGIN:VEVENT
DTSTAMP:20240905T141330
DTSTART;TZID=America/Detroit:20241024T130000
DTEND;TZID=America/Detroit:20241024T140000
SUMMARY:Workshop / Seminar:Hub Workshop: Personal Statement Workshop
DESCRIPTION:One of the biggest hurdles for many in the grad school application process is the Personal Statement. This workshop will support you in the writing process. Whether you haven’t written a long-form piece in some time\, or if your classes have required regular writing\, the Personal Statement requires a different form and serves a unique function.\n\nTogether\, with a Hub coach and your peers\, we will work together to establish what makes a powerful and effective personal statement.\n\nYou should attend this workshop if you are:\n\nA liberal arts and/or sciences (LSA) student\n\nInterested in learning more about the possibility (and realities) of grad school\n\nDeciding if advanced study is a step you want to take\n\nCurious about what writing a Personal Statement entails (i.e what even is it?)\n\nLooking for some guidance for assessing if your Personal Statement is aligned with your interests and goals\n\nWhat you’ll gain by attending:\n\nInsight into best practices when writing a Personal Statement from various perspectives\n\nUnderstanding of different requirements and formats for different graduate schools\n\nHow to attack the writing process in an order that makes the most sense\n\nExploring and deciding between your varied experiences to provide schools with a well-rounded portrayal\n\nDiscover resources available to you throughout your application process\n\nIdentify areas of improvement within your existing personal statement\n\nRSVP today to reserve your spot for this upcoming workshop. Once your RSVP is complete\, you’ll receive a confirmation email with the event details. \n\n \n\nThe Opportunity Hub aims to deliver inclusive and accessible experiences and welcomes all LSA students to participate. This event is on the first floor of a wheelchair accessible building which includes wheelchair-accessible restrooms on the first floor\, a gender-inclusive and accessible restroom on the first floor as well\, and places to sit or stand during the event. To request other accommodations please contact LSA Hub Events at lsa.hubevents@umich.edu  or 734-763-4674 so we can make arrangements
UID:125852-21856177@events.umich.edu
URL:https://events.umich.edu/event/125852
CLASS:PUBLIC
STATUS:CONFIRMED
CATEGORIES:Career,Workshop,Transfer Student Center,Grad School
LOCATION:LSA Building - First Floor - Multipurpose Room
CONTACT:
END:VEVENT
END:VCALENDAR