BEGIN:VCALENDAR
VERSION:2.0
PRODID:-//UM//UM*Events//EN
CALSCALE:GREGORIAN
BEGIN:VTIMEZONE
TZID:America/Detroit
TZURL:http://tzurl.org/zoneinfo/America/Detroit
X-LIC-LOCATION:America/Detroit
BEGIN:DAYLIGHT
TZOFFSETFROM:-0500
TZOFFSETTO:-0400
TZNAME:EDT
DTSTART:20070311T020000
RRULE:FREQ=YEARLY;BYMONTH=3;BYDAY=2SU
END:DAYLIGHT
BEGIN:STANDARD
TZOFFSETFROM:-0400
TZOFFSETTO:-0500
TZNAME:EST
DTSTART:20071104T020000
RRULE:FREQ=YEARLY;BYMONTH=11;BYDAY=1SU
END:STANDARD
END:VTIMEZONE
BEGIN:VEVENT
DTSTAMP:20241023T095618
DTSTART;TZID=America/Detroit:20241024T130000
DTEND;TZID=America/Detroit:20241024T160000
SUMMARY:Livestream / Virtual:Pre-Law Drop-Ins
DESCRIPTION:During pre-law drop-in hours\, pre-law advisors are available to answer quick questions from all U-M Ann Arbor students and alumni.\n\nhttps://officehours.it.umich.edu/queue/1145
UID:124244-21852806@events.umich.edu
URL:https://events.umich.edu/event/124244
CLASS:PUBLIC
STATUS:CONFIRMED
CATEGORIES:Pre-Law
LOCATION:Off Campus Location
CONTACT:
END:VEVENT
BEGIN:VEVENT
DTSTAMP:20240904T181926
DTSTART;TZID=America/Detroit:20241024T132000
DTEND;TZID=America/Detroit:20241024T135000
SUMMARY:Performance:Lon Mitchell\, carillon
DESCRIPTION:Lon Mitchell performs on the Ann & Robert H. Lurie Carillon\, an instrument of 60 bells with the lowest bell (bourdon) weighing 6 tons.\n\nThirty-minute recitals are performed on the Lurie Carillon every weekday that classes are in session. During these recitals\, visitors may take the elevator to level 2 to view the largest bells\, or to level 3 to see the carillonist performing. (Visitors subject to acrophobia are recommended to visit level 2 only.) An optional spiral stairway between levels 2 and 3 allows for up-close views of some of the largest bells.
UID:125734-21855680@events.umich.edu
URL:https://events.umich.edu/event/125734
CLASS:PUBLIC
STATUS:CONFIRMED
CATEGORIES:Free,Music,North Campus,Talk
LOCATION:Lurie Ann & Robert H. Tower
CONTACT:
END:VEVENT
BEGIN:VEVENT
DTSTAMP:20241009T140315
DTSTART;TZID=America/Detroit:20241024T133000
DTEND;TZID=America/Detroit:20241024T143000
SUMMARY:Workshop / Seminar:ChE SEMINAR: Cole DeForest\, University of Washington
DESCRIPTION:A reception with light refreshments will be held in the B32 lobby before the seminar from 1-1:30 p.m.\n\nAbstract: Engineering heterogenous multicellular tissue with native complexity remains one of the holy grails of regenerative medicine and basic biological research. As success in this regard would yield powerful bioengineered constructs useful in functional transplantation\, high-throughput drug screening\, and fundamental biology investigation\, research efforts in our lab have centered around developing and implementing tools to spatiotemporally customize living cell function both from the “outside–in” and from the “inside–out”. In this talk\, I will discuss some of our group’s recent successes in reversibly modifying the chemical and physical aspects of synthetic cell culture platforms with user- defined and grayscale control\, regulating cell-biomaterial interactions through user-programmable Boolean logic\, engineering microvascular networks that span nearly all size scales of native human vasculature (including capillaries)\, irreversibly photoassembling bioactive proteins within living cells\, and driving biomolecular condensate formation using de novo-designed proteins. Results will highlight our ability to modulate intricate cellular behavior including stem cell differentiation\, protein secretion\, and cell-cell interactions in 4D.\n\nSpeaker Bio: Dr. Cole A. DeForest is the Weyerhaeuser Endowed Associate Professor in the Departments of Chemical Engineering and Bioengineering\, the Associate Chair and Graduate Program Director of Chemical Engineering\, the Director of Education of the Molecular Engineering &amp\; Sciences Institute\, as well as a core faculty member of the Institute for Stem Cell &amp\; Regenerative Medicine at the University of Washington (UW) where he began in 2014. He received his B.S.E. degree from Princeton University in 2006\, majoring in Chemical Engineering and minoring in Material Science Engineering and Bioengineering. He earned his Ph.D. degree under the guidance of Dr. Kristi Anseth from the University of Colorado in Chemical and Biological Engineering with an additional certificate in Molecular Biophysics. His postdoctoral research was performed with Dr. David Tirrell in the Divisions of Chemistry and Chemical Engineering at the California Institute of Technology (Caltech). He has published ~70 peer-reviewed articles\, including as the corresponding author for those appearing in Nature Materials\, Nature Chemistry\, Nature Chemical Engineering\, Advanced Materials\, JACS\, PNAS\, Science Advances\, Nature Reviews Materials\, and Nature Reviews Bioengineering. Dr. DeForest has received numerous research awards and honors including the Society for Biomaterials’ Young Investigator Award (2020)\, NIH Maximizing Investigators’ Research Award (MIRA R35\, 2020)\, NSF CAREER Award (2017)\, and many others. Notably\, he has also been recognized for excellence in teaching and was awarded the UW Presidential Distinguished Teaching Award (2016)\, given annually to a single Assistant Professor across all of the UW. His research has been supported through fellowships and grants from the National Science Foundation\, the National Institutes of Health\, the Defense Advanced Research Projects Agency\, and the US Department of Education.
UID:123192-21850489@events.umich.edu
URL:https://events.umich.edu/event/123192
CLASS:PUBLIC
STATUS:CONFIRMED
CATEGORIES:chemical engineering,Free,Graduate,Michigan Engineering,Undergraduate
LOCATION:North Campus Research Complex Building 32 - Auditorium
CONTACT:
END:VEVENT
END:VCALENDAR