BEGIN:VCALENDAR
VERSION:2.0
PRODID:-//UM//UM*Events//EN
CALSCALE:GREGORIAN
BEGIN:VTIMEZONE
TZID:America/Detroit
TZURL:http://tzurl.org/zoneinfo/America/Detroit
X-LIC-LOCATION:America/Detroit
BEGIN:DAYLIGHT
TZOFFSETFROM:-0500
TZOFFSETTO:-0400
TZNAME:EDT
DTSTART:20070311T020000
RRULE:FREQ=YEARLY;BYMONTH=3;BYDAY=2SU
END:DAYLIGHT
BEGIN:STANDARD
TZOFFSETFROM:-0400
TZOFFSETTO:-0500
TZNAME:EST
DTSTART:20071104T020000
RRULE:FREQ=YEARLY;BYMONTH=11;BYDAY=1SU
END:STANDARD
END:VTIMEZONE
BEGIN:VEVENT
DTSTAMP:20241009T110546
DTSTART;TZID=America/Detroit:20241115T120000
DTEND;TZID=America/Detroit:20241115T130000
SUMMARY:Workshop / Seminar:Affinity optimizing variants disrupt development
DESCRIPTION:Host: Ken Cadigan
UID:127565-21859336@events.umich.edu
URL:https://events.umich.edu/event/127565
CLASS:PUBLIC
STATUS:CONFIRMED
CATEGORIES:Basic Science,Science,Research,Natural Sciences,Bsbsigns,Biosciences,Biology
LOCATION:Biological Sciences Building - 1060
CONTACT:
END:VEVENT
BEGIN:VEVENT
DTSTAMP:20241115T112033
DTSTART;TZID=America/Detroit:20241115T120000
DTEND;TZID=America/Detroit:20241115T133000
SUMMARY:Workshop / Seminar:Creating Effective Materials
DESCRIPTION:This workshop will go over what makes for effective materials like resume and portfolio.  Need to have these reviewed?  Bring them with you!
UID:126498-21857203@events.umich.edu
URL:https://events.umich.edu/event/126498
CLASS:PUBLIC
STATUS:CONFIRMED
CATEGORIES:
LOCATION:Room 2030 Art &amp; Architecture Building
CONTACT:
END:VEVENT
BEGIN:VEVENT
DTSTAMP:20240916T110320
DTSTART;TZID=America/Detroit:20241115T120000
DTEND;TZID=America/Detroit:20241115T140000
SUMMARY:Workshop / Seminar:ESG Information Provided by Firms
DESCRIPTION:The ESG (Environmental\, Social\, and Governance) Workshop Series is designed to educate and engage students on key sustainability and ethical considerations in business and investment practices. Through a series of interactive sessions\, the workshops will cover a range of topics\, including reporting and regulatory frameworks\, data providers\, and the impact of ESG factors on financial performance and risk management.\n\nThis event covers the types of ESG information provided by firms.  Facilitated by Professor Gwen Yu\, this event is open to all students.
UID:126500-21857205@events.umich.edu
URL:https://events.umich.edu/event/126500
CLASS:PUBLIC
STATUS:CONFIRMED
CATEGORIES:Social Justice,Social Impact,Interdisciplinary,Graduate Students,Corporate,Business
LOCATION:Ross School of Business - R0220
CONTACT:
END:VEVENT
END:VCALENDAR