BEGIN:VCALENDAR
VERSION:2.0
PRODID:-//UM//UM*Events//EN
CALSCALE:GREGORIAN
BEGIN:VTIMEZONE
TZID:America/Detroit
TZURL:http://tzurl.org/zoneinfo/America/Detroit
X-LIC-LOCATION:America/Detroit
BEGIN:DAYLIGHT
TZOFFSETFROM:-0500
TZOFFSETTO:-0400
TZNAME:EDT
DTSTART:20070311T020000
RRULE:FREQ=YEARLY;BYMONTH=3;BYDAY=2SU
END:DAYLIGHT
BEGIN:STANDARD
TZOFFSETFROM:-0400
TZOFFSETTO:-0500
TZNAME:EST
DTSTART:20071104T020000
RRULE:FREQ=YEARLY;BYMONTH=11;BYDAY=1SU
END:STANDARD
END:VTIMEZONE
BEGIN:VEVENT
DTSTAMP:20241108T123207
DTSTART;TZID=America/Detroit:20241024T143000
DTEND;TZID=America/Detroit:20241024T150000
SUMMARY:Careers / Jobs:Brooke Charter Schools Associate Teacher Virtual Information Session
DESCRIPTION:Are you ready to launch your career as a teacher at one of the top-performing schools in Boston? Join us for a virtualinformation session about our Associate Teacher Program\, a salaried\, school-based teacher preparation program that empowers aspiring educators tobecome successful lead teachers in just one year. You will hear from the Director of the Associate Teacher Program and about her first-hand experience as an 2015 Associate Teacher alum about school culture\, the structureof the program\, mentorship and professional development\, compensation\,and more!
UID:127623-21859407@events.umich.edu
URL:https://events.umich.edu/event/127623
CLASS:PUBLIC
STATUS:CONFIRMED
CATEGORIES:
LOCATION:
CONTACT:
END:VEVENT
BEGIN:VEVENT
DTSTAMP:20241108T123159
DTSTART;TZID=America/Detroit:20241024T143000
DTEND;TZID=America/Detroit:20241024T144500
SUMMARY:Careers / Jobs:M&T Bank Information Blitz - 10/24/2024
DESCRIPTION:Come join the Early Talent Team at M&amp\;T Bank for a fun and fast session to learn about what it's like to work at a Community Bank! We'll cover who we are as an organization as well as full time and internship opportunities we're currently hiring for. Come as youare! No pressure for video - join between classes or on a break! Don’t forget to follow us on Handshake as well!  Handshake - M&amp\;T Bank *Multiple sessions available to join throughout the fall semester!
UID:127230-21858677@events.umich.edu
URL:https://events.umich.edu/event/127230
CLASS:PUBLIC
STATUS:CONFIRMED
CATEGORIES:
LOCATION:
CONTACT:
END:VEVENT
BEGIN:VEVENT
DTSTAMP:20241024T142044
DTSTART;TZID=America/Detroit:20241024T150000
DTEND;TZID=America/Detroit:20241024T170000
SUMMARY:Workshop / Seminar:[DEICP] Change It Up!© Bystander Intervention
DESCRIPTION:Change It Up!© brings bystander intervention skills to students for the purpose of building supportive and respectful communities. Change It Up!© is based on a nationally recognized five-step bystander intervention model that develops students’ skills and confidence when intervening in situations that negatively impact campus climate. This workshop explores how students’ identities and experiences impact their interactions inside and outside of the classroom. Through interactive theater\, students apply the five steps to real-life scenarios and have an opportunity to practice and discuss how they can leverage these skills within their campus communities.\n\n\nLearning Objectives:\nGain an understanding of what it means to be a bystander and factors that influence intervention\nGain multiple strategies to intervene and disrupt harm such as microaggressions\, bias incidents\, stereotyping\, sexual harassment\, etc.\nAct as an ally and educator\, especially when you hold privilege and power and witness harm to those who do not hold privilege and power\nLearn how to receive and respond to feedback about harm you caused\, even if unintentional\nThis workshop is designed for University of Michigan master's students\, doctoral students\, and postdoctoral fellows. For faculty and staff\, please contact rackhampdeworkshops@umich.edu to see if we can accommodate your attendance.
UID:124898-21854014@events.umich.edu
URL:https://events.umich.edu/event/124898
CLASS:PUBLIC
STATUS:CONFIRMED
CATEGORIES:Sessions
LOCATION:Michigan League 2nd Floor: Kalamazoo Room
CONTACT:
END:VEVENT
END:VCALENDAR