BEGIN:VCALENDAR
VERSION:2.0
PRODID:-//UM//UM*Events//EN
CALSCALE:GREGORIAN
BEGIN:VTIMEZONE
TZID:America/Detroit
TZURL:http://tzurl.org/zoneinfo/America/Detroit
X-LIC-LOCATION:America/Detroit
BEGIN:DAYLIGHT
TZOFFSETFROM:-0500
TZOFFSETTO:-0400
TZNAME:EDT
DTSTART:20070311T020000
RRULE:FREQ=YEARLY;BYMONTH=3;BYDAY=2SU
END:DAYLIGHT
BEGIN:STANDARD
TZOFFSETFROM:-0400
TZOFFSETTO:-0500
TZNAME:EST
DTSTART:20071104T020000
RRULE:FREQ=YEARLY;BYMONTH=11;BYDAY=1SU
END:STANDARD
END:VTIMEZONE
BEGIN:VEVENT
DTSTAMP:20241111T122323
DTSTART;TZID=America/Detroit:20241115T120000
DTEND;TZID=America/Detroit:20241115T130000
SUMMARY:Lecture / Discussion:Gentlemen’s Agreements: Applying Contemporary Archaeological Ethics in an Archival Setting
DESCRIPTION:Since 2008\, the Michigan State University Excavations at Isthmia has been engaged in an effort to digitize and share openly the contents of its archive of archaeological information. In addition to complications common to all archival projects\, this effort has also encountered difficulties with sharing the evidence that has been generated according to decades-old traditions of archaeological fieldwork. Where today many academic institutions and professional organizations have established policies that protect individuals on archaeological projects\, these codes of ethics can only highlight moments in the past when such practices were not observed. Moreover\, they do not suggest a means of remedy or redress. Thus\, for archival archaeologists\, simple questions of intellectual property\, publication rights\, and the transfer of copyright between institutional sponsors do not have easy answers. This paper discusses three examples of the challenges to observing contemporary academic ethics in an archival setting: the use of memoranda of understanding in (re)establishing publication rights\, the search for former project staff to establish intellectual property rights\, and the publication of unattributed archival materials in digital format. Hopefully\, these experiences will raise awareness of places where such older traditions remain in practice and in so doing\, show that archival archaeology can play a role in shaping future fieldwork as it looks critically at our methodological past.
UID:129013-21862021@events.umich.edu
URL:https://events.umich.edu/event/129013
CLASS:PUBLIC
STATUS:CONFIRMED
CATEGORIES:Archaeology,Classical Studies
LOCATION:School of Education - 1322
CONTACT:
END:VEVENT
BEGIN:VEVENT
DTSTAMP:20260112T144046
DTSTART;TZID=America/Detroit:20241115T120000
DTEND;TZID=America/Detroit:20241115T123000
SUMMARY:Well-being:Heartfulness Guided Meditation
DESCRIPTION:Heartfulness Guided Meditation is a weekly\, drop-in program designed to help you Mental well-being. \n\nAll U-M students\, faculty\, and staff are welcome to participate in guided meditation practice with a trainer every Friday at noon over Zoom (details to join are provided below). No prior experience with meditation is required. \n\n*What will you learn?*\n\nThe guided meditation practice involves three simple steps: relaxation\, rejuvenation\, and meditation.\n\nRelaxation brings your body to a calm\, steady posture creating a stillness at the physical level\, and prepares the mind for meditation. We follow this with a rejuvenation method to detox the mind to let go of stress and complex emotions\, and will leave you feeling light and refreshed. Lastly\, learning to meditate by being mindful of your heart will connect you with yourself by listening to your heart’s voice. \n\n*Why Meditate?*\n\nWhile physical fitness keeps our bodies in shape\, meditation is an exercise for the mind and mental wellness. In addition to the measurable benefits mentally and physically\, many people benefit from an unquantifiable inner poise and harmony. \n\n*Please take Learn to Meditate session if you are new to the practice. These sessions are offered Monthly.* https://events.umich.edu/event/128708\n\n*Event Details*\n\nHeartfulness Guided Meditation \nFridays from 12-12:30 p.m. ET (except during university season days / holidays)\nJoin Via Zoom Meeting\nRegister to receive Passcode (see “Related links”\n\n\nThis wellness program is coordinated by ITS Teaching & Learning and provided at no cost by heartfulness.org.
UID:88544-21836958@events.umich.edu
URL:https://events.umich.edu/event/88544
CLASS:PUBLIC
STATUS:CONFIRMED
CATEGORIES:Free,Health & Wellness,Well-being
LOCATION:
CONTACT:
END:VEVENT
BEGIN:VEVENT
DTSTAMP:20241130T123112
DTSTART;TZID=America/Detroit:20241115T120000
DTEND;TZID=America/Detroit:20241115T130000
SUMMARY:Careers / Jobs:Intuit Info Session: Undergrad Finance Internships 2025
DESCRIPTION:Intuit’s Finance Community and Talent Acquisition teams will be hosting a 60-minute info session focused on our undergrad summer 2025 opportunities. You will learn more about Intuit and what Finance in theTech Industry is like! We will also discuss the team\, opportunities\, and interview process. We will also leave plenty of time for Q&amp\;A!
UID:128217-21860445@events.umich.edu
URL:https://events.umich.edu/event/128217
CLASS:PUBLIC
STATUS:CONFIRMED
CATEGORIES:
LOCATION:
CONTACT:
END:VEVENT
END:VCALENDAR