BEGIN:VCALENDAR
VERSION:2.0
PRODID:-//UM//UM*Events//EN
CALSCALE:GREGORIAN
BEGIN:VTIMEZONE
TZID:America/Detroit
TZURL:http://tzurl.org/zoneinfo/America/Detroit
X-LIC-LOCATION:America/Detroit
BEGIN:DAYLIGHT
TZOFFSETFROM:-0500
TZOFFSETTO:-0400
TZNAME:EDT
DTSTART:20070311T020000
RRULE:FREQ=YEARLY;BYMONTH=3;BYDAY=2SU
END:DAYLIGHT
BEGIN:STANDARD
TZOFFSETFROM:-0400
TZOFFSETTO:-0500
TZNAME:EST
DTSTART:20071104T020000
RRULE:FREQ=YEARLY;BYMONTH=11;BYDAY=1SU
END:STANDARD
END:VTIMEZONE
BEGIN:VEVENT
DTSTAMP:20241108T123146
DTSTART;TZID=America/Detroit:20241024T150000
DTEND;TZID=America/Detroit:20241024T163000
SUMMARY:Careers / Jobs:2024 Your Future @ Roche: Mass Spectrometry
DESCRIPTION:Your Future @ Roche: Mass Spectrometry will give you an exciting look into how Roche is advancing their mission with a lens toward diversity and inclusion. Mass spectrometry is a technique used to measure the number of molecules present in a sample. This process allows researchersto apply analytical techniques to determine the composition of a sample.Join us virtually for a &nbsp\;panel discussion with presentations from Roche employees to discuss the new technology for liquid chromatography and Mass Spectrometry that will add value to the patients as well as ourcompany globally.We will also share information on how to apply for the Roche Internship Program.&nbsp\;Our 12-week summer internships are available in several functions across the company. &nbsp\;Toregister for the event\, please visit our Event Page. &nbsp\;Log in information for the event will be sent to those that register on our event page. &nbsp\;We look forward to seeing you there!&nbsp\;
UID:126307-21856865@events.umich.edu
URL:https://events.umich.edu/event/126307
CLASS:PUBLIC
STATUS:CONFIRMED
CATEGORIES:
LOCATION:
CONTACT:
END:VEVENT
BEGIN:VEVENT
DTSTAMP:20240826T121539
DTSTART;TZID=America/Detroit:20241024T150000
DTEND;TZID=America/Detroit:20241024T170000
SUMMARY:Workshop / Seminar:Change It Up!© Bystander Intervention
DESCRIPTION:Change It Up!© brings bystander intervention skills to students for the purpose of building supportive and respectful communities. Change It Up!© is based on a nationally recognized five-step bystander intervention model that develops students’ skills and confidence when intervening in situations that negatively impact campus climate. This workshop explores how students’ identities and experiences impact their interactions inside and outside of the classroom. Through interactive theater\, students apply the five steps to real-life scenarios and have an opportunity to practice and discuss how they can leverage these skills within their campus communities.\nLearning Objectives:\n\nGain an understanding of what it means to be a bystander and factors that influence intervention\nGain multiple strategies to intervene and disrupt harm such as microaggressions\, bias incidents\, stereotyping\, sexual harassment\, etc.\nAct as an ally and educator\, especially when you hold privilege and power and witness harm to those who do not hold privilege and power\nLearn how to receive and respond to feedback about harm you caused\, even if unintentional\n\nThis workshop is designed for University of Michigan master’s students\, doctoral students\, and postdoctoral fellows. For faculty and staff\, please contact rackhampdeworkshops@umich.edu to see if we can accommodate your attendance.\nRegistration is required at https://myumi.ch/ErA2J.\nWe want to ensure full and equitable participation in our events. If an accommodation would promote your full participation in this event\, please follow the registration link to indicate your accommodation requirements. Please let us know as soon as possible in order to have adequate time\, preferably one week\, to arrange for your requested accommodations or an effective alternative.
UID:124930-21854068@events.umich.edu
URL:https://events.umich.edu/event/124930
CLASS:PUBLIC
STATUS:CONFIRMED
CATEGORIES:Diversity,Graduate Students
LOCATION:Michigan League
CONTACT:
END:VEVENT
BEGIN:VEVENT
DTSTAMP:20241108T123157
DTSTART;TZID=America/Detroit:20241024T150000
DTEND;TZID=America/Detroit:20241024T153000
SUMMARY:Careers / Jobs:Exact Sciences- Wisconsin STEM Connect: Virtual Career Kick off
DESCRIPTION:Are you majoring in a STEM field? Are you curious about howyou can apply that to the biotechnology industry to make a difference?Join us for the Exact Sciences–Wisconsin STEM Connect: Virtual Career Kick-Off and hear from employees who have walked your path. In this panel\, you'll learn from Exact Sciences professionals in various STEM roles from engineering\, to lab science\, medical writing\, and more. Thispanel will give you an inside look at how you can help shape the future of cancer diagnostics in your role with Exact Sciences. Discover firsthand what entry-level positions are available and how you can make a meaningfulimpact in your work.Register now to explore your future with ExactSciences!&nbsp\;&nbsp\;&nbsp\;At Exact Sciences\, we are cancer fighters. We are united by our mission to change lives by providing earlier\, smarter answers. Through advances in cancer detection and treatment guidance\, we will help eradicate the disease and the suffering it causes. We are driven to find ambitious\, dynamic individuals who thrive in a team-based environment and can help us take another step toward winning the war on cancer through early detection.
UID:127595-21859379@events.umich.edu
URL:https://events.umich.edu/event/127595
CLASS:PUBLIC
STATUS:CONFIRMED
CATEGORIES:
LOCATION:
CONTACT:
END:VEVENT
END:VCALENDAR