BEGIN:VCALENDAR
VERSION:2.0
PRODID:-//UM//UM*Events//EN
CALSCALE:GREGORIAN
BEGIN:VTIMEZONE
TZID:America/Detroit
TZURL:http://tzurl.org/zoneinfo/America/Detroit
X-LIC-LOCATION:America/Detroit
BEGIN:DAYLIGHT
TZOFFSETFROM:-0500
TZOFFSETTO:-0400
TZNAME:EDT
DTSTART:20070311T020000
RRULE:FREQ=YEARLY;BYMONTH=3;BYDAY=2SU
END:DAYLIGHT
BEGIN:STANDARD
TZOFFSETFROM:-0400
TZOFFSETTO:-0500
TZNAME:EST
DTSTART:20071104T020000
RRULE:FREQ=YEARLY;BYMONTH=11;BYDAY=1SU
END:STANDARD
END:VTIMEZONE
BEGIN:VEVENT
DTSTAMP:20241126T095344
DTSTART;TZID=America/Detroit:20241115T120000
DTEND;TZID=America/Detroit:20241115T133000
SUMMARY:Social / Informal Gathering:QTBIPOC Kickbacks
DESCRIPTION:Find your community. Join us for community and meals\, centering students who are queer and trans Black\, indigenous\, and people of color. Drop in\, grab food\, and hang out!\n\n- September 25\, 4:30 - 6:00 p.m.\, Trotter Multicultural Center\, Sankofa Lounge\n- November 15\, 12:00 - 1:30 p.m.\, Spectrum Center/MESA shared space\n- December 4\, 5:30 - 7:00 p.m. (Union Rec - grads only)\n\nThis program is jointly presented by the Office of Multi-Ethnic Student Affairs\, Spectrum Center\, and Trotter Multicultural Center\, and is open to all U-M students.
UID:123738-21851520@events.umich.edu
URL:https://events.umich.edu/event/123738
CLASS:PUBLIC
STATUS:CONFIRMED
CATEGORIES:LGBT,Queer Trans Black Indigenous People Of Color-qtbipoc,LGBTQ Graduate Student,Diversity Equity and Inclusion
LOCATION:Michigan Union - MESA-Spectrum Center shared space (3000-3020)
CONTACT:
END:VEVENT
BEGIN:VEVENT
DTSTAMP:20241115T112033
DTSTART;TZID=America/Detroit:20241115T120000
DTEND;TZID=America/Detroit:20241115T133000
SUMMARY:Workshop / Seminar:Round Table Insight Sessions: A series of open discussions with ME students
DESCRIPTION:We invite you to participate in a series of student roundtable discussions\, centering and exploring the experiences of ME students. Students at all levels are welcome to join\, from undergraduate to Masters to PhD. These sessions are meant to bridge gaps in our community and show commitment of mutual support. \nShare Your TruthThis is your platform to express your experiences\, aspirations\, and concerns within our department. Your stories matter\, and we are here to actively listen and learn from each other.\nForge ConnectionsConnect with fellow students who understand your journey. Build supportive networks\, exchange ideas\, and foster a sense of belonging within our community.\nInclusivity in ActionWhile our focus is on amplifying the voices of marginalized students\, we embrace and celebrate the diversity within our community. Allies and friends committed to creating an inclusive environment are warmly encouraged to join us.\nEach session will provide a meal and a ME swag item to all participants. To help us plan times for sessions please fill out the interest form by clicking on the button below. We look forward to connecting with you.
UID:128784-21861624@events.umich.edu
URL:https://events.umich.edu/event/128784
CLASS:PUBLIC
STATUS:CONFIRMED
CATEGORIES:
LOCATION:
CONTACT:
END:VEVENT
BEGIN:VEVENT
DTSTAMP:20240829T001446
DTSTART;TZID=America/Detroit:20241115T120000
DTEND;TZID=America/Detroit:20241115T130000
SUMMARY:Workshop / Seminar:Seminar Series: Grant Prix
DESCRIPTION:Join the Office of Research Development for a seminar series on research proposal development\, featuring a range of topics designed to boost grant writing expertise! Each session will provide valuable insights from experienced research development staff and offer practical strategies to help you secure funding for your projects. Register now for an opportunity to elevate your grant writing skills.
UID:125278-21854640@events.umich.edu
URL:https://events.umich.edu/event/125278
CLASS:PUBLIC
STATUS:CONFIRMED
CATEGORIES:Grantwriting,Proposal,Research,Writing
LOCATION:Off Campus Location
CONTACT:
END:VEVENT
END:VCALENDAR