BEGIN:VCALENDAR
VERSION:2.0
PRODID:-//UM//UM*Events//EN
CALSCALE:GREGORIAN
BEGIN:VTIMEZONE
TZID:America/Detroit
TZURL:http://tzurl.org/zoneinfo/America/Detroit
X-LIC-LOCATION:America/Detroit
BEGIN:DAYLIGHT
TZOFFSETFROM:-0500
TZOFFSETTO:-0400
TZNAME:EDT
DTSTART:20070311T020000
RRULE:FREQ=YEARLY;BYMONTH=3;BYDAY=2SU
END:DAYLIGHT
BEGIN:STANDARD
TZOFFSETFROM:-0400
TZOFFSETTO:-0500
TZNAME:EST
DTSTART:20071104T020000
RRULE:FREQ=YEARLY;BYMONTH=11;BYDAY=1SU
END:STANDARD
END:VTIMEZONE
BEGIN:VEVENT
DTSTAMP:20241108T123152
DTSTART;TZID=America/Detroit:20241024T150000
DTEND;TZID=America/Detroit:20241024T160000
SUMMARY:Careers / Jobs:Internship Lab
DESCRIPTION:*RSVP required to attend. Click \"Join Event\" here: https://umich.joinhandshake.com/events/1610305/share_previewAre you ready to start searching for a great internship? Do you have a few ideas\, but you’re not sure where to get started? Let's talk about search strategy!! Get real-time\, personalized support by checking out the in person Internship Lab. You’ll be guided by one of our Career Coaches whohas designed this experience to provide you strategies\, tools\, and motivation to get on the right track with searching for internships. Chat with folks from the University Career Center to explore Handshake\, the University Career Alumni Network (UCAN) and to learn about other tools you can use to build a great job/internship search strategy. **If you're not sure what you're interested in\, consider making an \"Exploring Major/Career Option\" appointment to get started clarifying your interests with a career coach in a 1-on-1 setting. Recent Grads: If you are an alumni\, you will not be able to access the link due the University’s policy of discontinuing alumni Zoom accounts 30 days after graduation. Please contact careercenter@umich.edu with the subject line “Recent Grad Help” to receive either a recording of the session orto be set up with a 1:1. Include the name of the workshop/event in your email.
UID:126637-21857458@events.umich.edu
URL:https://events.umich.edu/event/126637
CLASS:PUBLIC
STATUS:CONFIRMED
CATEGORIES:
LOCATION:University Career Center, 3200 Student Activities Building, Program Room (3003), 515 E Jefferson St, Ann Arbor, MI, United States
CONTACT:
END:VEVENT
BEGIN:VEVENT
DTSTAMP:20241108T123139
DTSTART;TZID=America/Detroit:20241024T150000
DTEND;TZID=America/Detroit:20241024T160000
SUMMARY:Careers / Jobs:SMBC – Ask Me Anything
DESCRIPTION:Join us for a virtual \"Ask Me Anything\" with a member of the Campus Recruitment team at SMBC. This event is for current undergraduatefirst-year students interested in learning about SMBC’s and future career opportunities within the financial services industry.During the session\, you’ll have the opportunity to learn about: \nSMBC – Our businesses and our culture\nNetworking tips &amp\; tricks\nHow to build a good resume\nUpcoming events and professional workshops\nApplication process and timelines for our internship programs\nAsk any questions you may have about SMBC\, ourteams\, or the industry in general \nEligibility - Freshmen/1st Year students in a four year undergraduate program.As this event is invite only and space is limited\, please register at the earliest. We will notify you with the virtual event link once your participation is confirmed.  
UID:125266-21854626@events.umich.edu
URL:https://events.umich.edu/event/125266
CLASS:PUBLIC
STATUS:CONFIRMED
CATEGORIES:
LOCATION:
CONTACT:
END:VEVENT
BEGIN:VEVENT
DTSTAMP:20241002T125155
DTSTART;TZID=America/Detroit:20241024T150000
DTEND;TZID=America/Detroit:20241024T153000
SUMMARY:Workshop / Seminar:Tech Talk: PC Gaming Tips
DESCRIPTION:For those just getting started or looking to optimize their gear\, get some guidance on set-up\, peripherals and more! Get the inside scoop on:\n* gaming PCs vs. gaming consoles\n* how specific PC components affect performance\n* what to look for in gaming peripherals\n\nWho: Open to all\nWhen: Thursdays at 3 p.m. (lasting 20-30 minutes\, with option for Q&A and personal consulting to follow)\nWhere: Michigan Union | Ground Floor\n\nIt would be great if you registered to let us know you’re coming\, but drop-ins are also welcome!
UID:127315-21858855@events.umich.edu
URL:https://events.umich.edu/event/127315
CLASS:PUBLIC
STATUS:CONFIRMED
CATEGORIES:Free,In Person,technology,Workshop
LOCATION:Michigan Union - G-310
CONTACT:
END:VEVENT
END:VCALENDAR