BEGIN:VCALENDAR
VERSION:2.0
PRODID:-//UM//UM*Events//EN
CALSCALE:GREGORIAN
BEGIN:VTIMEZONE
TZID:America/Detroit
TZURL:http://tzurl.org/zoneinfo/America/Detroit
X-LIC-LOCATION:America/Detroit
BEGIN:DAYLIGHT
TZOFFSETFROM:-0500
TZOFFSETTO:-0400
TZNAME:EDT
DTSTART:20070311T020000
RRULE:FREQ=YEARLY;BYMONTH=3;BYDAY=2SU
END:DAYLIGHT
BEGIN:STANDARD
TZOFFSETFROM:-0400
TZOFFSETTO:-0500
TZNAME:EST
DTSTART:20071104T020000
RRULE:FREQ=YEARLY;BYMONTH=11;BYDAY=1SU
END:STANDARD
END:VTIMEZONE
BEGIN:VEVENT
DTSTAMP:20241115T112033
DTSTART;TZID=America/Detroit:20241115T120000
DTEND;TZID=America/Detroit:20241115T140000
SUMMARY:Workshop / Seminar:Trotter Opening Commemoration
DESCRIPTION:On November 15\, 1971\, Trotter House\, a Black Student Cultural Center\, opened its doors for the first time. We want to extend our community the invitation to celebrate with us the founding of the original Trotter House\, and the legacy of Black Student Activism that has led us to where we are today! Delectable appetizers will be served. \n\nCan’t wait to see you all there!
UID:127305-21858836@events.umich.edu
URL:https://events.umich.edu/event/127305
CLASS:PUBLIC
STATUS:CONFIRMED
CATEGORIES:
LOCATION:Trotter Multicultural Center - Sankofa Lounge
CONTACT:
END:VEVENT
BEGIN:VEVENT
DTSTAMP:20241115T122034
DTSTART;TZID=America/Detroit:20241115T123000
DTEND;TZID=America/Detroit:20241115T133000
SUMMARY:Workshop / Seminar:IPE Fall Funding Info Session
DESCRIPTION:Join IPE and a representative from Financial Aid to learn more about getting your international experience funded + financial aid. 
UID:125876-21856209@events.umich.edu
URL:https://events.umich.edu/event/125876
CLASS:PUBLIC
STATUS:CONFIRMED
CATEGORIES:Sessions
LOCATION:
CONTACT:
END:VEVENT
BEGIN:VEVENT
DTSTAMP:20241130T123122
DTSTART;TZID=America/Detroit:20241115T130000
DTEND;TZID=America/Detroit:20241115T140000
SUMMARY:Careers / Jobs:A&M Restructuring Virtual Presentation l Meet a Senior Leader
DESCRIPTION:Alvarez &amp\; Marsal (A&amp\;M) is excited to invite you to a virtual presentation with a Senior Leader in the Restructuring Group! This is a great opportunity for those interested in Consulting and Financeto hear from a Senior Leader about their experiences\, insights\, and howtheir time with us shaped their careers. We also will discuss our open consulting restructuring internship opportunities for 2026.   About A&amp\;M Restructuring: Privately-held since 1983\, Alvarez &amp\; Marsal (“A&amp\;M”) is a leading global professional services firm that delivers performance improvement\, turnaround management\, and business advisory services to organizations seeking to transform operations\, catapult growth and accelerate results through decisive action.   For over 40 years A&amp\;M has been a trusted advisorto our Turnaround and Restructuring clients. Our team works on some of the most complex and interesting projects available. If you're interested inrestructuring consulting and looking for a new challenge\, a fast-paced team environment and an inclusive culture\, check out our presentation!  #Likewhatyoudo #lovewhoyoudoitwith 
UID:128798-21861640@events.umich.edu
URL:https://events.umich.edu/event/128798
CLASS:PUBLIC
STATUS:CONFIRMED
CATEGORIES:
LOCATION:
CONTACT:
END:VEVENT
END:VCALENDAR