BEGIN:VCALENDAR
VERSION:2.0
PRODID:-//UM//UM*Events//EN
CALSCALE:GREGORIAN
BEGIN:VTIMEZONE
TZID:America/Detroit
TZURL:http://tzurl.org/zoneinfo/America/Detroit
X-LIC-LOCATION:America/Detroit
BEGIN:DAYLIGHT
TZOFFSETFROM:-0500
TZOFFSETTO:-0400
TZNAME:EDT
DTSTART:20070311T020000
RRULE:FREQ=YEARLY;BYMONTH=3;BYDAY=2SU
END:DAYLIGHT
BEGIN:STANDARD
TZOFFSETFROM:-0400
TZOFFSETTO:-0500
TZNAME:EST
DTSTART:20071104T020000
RRULE:FREQ=YEARLY;BYMONTH=11;BYDAY=1SU
END:STANDARD
END:VTIMEZONE
BEGIN:VEVENT
DTSTAMP:20240905T154556
DTSTART;TZID=America/Detroit:20241024T150000
DTEND;TZID=America/Detroit:20241024T160000
SUMMARY:Auditions:test tag
DESCRIPTION:dfbdsbesgevfdfg
UID:125873-21856202@events.umich.edu
URL:https://events.umich.edu/event/125873
CLASS:PUBLIC
STATUS:CONFIRMED
CATEGORIES:Culture
LOCATION:Student Activities Building
CONTACT:
END:VEVENT
BEGIN:VEVENT
DTSTAMP:20241108T123141
DTSTART;TZID=America/Detroit:20241024T150000
DTEND;TZID=America/Detroit:20241024T160000
SUMMARY:Careers / Jobs:Wipfli 101: Navigating Diversity\, Equity\, and Inclusion in a Polarized Environment
DESCRIPTION:Join us for an engaging and insightful session tailored forstudents transitioning into the workforce. This event aims to provide a comprehensive understanding of how to embrace Diversity\, Equity\, and Inclusion (DEI) in a polarized environment. Participants will have the unique opportunity to hear from Wipfli’s Director of DEI\, David Romero\, who will share his expertise on the current state of polarization in the U.S. workforce. He will also offer practical tools and strategies to navigate and manage these challenges effectively. Don’t miss out on discovering theWipfli experience!   The event agenda will include:  \nA brief presentation highlighting Wipfli\, our various service lines\, and the culture within our organization\nAn engaging presentation by David Romero\nOpen Q&amp\;A\n This nationwide program will be held virtually on October 24th from 3-4 pm CST.    Qualifications: Ideal candidates for this opportunity would be students in any year of their educational career working towards a career within Public Accounting or Consulting.   RSVP here! http://careers-wipfli.icims.com/connect?eventId=18920&amp\;shareLink=1  Secure your spot by October 22nd\, 2024\, to be part of the discussion!
UID:125811-21856128@events.umich.edu
URL:https://events.umich.edu/event/125811
CLASS:PUBLIC
STATUS:CONFIRMED
CATEGORIES:
LOCATION:
CONTACT:
END:VEVENT
BEGIN:VEVENT
DTSTAMP:20241007T101144
DTSTART;TZID=America/Detroit:20241024T153000
DTEND;TZID=America/Detroit:20241024T170000
SUMMARY:Workshop / Seminar:Introduction to Internal Resources for Humanities Scholarship
DESCRIPTION:The Humanities Collaboratory is offering its second annual Research Orientation Series beginning in September 2024. This is a series of four events created for new humanities faculty at the University of Michigan. Participants will leave each event with a clearer understanding of the landscape of humanities scholarship funding and armed with contacts to provide help in the process of finding funding. \n\nThese events are in collaboration with the Office of the Vice President of Research and the LSA Research Office. Slides and other information will be shared with participants after the event.\n\nAll events are held at the Collaboratory space\, located in the Hatcher Graduate Library Gallery.
UID:127470-21859185@events.umich.edu
URL:https://events.umich.edu/event/127470
CLASS:PUBLIC
STATUS:CONFIRMED
CATEGORIES:Applications,Humanities,In Person,Orientation,Scholarship
LOCATION:Hatcher Graduate Library - Collaboratory
CONTACT:
END:VEVENT
END:VCALENDAR