BEGIN:VCALENDAR
VERSION:2.0
PRODID:-//UM//UM*Events//EN
CALSCALE:GREGORIAN
BEGIN:VTIMEZONE
TZID:America/Detroit
TZURL:http://tzurl.org/zoneinfo/America/Detroit
X-LIC-LOCATION:America/Detroit
BEGIN:DAYLIGHT
TZOFFSETFROM:-0500
TZOFFSETTO:-0400
TZNAME:EDT
DTSTART:20070311T020000
RRULE:FREQ=YEARLY;BYMONTH=3;BYDAY=2SU
END:DAYLIGHT
BEGIN:STANDARD
TZOFFSETFROM:-0400
TZOFFSETTO:-0500
TZNAME:EST
DTSTART:20071104T020000
RRULE:FREQ=YEARLY;BYMONTH=11;BYDAY=1SU
END:STANDARD
END:VTIMEZONE
BEGIN:VEVENT
DTSTAMP:20241130T123103
DTSTART;TZID=America/Detroit:20241115T130000
DTEND;TZID=America/Detroit:20241115T140000
SUMMARY:Careers / Jobs:Evercore Restructuring Virtual Sophomore Open House
DESCRIPTION:Evercore Restructuring Virtual Sophomore Open HouseRegion  AmericasGroup  Restructuring &amp\; Debt AdvisoryEvent Description  Come learn more about Evercore's Restructuring Team and our 2026 Summer Analyst Program! You'll also have a chance to network with team members during the session. This is an invite-only event. Selected attendees will receive a confirmation email with relevant details\, such as the Zoom link\, the week of the event.Please find the event timing listed below:November 15: 1:00 – 2:00pm ESTEvent address / venue details  Event details\, including the Zoom link\, will be provided to invited candidates the week of the event.
UID:127352-21858932@events.umich.edu
URL:https://events.umich.edu/event/127352
CLASS:PUBLIC
STATUS:CONFIRMED
CATEGORIES:
LOCATION:
CONTACT:
END:VEVENT
BEGIN:VEVENT
DTSTAMP:20241105T091601
DTSTART;TZID=America/Detroit:20241115T130000
DTEND;TZID=America/Detroit:20241115T170000
SUMMARY:Well-being:Free Condoms\, Emergency Contraceptives\, and Drink Covers
DESCRIPTION:Stop by the LSA Student Government Health and Sexual Misconduct\, Response\, and Prevention Committees table on the Diag\, Friday the 15th from 1-5 pm! We will be handing out condoms\, emergency contraceptives\, and drink covers\, completely FREE!
UID:128724-21861563@events.umich.edu
URL:https://events.umich.edu/event/128724
CLASS:PUBLIC
STATUS:CONFIRMED
CATEGORIES:Free
LOCATION:Diag - Central Campus
CONTACT:
END:VEVENT
BEGIN:VEVENT
DTSTAMP:20240913T133940
DTSTART;TZID=America/Detroit:20241115T130000
DTEND;TZID=America/Detroit:20241115T135000
SUMMARY:Meeting:PhonDi
DESCRIPTION:Phondi is a discussion and research group for students and faculty at U-M and nearby universities who have interests in phonetics and phonology. We meet roughly biweekly during the academic year to present our research\, discuss \"hot\" topics in the field\, and practice upcoming conference or other presentations. We welcome anyone with interests in phonetics and phonology to join us.
UID:126356-21856987@events.umich.edu
URL:https://events.umich.edu/event/126356
CLASS:PUBLIC
STATUS:CONFIRMED
CATEGORIES:Phonetics,Phonology
LOCATION:Off Campus Location
CONTACT:
END:VEVENT
END:VCALENDAR