BEGIN:VCALENDAR
VERSION:2.0
PRODID:-//UM//UM*Events//EN
CALSCALE:GREGORIAN
BEGIN:VTIMEZONE
TZID:America/Detroit
TZURL:http://tzurl.org/zoneinfo/America/Detroit
X-LIC-LOCATION:America/Detroit
BEGIN:DAYLIGHT
TZOFFSETFROM:-0500
TZOFFSETTO:-0400
TZNAME:EDT
DTSTART:20070311T020000
RRULE:FREQ=YEARLY;BYMONTH=3;BYDAY=2SU
END:DAYLIGHT
BEGIN:STANDARD
TZOFFSETFROM:-0400
TZOFFSETTO:-0500
TZNAME:EST
DTSTART:20071104T020000
RRULE:FREQ=YEARLY;BYMONTH=11;BYDAY=1SU
END:STANDARD
END:VTIMEZONE
BEGIN:VEVENT
DTSTAMP:20241022T100646
DTSTART;TZID=America/Detroit:20241115T130000
DTEND;TZID=America/Detroit:20241115T160000
SUMMARY:Workshop / Seminar:Sneak Peek: The Future of German Studies
DESCRIPTION:Attend our zoom event on Friday\, November 15\, 1:00-4:00 PM (EST) to learn why you should pursue a Ph.D. in German Studies at the University of Michigan!\nFlash talks will be given by faculty and graduate students on new and interdisciplinary directions in German Studies today. Faculty will also provide you tips on applying to graduate schools and opportunities to ask questions. \n\n1:00-2:30 PM: Flash Talks: German Today & Q&A\n2:45-4:00 PM: Apply to Graduate School
UID:128169-21860384@events.umich.edu
URL:https://events.umich.edu/event/128169
CLASS:PUBLIC
STATUS:CONFIRMED
CATEGORIES:Prospective Graduate Students,Humanities,Europe,European,German Studies,Germanic Languages And Literatures,Germany,Graduate School,Graduate Students
LOCATION:Off Campus Location
CONTACT:
END:VEVENT
BEGIN:VEVENT
DTSTAMP:20240912T181740
DTSTART;TZID=America/Detroit:20241115T132000
DTEND;TZID=America/Detroit:20241115T135000
SUMMARY:Performance:Pamela Ruiter-Feenstra\, carillon
DESCRIPTION:Pamela Ruiter-Feenstra performs on the Ann & Robert H. Lurie Carillon\, an instrument of 60 bells with the lowest bell (bourdon) weighing 6 tons.\n\nThirty-minute recitals are performed on the Lurie Carillon every weekday that classes are in session. During these recitals\, visitors may take the elevator to level 2 to view the largest bells\, or to level 3 to see the carillonist performing. (Visitors subject to acrophobia are recommended to visit level 2 only.) An optional spiral stairway between levels 2 and 3 allows for up-close views of some of the largest bells.
UID:126343-21856912@events.umich.edu
URL:https://events.umich.edu/event/126343
CLASS:PUBLIC
STATUS:CONFIRMED
CATEGORIES:Music,Free,Talk,North Campus
LOCATION:Lurie Ann & Robert H. Tower
CONTACT:
END:VEVENT
BEGIN:VEVENT
DTSTAMP:20241105T121207
DTSTART;TZID=America/Detroit:20241115T133000
DTEND;TZID=America/Detroit:20241115T150000
SUMMARY:Workshop / Seminar:For the Long Haul: The Pandemic’s Impact on Practice Orientations and Labor Relations for Registered Nurses
DESCRIPTION:This talk explores how the COVID-19 pandemic has left enduring effects on registered nurses’ orientations toward their work and their relationships with employers. Drawing on interviews with nurses who remained in the profession\, the presentation moves beyond the conventional discourse of burnout to examine how the pandemic altered fundamental aspects of nursing practice\, career trajectories\, and organizational relationships. Through an analysis of these shifts\, the talk challenges traditional concepts of resilience and burnout\, suggesting that nurses may be redefining what it means to deliver care in a post-pandemic world.
UID:128752-21861588@events.umich.edu
URL:https://events.umich.edu/event/128752
CLASS:PUBLIC
STATUS:CONFIRMED
CATEGORIES:Organizational Studies,Talk,Presentation,Public Health,seminar,Sociology,Business,Career,Health,Interdisciplinary,Lecture,Medicine,Nursing
LOCATION:Ross School of Business - R2230
CONTACT:
END:VEVENT
END:VCALENDAR