BEGIN:VCALENDAR
VERSION:2.0
PRODID:-//UM//UM*Events//EN
CALSCALE:GREGORIAN
BEGIN:VTIMEZONE
TZID:America/Detroit
TZURL:http://tzurl.org/zoneinfo/America/Detroit
X-LIC-LOCATION:America/Detroit
BEGIN:DAYLIGHT
TZOFFSETFROM:-0500
TZOFFSETTO:-0400
TZNAME:EDT
DTSTART:20070311T020000
RRULE:FREQ=YEARLY;BYMONTH=3;BYDAY=2SU
END:DAYLIGHT
BEGIN:STANDARD
TZOFFSETFROM:-0400
TZOFFSETTO:-0500
TZNAME:EST
DTSTART:20071104T020000
RRULE:FREQ=YEARLY;BYMONTH=11;BYDAY=1SU
END:STANDARD
END:VTIMEZONE
BEGIN:VEVENT
DTSTAMP:20241015T150018
DTSTART;TZID=America/Detroit:20241024T160000
DTEND;TZID=America/Detroit:20241024T170000
SUMMARY:Lecture / Discussion:EEB Thursday Seminar Series - Neotropical riverine cichlids: adaptive radiation and macroevolution at continental scales
DESCRIPTION:This event is part of our ongoing Thursday Seminar Series.
UID:125774-21856090@events.umich.edu
URL:https://events.umich.edu/event/125774
CLASS:PUBLIC
STATUS:CONFIRMED
CATEGORIES:Free,Biology,department of ecology and evolutionary biology,Ecology,Ecology & Biology,Ecology And Evolutionary Biology,ecosystem,Ecosystems,eeb,Environment,environmental,evolution,evolutionary biology,Faculty,Herbarium,Lecture,Museum,Museum - Herbarium,Museum - Zoology,Museum Of Zoology,Research,Research Museums Center,Science,seminar,Talk,zoology
LOCATION:Biological Sciences Building - 1060
CONTACT:
END:VEVENT
BEGIN:VEVENT
DTSTAMP:20241108T123138
DTSTART;TZID=America/Detroit:20241024T160000
DTEND;TZID=America/Detroit:20241024T164500
SUMMARY:Careers / Jobs:Grow Your Career Series: Business Strategy & Improvement at Whole Foods Market
DESCRIPTION:At Whole Foods Market your growth matters. Join us for our weekly Grow your Career Series where you can learn more about career growth and opportunities!  Every week from September through October\, we will have different teams join virtual panels where students can learn about working for Whole Foods Market\, the different career paths we have\, and exciting projects we're working on.  We willanswer questions such as: “What does your day to day look like?” and“What skills do I need to be in this type of role?” and \"How has yourcareer grown at Whole Foods Market?\"  The weekly events will be dedicated to specific areas of the business (examples include: Finance\, Merchandising\, Product Management etc.) or around recruiting topicssuch as Interning at Whole Foods Market. Students can join virtually for a 45 minute experience featuring a live panel with Whole Foods Team Members from a variety of experience levels. Attendees will have the opportunityto learn about Team Members’ experiences and what they do to nourish people and the planet. There will also be time for Q&amp\;A at the end!  This week’s topic: Business Strategy &amp\; Improvement at Whole Foods Market  AGENDA 4:00pm – 4:05pm CST | Welcome + Introductions 4:05pm – 4:35pm CST | Panel Questions 4:35pm – 4:45pm CST | Open Q&amp\;A  Please RSVP using the external link provided. Welook forward to seeing you soon! 
UID:124456-21853051@events.umich.edu
URL:https://events.umich.edu/event/124456
CLASS:PUBLIC
STATUS:CONFIRMED
CATEGORIES:
LOCATION:
CONTACT:
END:VEVENT
BEGIN:VEVENT
DTSTAMP:20241008T141145
DTSTART;TZID=America/Detroit:20241024T160000
DTEND;TZID=America/Detroit:20241024T173200
SUMMARY:Lecture / Discussion:In Conversation with Professor Donald Tomaskovic-Devey
DESCRIPTION:Professor Don Tomaskovic-Devey will join us for an informal conversation about the research coming out of the Comparative Organizational Inequality Network (COIN\, learn more) he helped form as well as his current experience as Co-Editor of the American Sociological Review (ASR).\n\nThe conversation will be moderated by CID Faculty Associate Davon Norris\, Assistant Professor of Organizational Studies.\n\nLearn more and RSVP: https://inequality.umich.edu/donald-tomaskovic-devey/
UID:127535-21859282@events.umich.edu
URL:https://events.umich.edu/event/127535
CLASS:PUBLIC
STATUS:CONFIRMED
CATEGORIES:Social Sciences,Sociology,Social Impact,Graduate Students
LOCATION:Institute For Social Research - 2030
CONTACT:
END:VEVENT
END:VCALENDAR