BEGIN:VCALENDAR
VERSION:2.0
PRODID:-//UM//UM*Events//EN
CALSCALE:GREGORIAN
BEGIN:VTIMEZONE
TZID:America/Detroit
TZURL:http://tzurl.org/zoneinfo/America/Detroit
X-LIC-LOCATION:America/Detroit
BEGIN:DAYLIGHT
TZOFFSETFROM:-0500
TZOFFSETTO:-0400
TZNAME:EDT
DTSTART:20070311T020000
RRULE:FREQ=YEARLY;BYMONTH=3;BYDAY=2SU
END:DAYLIGHT
BEGIN:STANDARD
TZOFFSETFROM:-0400
TZOFFSETTO:-0500
TZNAME:EST
DTSTART:20071104T020000
RRULE:FREQ=YEARLY;BYMONTH=11;BYDAY=1SU
END:STANDARD
END:VTIMEZONE
BEGIN:VEVENT
DTSTAMP:20250401T093506
DTSTART;TZID=America/Detroit:20250409T173000
DTEND;TZID=America/Detroit:20250409T190000
SUMMARY:Workshop / Seminar:Humanities IRL
DESCRIPTION:Humanities IRL is a panel discussion exploring the humanities beyond the classroom\, highlighting real-world applications and career paths. Join the Institute for the Humanities as we challenge the idea that the humanities is purely just an academic discipline and showcase the hands-on\, dynamic potential of the humanities as a practice!\n\nJoin panelists Jason Young (Institute for the Humanities Director)\, Amanda Krugliak (Arts Curator and Assistant Director\, Arts Programming)\, Michael Hickock (History Lecturer and former FBI Special Agent)\, and Gina Balibrera (LSA Magazine Writer & novelist) as they explore their lives in the humanities.\n\nTopics to be discussed include:\n- How can the humanities be taken from the classroom and turned into a hands-on practice?\n- How can undergraduate students engage with humanities research both during their studies and in their future careers?\n- How can academic experiences shape successful and fulfilling careers in the humanities?\n\nSnacks will be served! Please register to attend at https://myumi.ch/3RkMp.
UID:134399-21874310@events.umich.edu
URL:https://events.umich.edu/event/134399
CLASS:PUBLIC
STATUS:CONFIRMED
CATEGORIES:Undergraduate Students,Sessions,Research,Networking,Career,Humanities
LOCATION:202 S. Thayer, Osterman Common Room
CONTACT:
END:VEVENT
BEGIN:VEVENT
DTSTAMP:20250303T063240
DTSTART;TZID=America/Detroit:20250409T173000
DTEND;TZID=America/Detroit:20250409T190000
SUMMARY:Careers / Jobs:Multiethnic & Multilingual Fair
DESCRIPTION:Multiethnic &amp\; Multilingual FairDate and Time: Wednesday\, April 9\, 2025\, 5:30 PM - 7:30 PMFlyer: HereLocation:Virtual ZoomDescription: Join us for a virtual Multilingual and Multi-ethnic Educator Fair for Boston Public Schools!We're seeking passionate educators and paraprofessionals fluent in languages such as Spanish\, Haitian Creole\, Portuguese\, Vietnamese\, Chinese\,and more for the 2025-2026 school year. Register now to connect with our schools and discover exciting opportunities to make a difference in the lives of our diverse students. Register: LINK 
UID:133137-21872430@events.umich.edu
URL:https://events.umich.edu/event/133137
CLASS:PUBLIC
STATUS:CONFIRMED
CATEGORIES:
LOCATION:
CONTACT:
END:VEVENT
BEGIN:VEVENT
DTSTAMP:20250331T100231
DTSTART;TZID=America/Detroit:20250409T173000
DTEND;TZID=America/Detroit:20250409T183000
SUMMARY:Other:Wonder Walk
DESCRIPTION:Matthaei Botanical Gardens is hosting free guided nature walks on select Wednesdays and Sundays.  These walks are FREE\, no registration is required. Wonder Walks are designed for all ages to inspire curiosity and learning from each other through activities that model curiosity and honor nature. If we have a sizeable mixed-age group\, we may separate into two sets to offer the same content at different levels of engagement.\n\nWednesday walks begin at 5:30 pm.  Sunday walks begin at 1:00 pm. We recommend gathering inside the lobby of Matthaei Botanical Gardens about 10 minutes before the start.
UID:134494-21874416@events.umich.edu
URL:https://events.umich.edu/event/134494
CLASS:PUBLIC
STATUS:CONFIRMED
CATEGORIES:Nature,Free,Family
LOCATION:Matthaei Botanical Gardens
CONTACT:
END:VEVENT
BEGIN:VEVENT
DTSTAMP:20250210T102937
DTSTART;TZID=America/Detroit:20250409T180000
DTEND;TZID=America/Detroit:20250409T190000
SUMMARY:Social / Informal Gathering:Deutschtisch im Max Kade Haus
DESCRIPTION:Deutschtisch is a weekly event in the North Quad dining hall for Max Kade residents and visitors from outside of Max Kade Haus to speak German during a meal.
UID:132570-21871277@events.umich.edu
URL:https://events.umich.edu/event/132570
CLASS:PUBLIC
STATUS:CONFIRMED
CATEGORIES:Max Kade,Germanic Languages And Literatures
LOCATION:North Quad - Dining Hall
CONTACT:
END:VEVENT
BEGIN:VEVENT
DTSTAMP:20250408T181536
DTSTART;TZID=America/Detroit:20250409T180000
DTEND;TZID=America/Detroit:20250316T190000
SUMMARY:Sporting Event:Softball vs Central Michigan
DESCRIPTION:Softball vs Central Michigan
UID:133934-21873702@events.umich.edu
URL:https://events.umich.edu/event/133934
CLASS:PUBLIC
STATUS:CONFIRMED
CATEGORIES:Athletics - Softball,Athletics
LOCATION:Alumni Field
CONTACT:
END:VEVENT
BEGIN:VEVENT
DTSTAMP:20250305T120020
DTSTART;TZID=America/Detroit:20250409T183000
DTEND;TZID=America/Detroit:20250409T201500
SUMMARY:Other:Karate Practice
DESCRIPTION:\"True karate is this: that in daily life one's mind and body be trained and developed in a spirit of humility\, and that in critical times\, one be devoted utterly to the cause of justice.\"\n--Gichin Funakoshi- Founder of Shotokan KarateNew members are always welcome. No previous experience is necessary. Just come to any practice. You may watch a practice or actually participate when you come. If you want to participate\, wear loose fitting clothes\, trim your nails\, and no jewelry. See more information on our website: https://michigan.ska.org/ Winter 2025 Practice Schedule Wednesday 6:30pm - 8:15pm  @  Gretchen's House\, 1580 Dhu Varren Rd Sunday 2:30pm - 4:30pm  @  B225 Medium Multi-purpose Room\, Intramural Sports Building (please complete the liability waiver prior to your first Sunday practice)    Exceptions -- no Sunday practice at IMSB on Jan 26th\, Mar 2nd\, and Mar 9th 
UID:130991-21867561@events.umich.edu
URL:https://events.umich.edu/event/130991
CLASS:PUBLIC
STATUS:CONFIRMED
CATEGORIES:
LOCATION:Gretchen&#039;s House
CONTACT:
END:VEVENT
END:VCALENDAR