BEGIN:VCALENDAR
VERSION:2.0
PRODID:-//UM//UM*Events//EN
CALSCALE:GREGORIAN
BEGIN:VTIMEZONE
TZID:America/Detroit
TZURL:http://tzurl.org/zoneinfo/America/Detroit
X-LIC-LOCATION:America/Detroit
BEGIN:DAYLIGHT
TZOFFSETFROM:-0500
TZOFFSETTO:-0400
TZNAME:EDT
DTSTART:20070311T020000
RRULE:FREQ=YEARLY;BYMONTH=3;BYDAY=2SU
END:DAYLIGHT
BEGIN:STANDARD
TZOFFSETFROM:-0400
TZOFFSETTO:-0500
TZNAME:EST
DTSTART:20071104T020000
RRULE:FREQ=YEARLY;BYMONTH=11;BYDAY=1SU
END:STANDARD
END:VTIMEZONE
BEGIN:VEVENT
DTSTAMP:20240806T153524
DTSTART;TZID=America/Detroit:20250409T193000
DTEND;TZID=America/Detroit:20250409T210000
SUMMARY:Performance:Les Arts Florissants
DESCRIPTION:When first published in 1725\, nobody could imagine that Vivaldi’s Four Seasons would become some of the most frequently-heard music of all time. This program frames the iconic concertos in a new light\, inviting questions about the fleeting cyclical nature of our existence\, our relationship with nature\, and the eternal renewal of earth’s cycles\, now being modified by climate change. The program starts with Monteverdi\, a composer born 100 years before Vivaldi\, and continues with Uccellini and Geminiani before turning into a joyful celebration of Vivaldi’s major opus three centuries after it was composed.\n\nFeatured Artist:\nThéotime Langlois de Swarte\, violin\n\nPROGRAM\nClaudio Monteverdi Adoramus te\, SV 289\nAntonio Vivaldi Concerto for strings and basso continuo\, RV 129 (“Madrigalesco”)\nMarco Uccellini Bergamasca\nVivaldi Concerto in d minor\, RV 813\nFrancesco Geminiani Concerto No. 12 in d minor “La Folia” (after Corelli)\nVivaldi Concerto in E Major\, Op. 8\, No. 1\, RV 269 (“Spring”)\nVivaldi Concerto in g minor\, Op. 8\, No. 2\, RV 315 (“Summer”)\nVivaldi Overture to La fida ninfa (“The Faithful Nymph”)\, RV 714\nVivaldi Concerto in F Major\, Op. 8\, No. 3\, RV 293 (“Autumn”)\nVivaldi Grave from Violin Concerto in B-flat Major\, RV 370\nVivaldi Concerto in f minor\, Op. 8\, No. 4\, RV 297 (“Winter”)
UID:121998-21847961@events.umich.edu
URL:https://events.umich.edu/event/121998
CLASS:PUBLIC
STATUS:CONFIRMED
CATEGORIES:performance,hill auditorium,Humanities,In Person,International,Mindfulness,multicultural,music,Anthropology,Social,Strings,UMS,university musical society,Violin,Well-being,Family,Art,artists,artists and curators,arts,chamber orchestra,Classical,classical music,European Studies,European,Diversity,Culture,concert
LOCATION:Hill Auditorium
CONTACT:
END:VEVENT
BEGIN:VEVENT
DTSTAMP:20250407T121619
DTSTART;TZID=America/Detroit:20250409T200000
DTEND;TZID=America/Detroit:20250409T213000
SUMMARY:Performance:Isabella Carucci\, flute
DESCRIPTION:Undergraduate student Isabella Carucci performs a senior recital.
UID:133697-21873417@events.umich.edu
URL:https://events.umich.edu/event/133697
CLASS:PUBLIC
STATUS:CONFIRMED
CATEGORIES:North Campus,Music,Free
LOCATION:Earl V. Moore Building - McIntosh Theatre
CONTACT:
END:VEVENT
BEGIN:VEVENT
DTSTAMP:20250325T181722
DTSTART;TZID=America/Detroit:20250409T200000
DTEND;TZID=America/Detroit:20250409T213000
SUMMARY:Performance:Oboe Studio Recital
DESCRIPTION:Oboe students of Professor Nancy Ambrose King perform a recital.
UID:133223-21872614@events.umich.edu
URL:https://events.umich.edu/event/133223
CLASS:PUBLIC
STATUS:CONFIRMED
CATEGORIES:North Campus,Music,Free
LOCATION:Walgreen Drama Center - Stamps Auditorium
CONTACT:
END:VEVENT
BEGIN:VEVENT
DTSTAMP:20250310T141743
DTSTART;TZID=America/Detroit:20250409T200000
SUMMARY:Performance:Open Stage Showcase
DESCRIPTION:As part of our 60th anniversary celebrations\, we’re reviving an old tradition!  Our Open Stage Showcase lets us shine a light on some of our standout performers who’ve graced our Open Stage through the year. Join us for full sets from Brooke Bowker\, Patrick Clinton and Michael Shelata!
UID:133266-21872669@events.umich.edu
URL:https://events.umich.edu/event/133266
CLASS:PUBLIC
STATUS:CONFIRMED
CATEGORIES:Ark,Mutotix
LOCATION:GA - The Ark
CONTACT:
END:VEVENT
BEGIN:VEVENT
DTSTAMP:20250305T120017
DTSTART;TZID=America/Detroit:20250409T200000
DTEND;TZID=America/Detroit:20250409T210000
SUMMARY:Film Screening:Star Wars Watch Party
DESCRIPTION:Come join some fellow Star Wars fans and watch iconic story arc episodes from Star Wars the Clone Wars! Democracy will choose exactly what episodes we watch day of. Snacks provided: rebellions are built on food.
UID:130795-21866891@events.umich.edu
URL:https://events.umich.edu/event/130795
CLASS:PUBLIC
STATUS:CONFIRMED
CATEGORIES:
LOCATION:Mason Hall
CONTACT:
END:VEVENT
BEGIN:VEVENT
DTSTAMP:20250305T120026
DTSTART;TZID=America/Detroit:20250410T000000
DTEND;TZID=America/Detroit:20250410T235959
SUMMARY:Other:Charleston Race Week
DESCRIPTION:Regatta
UID:132035-21869828@events.umich.edu
URL:https://events.umich.edu/event/132035
CLASS:PUBLIC
STATUS:CONFIRMED
CATEGORIES:
LOCATION:Patriots Point
CONTACT:
END:VEVENT
END:VCALENDAR