BEGIN:VCALENDAR
VERSION:2.0
PRODID:-//UM//UM*Events//EN
CALSCALE:GREGORIAN
BEGIN:VTIMEZONE
TZID:America/Detroit
TZURL:http://tzurl.org/zoneinfo/America/Detroit
X-LIC-LOCATION:America/Detroit
BEGIN:DAYLIGHT
TZOFFSETFROM:-0500
TZOFFSETTO:-0400
TZNAME:EDT
DTSTART:20070311T020000
RRULE:FREQ=YEARLY;BYMONTH=3;BYDAY=2SU
END:DAYLIGHT
BEGIN:STANDARD
TZOFFSETFROM:-0400
TZOFFSETTO:-0500
TZNAME:EST
DTSTART:20071104T020000
RRULE:FREQ=YEARLY;BYMONTH=11;BYDAY=1SU
END:STANDARD
END:VTIMEZONE
BEGIN:VEVENT
DTSTAMP:20250304T115736
DTSTART;TZID=America/Detroit:20250410T000000
DTEND;TZID=America/Detroit:20250410T120000
SUMMARY:Class / Instruction:Summer Session in Epidemiology
DESCRIPTION:Join us for the longest-running summer program in epidemiology! Choose from engaging 1-week or 3-week online courses designed to provide skills-based training in applied epidemiology.\n\nFor 60 years\, the University of Michigan's Summer Session in Epidemiology (SSE) has been one of the nation's longest-running and premier summer epidemiology programs. In just one to three intensive weeks\, gain valuable knowledge and skills to enhance your academic and professional journey. SSE is designed for public health and healthcare professionals\, researchers\, and anyone eager to build a foundation in epidemiologic science. We welcome participants from diverse backgrounds\, including undergraduate students\, public health professionals\, clinical and biomedical researchers\, and scholars in related fields such as psychology\, sociology\, and earth sciences. \n\nWhile experience in public health\, epidemiology\, or biostatistics is beneficial\, it is not required. By the end of our program\, you will have developed a solid understanding of key research principles in clinical populations\, covering areas such as: Study Design\, Biostatistical Analysis\, and Causal Inference These essential skills will help you advance in epidemiology\, public health\, and related fields.
UID:133411-21872919@events.umich.edu
URL:https://events.umich.edu/event/133411
CLASS:PUBLIC
STATUS:CONFIRMED
CATEGORIES:Complex Systems,Public Health,Professional Development,Pre Med,Postdoctoral Research Fellows,Graduate Students,Graduate and Professional Students,Graduate,Epidemiology,Education,Dentistry,data,biostatistics,Alumni,Rackham,Research,Staff,Undergraduate,Undergraduate Students,Virtual
LOCATION:Off Campus Location
CONTACT:
END:VEVENT
BEGIN:VEVENT
DTSTAMP:20250305T120032
DTSTART;TZID=America/Detroit:20250410T053000
DTEND;TZID=America/Detroit:20250410T235959
SUMMARY:Other:Nationals
DESCRIPTION:National Championships at Colby College
UID:133283-21872686@events.umich.edu
URL:https://events.umich.edu/event/133283
CLASS:PUBLIC
STATUS:CONFIRMED
CATEGORIES:
LOCATION:Colby College
CONTACT:
END:VEVENT
BEGIN:VEVENT
DTSTAMP:20250305T120025
DTSTART;TZID=America/Detroit:20250410T060000
DTEND;TZID=America/Detroit:20250410T235959
SUMMARY:Other:J70s--April
DESCRIPTION:Regatta
UID:131534-21868725@events.umich.edu
URL:https://events.umich.edu/event/131534
CLASS:PUBLIC
STATUS:CONFIRMED
CATEGORIES:
LOCATION:Coast Guard Academy
CONTACT:
END:VEVENT
BEGIN:VEVENT
DTSTAMP:20250305T120029
DTSTART;TZID=America/Detroit:20250410T060000
DTEND;TZID=America/Detroit:20250410T235959
SUMMARY:Other:MCSA Women's Team/Fleet Race Championship
DESCRIPTION:Regatta
UID:132606-21871368@events.umich.edu
URL:https://events.umich.edu/event/132606
CLASS:PUBLIC
STATUS:CONFIRMED
CATEGORIES:
LOCATION:University of Wisconsin
CONTACT:
END:VEVENT
BEGIN:VEVENT
DTSTAMP:20250213T133729
DTSTART;TZID=America/Detroit:20250410T070000
DTEND;TZID=America/Detroit:20250410T220000
SUMMARY:Exhibition:Pierpont Poetry Project
DESCRIPTION:Check out the Pierpont Poetry Project! 50 student-written poems are on display throughout Pierpont Commons. The poems were all inspired by the theme “seeking” but interpreted in many different ways - they explore themes of love\, justice\, family\, loss\, hope\, identity\, and more. Explore the building and find all the poems - for every poem you log\, you’ll be entered into a drawing for a Literati Bookstore gift card!
UID:132261-21871741@events.umich.edu
URL:https://events.umich.edu/event/132261
CLASS:PUBLIC
STATUS:CONFIRMED
CATEGORIES:Poetry,Exhibition,Art
LOCATION:Pierpont Commons
CONTACT:
END:VEVENT
BEGIN:VEVENT
DTSTAMP:20250120T170337
DTSTART;TZID=America/Detroit:20250410T080000
DTEND;TZID=America/Detroit:20250410T230000
SUMMARY:Exhibition:A Prison\, a Prisoner\, and a Prison Guard
DESCRIPTION:Join us for a multimedia exploration of the impact of prisons on countries and communities across the Middle East and North Africa (MENA) region through the lens of “prison art.” The exhibit delves into the dynamic interplay between incarceration and creative expression to make sense of carceral systems.\n\nBy presenting prison art from various countries in the MENA region\, including Algeria\, Egypt\, Iran\, Iraq\, Lebanon\, Palestine\, Sudan\, Syria\, and Yemen\, this exhibit unfolds as a “journey” into the prison system and demonstrates the ways in which art can be a tool of expression and reconciliation for survivors\, detainees’ families\, and society at large. It promotes drawing parallels between the prison experience in the region and worldwide\, highlights the intentionality of carceral systems\, and expands the conversation to include prison-impacted communities. Viewers are invited to navigate the cross-generational\, human experiences of imprisonment often obscured behind prison walls and within individuals.\n\nCurated by Sumaya Tabbah and Susan Aboeid of The Ḥafathah Collective\, this traveling exhibit was organized by U-M Students Organize for Syria (SOS) in partnership with U-M Library and with support from the U-M Arts Initiative.\n\nPlan to attend the related discussion\, \"Art\, Justice\, and Carcerality: The Role of Creative Expression in the Pursuit of Justice\,\" on February 6.
UID:130114-21874269@events.umich.edu
URL:https://events.umich.edu/event/130114
CLASS:PUBLIC
STATUS:CONFIRMED
CATEGORIES:Art,Free,Library
LOCATION:Hatcher Graduate Library - Lobby
CONTACT:
END:VEVENT
END:VCALENDAR