BEGIN:VCALENDAR
VERSION:2.0
PRODID:-//UM//UM*Events//EN
CALSCALE:GREGORIAN
BEGIN:VTIMEZONE
TZID:America/Detroit
TZURL:http://tzurl.org/zoneinfo/America/Detroit
X-LIC-LOCATION:America/Detroit
BEGIN:DAYLIGHT
TZOFFSETFROM:-0500
TZOFFSETTO:-0400
TZNAME:EDT
DTSTART:20070311T020000
RRULE:FREQ=YEARLY;BYMONTH=3;BYDAY=2SU
END:DAYLIGHT
BEGIN:STANDARD
TZOFFSETFROM:-0400
TZOFFSETTO:-0500
TZNAME:EST
DTSTART:20071104T020000
RRULE:FREQ=YEARLY;BYMONTH=11;BYDAY=1SU
END:STANDARD
END:VTIMEZONE
BEGIN:VEVENT
DTSTAMP:20240130T121550
DTSTART;TZID=America/Detroit:20250410T100000
DTEND;TZID=America/Detroit:20250410T200000
SUMMARY:Exhibition:A Gathering
DESCRIPTION:Welcome. Make Yourself At Home.\n \nA Gathering brings together the newest works of art to enter UMMA’s collection — many on display here for the first time. \n \nAs a free\, public museum\, UMMA staff takes care of art for the benefit of the community and society at large. The works on view in this exhibition\, all brought into the Museum between 2019 and the present\, shows how institutions like UMMA are becoming more permeable to societal challenges\, and more nimble in responding to them in service to all in their communities. In this exhibition you will find works that reflect on how global migrations\, race\, gender\, and ecological change shape the way we engage with the world and inform our visions for the future.\n \nThis collection of artistic engagements with issues give us tools to envision who we want to be as individuals\, as a museum\, and as a society\, connected to one another across space and experience.\n \nSo gather here to take in these latest works of art brought here for you. Gather here to be engulfed in their forms and meanings\, to discuss their takes\, to learn\, to disagree. Gather to relax\, make a friend\, drink a coffee\, finish the daily Wordle. Gather to feel full\, to be moved and inspired by all the possible imaginations of what is yet to come.\n \nCurated by Félix Zamora Gómez Irving Stenn\, Jr. Fellow in Public Humanities & Museum Pedagogy\n\nLead support for this exhibition is provided by Lizzie and Jonathan Tisch\, the Richard and Rosann Noel Endowment\, and the University of Michigan Office of the Provost.\n 
UID:107870-21818087@events.umich.edu
URL:https://events.umich.edu/event/107870
CLASS:PUBLIC
STATUS:CONFIRMED
CATEGORIES:Art,UMMA,Staff,Museum,Humanities,Exhibition,Free
LOCATION:Museum of Art - Lizzie and Jonathan Tisch Apse
CONTACT:
END:VEVENT
BEGIN:VEVENT
DTSTAMP:20250414T090112
DTSTART;TZID=America/Detroit:20250410T100000
DTEND;TZID=America/Detroit:20250410T120000
SUMMARY:Social / Informal Gathering:Go Blue - Mobile AI at U-M: Swag Giveaway
DESCRIPTION:Meet the Emerging Technology team from ITS on campus to learn about Go Blue\, the new AI mobile app for the U-M Community. Come by our table to download the app\, ask questions\, and grab some exclusive Go Blue swag! \n\n\nLearn more about Go Blue at https://goblueai.umich.edu\n\nDownload Go Blue for iOS: https://apps.apple.com/us/app/go-blue-ai/id6740406959\nDownload Go Blue for Android: https://play.google.com/store/apps/details?id=edu.umich.mobile.goblue
UID:134013-21873888@events.umich.edu
URL:https://events.umich.edu/event/134013
CLASS:PUBLIC
STATUS:CONFIRMED
CATEGORIES:Artificial Intelligence,Free,Genai,Generative Ai,Go Blue App,In Person,information and technology,information technology,Its,U-m Gpt
LOCATION:Pierpont Commons
CONTACT:
END:VEVENT
BEGIN:VEVENT
DTSTAMP:20250410T092032
DTSTART;TZID=America/Detroit:20250410T100000
DTEND;TZID=America/Detroit:20250410T120000
SUMMARY:Conference / Symposium:Graduate and Professional Student Appreciation Week
DESCRIPTION:\nEach year\, during National Graduate and Professional Student Appreciation Week\, the Rackham Graduate School joins universities from across the country to host events designed to support and recognize graduate students. The week is aimed at highlighting the great contributions and high value that graduate and professional students bring to our community.This year’s events feature great food\, networking\, wellness activities\, professional development\, and a chance to relax with therapy dogs. Join us for a week of celebration and connection!\nTo view all of this week’s events hosted by Rackham and Rackham Student Organizations\, visit the website here: https://myumi.ch/15NM8.
UID:134409-21874326@events.umich.edu
URL:https://events.umich.edu/event/134409
CLASS:PUBLIC
STATUS:CONFIRMED
CATEGORIES:Sessions
LOCATION:Assembly Hall, 4th Floor
CONTACT:
END:VEVENT
BEGIN:VEVENT
DTSTAMP:20250409T125156
DTSTART;TZID=America/Detroit:20250410T100000
DTEND;TZID=America/Detroit:20250410T120000
SUMMARY:Other:Graduate and Professional Student Appreciation Week: Professional Profile Boost
DESCRIPTION:Enhance your professional presence with Professional Profile Boost! Whether you’re job searching\, networking\, or updating your credentials\, this event is designed to help you put your best foot forward. Stop by for a free professional headshot and get expert guidance on refining your LinkedIn profile and resume. Be sure to bring your laptop for resume and LinkedIn reviews.\nSign-up slots for headshots will be available upon arrival on a first-come\, first-served basis. We recommend wearing business casual attire for your headshot\, which will be taken against a blue background.\n\nEnjoy coffee and light refreshments while you polish your professional brand.\nRegistration is encouraged at https://myumi.ch/Z2ZxR.\nWe want to ensure full and equitable participation in our events. If an accommodation would promote your full participation in this event\, please follow the registration link to indicate your accommodation requirements. Please let us know as soon as possible in order to have adequate time\, preferably one week\, to arrange for your requested accommodations or an effective alternative.
UID:134415-21874333@events.umich.edu
URL:https://events.umich.edu/event/134415
CLASS:PUBLIC
STATUS:CONFIRMED
CATEGORIES:Graduate Students,Rgs Events
LOCATION:Rackham Graduate School (Horace H.)
CONTACT:
END:VEVENT
BEGIN:VEVENT
DTSTAMP:20250110T170530
DTSTART;TZID=America/Detroit:20250410T100000
DTEND;TZID=America/Detroit:20250410T163000
SUMMARY:Other:Leaves Under the Lens
DESCRIPTION:The leaf surface is a dynamic landscape where tiny\, specialized structures help plants interact with the world around them. Let’s bring this world into view! Join us for an exhibit that highlights the complex and often beautiful anatomy of leaves from the Matthaei collection. Plants throughout the conservatory will be paired with microscope photographs and micro-CT scans that illustrate the otherwise invisible structures that protect leaves from chewing insects\, absorb (or repel!) water\, and even recruit “bodyguards”. You won’t look at leaves the same way again! \n\nThis project is a collaboration between MBGNA and the Weber and Vasconcelos labs in the Department of Ecology and Evolutionary Biology\, led by PhD student Rosemary Glos.
UID:130943-21867495@events.umich.edu
URL:https://events.umich.edu/event/130943
CLASS:PUBLIC
STATUS:CONFIRMED
CATEGORIES:Biology,In Person,eeb,Family,Free,science
LOCATION:Matthaei Botanical Gardens
CONTACT:
END:VEVENT
BEGIN:VEVENT
DTSTAMP:20250409T104258
DTSTART;TZID=America/Detroit:20250410T100000
DTEND;TZID=America/Detroit:20250410T110000
SUMMARY:Exhibition:Take Care: Student Art Exhibition
DESCRIPTION:Experience the 2025 Take Care Student Art Exhibition\, a heartfelt showcase of creativity\, resilience\, and healing.\n\nThrough visual art\, video\, performance\, and literary works\, students will share their unique perspectives on caring for oneself and others\, healing as a community\, and imagining a world where self-expression nurtures collective well-being.\n\nRiverbank Arts: January 10–February 14\nClosing Reception: February 14\, 6–9 p.m.\n\nDuderstadt Center Gallery: April 15–May 9\nOpening Reception: April 15\, 5–8 p.m.
UID:130900-21875277@events.umich.edu
URL:https://events.umich.edu/event/130900
CLASS:PUBLIC
STATUS:CONFIRMED
CATEGORIES:Art,Arts Initiative,Exhibition,Reception,Take Care,Well-being
LOCATION:Duderstadt Center - Duderstadt Center Gallery
CONTACT:
END:VEVENT
END:VCALENDAR