BEGIN:VCALENDAR
VERSION:2.0
PRODID:-//UM//UM*Events//EN
CALSCALE:GREGORIAN
BEGIN:VTIMEZONE
TZID:America/Detroit
TZURL:http://tzurl.org/zoneinfo/America/Detroit
X-LIC-LOCATION:America/Detroit
BEGIN:DAYLIGHT
TZOFFSETFROM:-0500
TZOFFSETTO:-0400
TZNAME:EDT
DTSTART:20070311T020000
RRULE:FREQ=YEARLY;BYMONTH=3;BYDAY=2SU
END:DAYLIGHT
BEGIN:STANDARD
TZOFFSETFROM:-0400
TZOFFSETTO:-0500
TZNAME:EST
DTSTART:20071104T020000
RRULE:FREQ=YEARLY;BYMONTH=11;BYDAY=1SU
END:STANDARD
END:VTIMEZONE
BEGIN:VEVENT
DTSTAMP:20250407T181636
DTSTART;TZID=America/Detroit:20250410T120000
DTEND;TZID=America/Detroit:20250410T123000
SUMMARY:Performance:Julie Zhu\, carillon
DESCRIPTION:Julie Zhu\, President's Postdoctoral Fellow\, performs on the Charles Baird Carillon\, an instrument of 53 bronze bells located inside the Burton Memorial Tower. The largest bell\, which strikes the hour\, weighs 12 tons\, while the smallest bell\, 4½ octaves above\, weighs just 15 pounds.\n\nThirty-minute recitals are performed on the Charles Baird Carillon at noon every weekday that classes are in session\, followed by visitor Q&A with the carillonist. The bell chamber may be accessed via a combination of elevator and stairs. Take the elevator to the highest floor possible (floor 8)\, and then climb two flights of stairs (39 steps) to the bell chamber (floor 10). Hearing protection earmuffs are provided for visitors. Be prepared to walk on ice and snow in the bell chamber during winter. Built in 1936\, the Charles Baird Carillon is not ADA accessible. Visitors with mobility concerns are invited to visit the Lurie Carillon.
UID:132408-21870892@events.umich.edu
URL:https://events.umich.edu/event/132408
CLASS:PUBLIC
STATUS:CONFIRMED
CATEGORIES:Faculty,Free,Music,Talk
LOCATION:Burton Memorial Tower
CONTACT:
END:VEVENT
BEGIN:VEVENT
DTSTAMP:20250410T112034
DTSTART;TZID=America/Detroit:20250410T120000
DTEND;TZID=America/Detroit:20250410T130000
SUMMARY:Workshop / Seminar:Launch & Learns
DESCRIPTION:The Launch & Learn speaker series is designed to provide students and alumni with valuable insights from our network of leaders in entrepreneurship\, innovation\, and venture capital. Learn real-world strategies and gain actionable takeaways that will supercharge the way you approach business\, innovation\, and growth. Leave each event with the tools\, knowledge\, and connections to elevate your entrepreneurial mindset!
UID:134796-21875129@events.umich.edu
URL:https://events.umich.edu/event/134796
CLASS:PUBLIC
STATUS:CONFIRMED
CATEGORIES:Sessions
LOCATION:Zell Lurie Institute for Entrepreneurship
CONTACT:
END:VEVENT
BEGIN:VEVENT
DTSTAMP:20250410T112033
DTSTART;TZID=America/Detroit:20250410T120000
DTEND;TZID=America/Detroit:20250410T133000
SUMMARY:Conference / Symposium:Network with ME: Career Strategy Discussions with ME Alumni
DESCRIPTION:Interested in engaging with ME alumni to explore various career strategies and diverse career paths? \nJoin us for a fireside chat featuring accomplished ME alumni working at Toyota. They will share their personal experiences and insights into navigating different career paths. Following the fireside chat\, participate in interactive small group discussions with the ME alumni who have experience at Ford\, GM\, and Toyota. This is a great opportunity to expand your network\, practice networking skills\, and gain firsthand knowledge from professionals who have paved their way in various positions. \nEvent Timeline: 12:00-12:30 pm: Fireside chat with Toyota alumni (GGB 2147)12:30pm-1:30 pm: ME alumni-student networking  (Blue Lounge GGB 1280)\nLunch will be provided from Jerusalem Garden to registered attendees. 
UID:134310-21874173@events.umich.edu
URL:https://events.umich.edu/event/134310
CLASS:PUBLIC
STATUS:CONFIRMED
CATEGORIES:Sessions
LOCATION:GGB 1280  (Blue Lounge)
CONTACT:
END:VEVENT
BEGIN:VEVENT
DTSTAMP:20250410T112033
DTSTART;TZID=America/Detroit:20250410T120000
DTEND;TZID=America/Detroit:20250410T133000
SUMMARY:Conference / Symposium:Network with ME: Career Strategy Discussions with ME Alumni
DESCRIPTION:Interested in engaging with ME alumni to explore various career strategies and diverse career paths? \nJoin us for a fireside chat featuring accomplished ME alumni working at Toyota. They will share their personal experiences and insights into navigating different career paths. Following the fireside chat\, participate in interactive small group discussions with the ME alumni who have experience at Ford\, GM\, and Toyota. This is a great opportunity to expand your network\, practice networking skills\, and gain firsthand knowledge from professionals who have paved their way in various positions. \nEvent Timeline: 12:00-12:30 pm: Fireside chat with Toyota alumni (GGB 2147)12:30pm-1:30 pm: ME alumni-student networking  (Blue Lounge GGB 1280)\nLunch will be provided from Jerusalem Garden to registered attendees. 
UID:134310-21874975@events.umich.edu
URL:https://events.umich.edu/event/134310
CLASS:PUBLIC
STATUS:CONFIRMED
CATEGORIES:Sessions
LOCATION:GGB 1280  (Blue Lounge)
CONTACT:
END:VEVENT
BEGIN:VEVENT
DTSTAMP:20250305T080803
DTSTART;TZID=America/Detroit:20250410T120000
DTEND;TZID=America/Detroit:20250410T140000
SUMMARY:Other:Study Abroad in Granada - Winter 2026
DESCRIPTION:Join CGIS Advisor\, Juliana Mesa\, to learn more about the CGIS: Advanced Spanish and Culture in Granada (Spain) program\, the application process\, the academics\, and life in Granada.\nThis Winter 2026 intensive Michigan program combines classes with a U-M faculty and local Spanish professors at a local study abroad center. Students have the option to take a class at the Universidad de Granada or partake in a for-credit internship.\nThe Department of Romance Languages and Literatures has pre-approved this program for fulfilling Spanish major/minor requirements while abroad.\nPlease RSVP here: https://myumi.ch/A192G
UID:133416-21873080@events.umich.edu
URL:https://events.umich.edu/event/133416
CLASS:PUBLIC
STATUS:CONFIRMED
CATEGORIES:Abroad,Applications,Culture,Europe,global engagement,global opportunities,Information Session,intercultural,international,International Education,internships,Language,Romance Languages And Literatures,Spanish,Spanish Studies,Undergraduate Students
LOCATION:Modern Languages Building - RLL Commons (MLB 4314)
CONTACT:
END:VEVENT
BEGIN:VEVENT
DTSTAMP:20250410T112033
DTSTART;TZID=America/Detroit:20250410T120000
DTEND;TZID=America/Detroit:20250410T140000
SUMMARY:Workshop / Seminar:Study Abroad in Granada - Winter 2026
DESCRIPTION:Join CGIS Advisor\, Juliana Mesa\, to learn more about the CGIS: Advanced Spanish and Culture in Granada (Spain) program\, the application process\, the academics\, and life in Granada.This Winter 2026 intensive Michigan program combines classes with a U-M faculty and local Spanish professors at a local study abroad center. Students have the option to take a class at the Universidad de Granada or partake in a for-credit internship.The Department of Romance Languages and Literatures has pre-approved this program for fulfilling Spanish major/minor requirements while abroad.To learn more\, visit the M-Compass brochure: https://mcompass.umich.edu/_portal/tds-program-brochure?programid=10784
UID:133440-21873102@events.umich.edu
URL:https://events.umich.edu/event/133440
CLASS:PUBLIC
STATUS:CONFIRMED
CATEGORIES:Sessions
LOCATION:
CONTACT:
END:VEVENT
END:VCALENDAR