BEGIN:VCALENDAR
VERSION:2.0
PRODID:-//UM//UM*Events//EN
CALSCALE:GREGORIAN
BEGIN:VTIMEZONE
TZID:America/Detroit
TZURL:http://tzurl.org/zoneinfo/America/Detroit
X-LIC-LOCATION:America/Detroit
BEGIN:DAYLIGHT
TZOFFSETFROM:-0500
TZOFFSETTO:-0400
TZNAME:EDT
DTSTART:20070311T020000
RRULE:FREQ=YEARLY;BYMONTH=3;BYDAY=2SU
END:DAYLIGHT
BEGIN:STANDARD
TZOFFSETFROM:-0400
TZOFFSETTO:-0500
TZNAME:EST
DTSTART:20071104T020000
RRULE:FREQ=YEARLY;BYMONTH=11;BYDAY=1SU
END:STANDARD
END:VTIMEZONE
BEGIN:VEVENT
DTSTAMP:20250120T151032
DTSTART;TZID=America/Detroit:20250410T140000
DTEND;TZID=America/Detroit:20250410T160000
SUMMARY:Well-being:\"Let's Talk\": Informal\, Drop-In Mental Health Counseling
DESCRIPTION:Trained mental health counselors are now available for drop-in conversations at different times and locations across campus\, including at Trotter\, the Spectrum Center\, South Quad\, the International Center\, and Bursley.\n\nThis informal\, confidential “office hours” style can be a great fit for students unsure about formal counseling\; for those with a specific\, time-limited concern they’d like to talk through\; or those seeking information on campus resources. Please note: this is not meant for crisis or emergency support.\n\n\"Let's Talk\" will run from January 20th 2025 to April 25th 2025. There will be no drop-ins the week of Spring Break (March 3rd - 7th). \n\nMonday: 11:00 am - 1:00 pm with Markie Silverman\, Ph.D.\, LP\, Room 2035 in Trotter Multicultural Center\nTuesday: 1:00 pm - 3:00 pm with Marcella A. Beaumont\, Ph.D.\, Room 3032 in The Spectrum Center (Michigan Union)\nWednesday: 1:00 pm - 3:00 pm with Emily Malinowski\, LMSW\, Room 1721A in South Quad Housing\nThursday: 2:00 pm - 4:00 pm with Ling Liu\, Ph.D. & Chunyu Xu\, M.Ed.\, M.S.Ed.\, Conference Room in the International Center\nFriday: 10:00 am - 12:00 pm with Kayla Douglas\, LMSW\, and Emily Powers\, LLMSW\, Room 2329B in Bursley Housing
UID:131469-21868560@events.umich.edu
URL:https://events.umich.edu/event/131469
CLASS:PUBLIC
STATUS:CONFIRMED
CATEGORIES:Health & Wellness,Accessible,Casual,Confidential,Drop-in,free,health and wellness,health communication,Inclusion,mental health,Mindfulness,Well-being,university health service,Undergraduate Students,Undergraduate,relationships,relationship
LOCATION:International Center - Conference Room
CONTACT:
END:VEVENT
BEGIN:VEVENT
DTSTAMP:20250327T124623
DTSTART;TZID=America/Detroit:20250410T140000
DTEND;TZID=America/Detroit:20250410T150000
SUMMARY:Presentation:Brain Aging and What You Can Do About It
DESCRIPTION:Professor Polk will present findings from the Computational & Cognitive Neuroscience Lab on the neural architecture that underlies cognition\, that is\, the set of fixed neural structures and processes that give rise to cognition. What are the parts\, how do they work\, and how do they interact to produce the mind? Ultimately\, researchers aim to understand how the cognitive architecture is determined (e.g.\, which aspects are genetic)\, how the architecture changes as a result of experience and normal aging\, and how it normally functions. He will discuss brain aging and what can be done about it\, including how the brain changes as we age and steps we can take to age more gracefully.
UID:134436-21874356@events.umich.edu
URL:https://events.umich.edu/event/134436
CLASS:PUBLIC
STATUS:CONFIRMED
CATEGORIES:Health & Wellness
LOCATION:
CONTACT:
END:VEVENT
BEGIN:VEVENT
DTSTAMP:20250213T122025
DTSTART;TZID=America/Detroit:20250410T140000
DTEND;TZID=America/Detroit:20250410T160000
SUMMARY:Lecture / Discussion:Hurt\, Baby\, Hurt — Book Launch
DESCRIPTION:Celebrate the reissue of the book \"Hurt\, Baby\, Hurt\" — a memoir about the 1967 Detroit Rebellion by William Walter Scott\, III. First published in 1970\, the book recounts Scott's life from his birth through the rebellion. Guest speakers include Austin McCoy\, West Virginia University\, who wrote the insightful introduction for the new edition of the book\, and Bill McGraw\, journalist and author.\n\nThe rebellion was the bloodiest of the urban riots in the U.S. during the summer of 1967. It began when police raided an unlicensed drinking club owned by Scott’s father and continued for five days\, resulting in forty-three deaths plus many more injuries\, fires\, and arrests. Scott\, who was 19 at the time and working as a doorman at his father’s club\, is widely recognized as the man who started the rebellion by throwing a bottle at one of the police officers.\n\nThe reissue will be available for purchase in paperback and as an Open Access ebook in April\, 2025. This project was made possible by support from two library divisions: University of Michigan Press (https://myumi.ch/pkn2y) and Special Collections Research Center (Joseph A. Labadie Collection).
UID:132748-21871677@events.umich.edu
URL:https://events.umich.edu/event/132748
CLASS:PUBLIC
STATUS:CONFIRMED
CATEGORIES:Free,History,Library
LOCATION:Hatcher Graduate Library - Gallery, 1st Floor
CONTACT:
END:VEVENT
BEGIN:VEVENT
DTSTAMP:20250110T151703
DTSTART;TZID=America/Detroit:20250410T143000
DTEND;TZID=America/Detroit:20250410T153000
SUMMARY:Meeting:Pause Café: French Conversation Hour
DESCRIPTION:All Language Levels Welcome!\n\nPractice your French speaking skills with fellow students and instructors in a welcoming and relaxed environment. Get advice on courses and discuss study abroad programs. Free coffee\, tea\, and light snacks. Located in the RLL Commons (4314\, large conference room in center hallway).\n\nFor more information\, please contact Alan Ames at  alanames@umich.edu
UID:130920-21867361@events.umich.edu
URL:https://events.umich.edu/event/130920
CLASS:PUBLIC
STATUS:CONFIRMED
CATEGORIES:Coffee,Social,Community,Culture,Discussion,Diversity Equity and Inclusion,Food,Free,French,Games,Global,Humanities,In Person,Interactive,intercultural,Language,multicultural,Networking,Romance Languages And Literatures,Talk
LOCATION:Modern Languages Building - RLL Commons (MLB 4314)
CONTACT:
END:VEVENT
BEGIN:VEVENT
DTSTAMP:20250410T142029
DTSTART;TZID=America/Detroit:20250410T143000
DTEND;TZID=America/Detroit:20250410T160000
SUMMARY:Workshop / Seminar:Research Talk: Indigenous communities  and algorithmic systems
DESCRIPTION:Organized by Traveling Theories Rackham Interdisciplinary Workshop\nTitle: Indigenous communities  and algorithmic systemsSpeaker: Dipto Das\, Postdoctoral Fellow\, Department of Computer Science & Faculty of Information\, University of Toronto.Dipto Das is a Postdoctoral Fellow in the Department of Computer Science and the Faculty of Information at the University of Toronto. Their research in Human-Computer Interaction (HCI) explores how sociotechnical systems facilitate sociopolitical discourse among diverse communities and how these platforms can be designed and governed to promote greater equity and fairness while accommodating differing and often conflicting norms and values. Their work examines how fairness in the downstream applications of algorithmic systems\, particularly in the governance of online platforms within culturally diverse communities\, is conceptualized and negotiated. Drawing from his research\, Das will discuss the experiences of local and Indigenous communities with algorithmic systems in this talk.Date: April 10th\, 2025TIme: 2: 30 pm - 4 :00 pmVenue: HybridNorth Quad 5450\, University of Michigan.Zoom: https://umich.zoom.us/j/94307093919\n
UID:134637-21874645@events.umich.edu
URL:https://events.umich.edu/event/134637
CLASS:PUBLIC
STATUS:CONFIRMED
CATEGORIES:Sessions
LOCATION:
CONTACT:
END:VEVENT
BEGIN:VEVENT
DTSTAMP:20250303T063125
DTSTART;TZID=America/Detroit:20250410T150000
DTEND;TZID=America/Detroit:20250410T160000
SUMMARY:Careers / Jobs:Amica Embraces Diversity: LGBTQ+ Discussion\, Postponed to 4/10/25
DESCRIPTION:Amica Insurance is proud to host an employee panel comprised of four members of the LGBTQ+ community. Learn about their journeys and how Amica has supported them along the way. They’ll answer questions andengage in an open dialogue led by moderators Shameem Awan\, Senior Assistant Vice President\, Talent Management and DEI and Tom Goodale\, AssistantVice President. This is a great way to learn more about Amica and its focus to encourage everyone to be their authentic self.&nbsp\;https://amica.zoom.us/j/98563619626?pwd=hQcGCPGuzsJfvECFRtEOuLZII870PP.1Meeting ID: 9856361 9626Passcode:&nbsp\; 286162
UID:126133-21856584@events.umich.edu
URL:https://events.umich.edu/event/126133
CLASS:PUBLIC
STATUS:CONFIRMED
CATEGORIES:
LOCATION:
CONTACT:
END:VEVENT
END:VCALENDAR