BEGIN:VCALENDAR
VERSION:2.0
PRODID:-//UM//UM*Events//EN
CALSCALE:GREGORIAN
BEGIN:VTIMEZONE
TZID:America/Detroit
TZURL:http://tzurl.org/zoneinfo/America/Detroit
X-LIC-LOCATION:America/Detroit
BEGIN:DAYLIGHT
TZOFFSETFROM:-0500
TZOFFSETTO:-0400
TZNAME:EDT
DTSTART:20070311T020000
RRULE:FREQ=YEARLY;BYMONTH=3;BYDAY=2SU
END:DAYLIGHT
BEGIN:STANDARD
TZOFFSETFROM:-0400
TZOFFSETTO:-0500
TZNAME:EST
DTSTART:20071104T020000
RRULE:FREQ=YEARLY;BYMONTH=11;BYDAY=1SU
END:STANDARD
END:VTIMEZONE
BEGIN:VEVENT
DTSTAMP:20250124T095019
DTSTART;TZID=America/Detroit:20250508T080000
DTEND;TZID=America/Detroit:20250508T230000
SUMMARY:Exhibition:Being Mixed Race in a Mono-racially Organized World
DESCRIPTION:The exhibit \"Being Mixed Race in a Mono-racially Organized World: Interracial Identity in the U.S. and Around the World — What Research and Mixed Race People Tell Us\" is an exploration into the library's collections about the diversity of mixed race heritage. Through research\, narratives\, demographic data\, and a variety of visual and published materials\, explore multifaceted aspects of mixed race heritage with insights from many perspectives.\n\nThe 2020 U.S. Census illuminated a 276 percent increase in individuals who identify as \"two or more races\" since 2010. In recognition of the growing numbers of mixed race-identifying people at the University of Michigan\, throughout the country\, and across the globe\, we're excited to unveil this new exhibit — a unique exploration of changing demographics and intersectional identities.
UID:129721-21869136@events.umich.edu
URL:https://events.umich.edu/event/129721
CLASS:PUBLIC
STATUS:CONFIRMED
CATEGORIES:Diversity,Exhibition,Free,Library
LOCATION:Hatcher Graduate Library - Clark Library, 2nd Floor
CONTACT:
END:VEVENT
BEGIN:VEVENT
DTSTAMP:20250416T111333
DTSTART;TZID=America/Detroit:20250508T080000
DTEND;TZID=America/Detroit:20250508T235900
SUMMARY:Workshop / Seminar:Let’s Get Accessible! The 10-Day Digital Accessibility Awareness Challenge
DESCRIPTION:Every day we create and share digital content—documents\, emails\, videos\, slides\, social media posts—but have you ever stopped to ask “Is this accessible to everyone?”\nMost of us don’t realize the barriers that exist for people with disabilities until we learn how to remove them. So let’s get accessible!\n\nTogether\, we'll explore practical ways to make digital content more inclusive for all. Whether you're faculty\, staff\, or a student\, this challenge is packed with bite-sized actions and eye-opening insights that will:\n- Equip students with real-world accessibility skills that carry into the workplace\n- Help faculty and staff better support students and colleagues\n- Prepare our school for upcoming Title II updates to the ADA\, which will require greater digital accessibility across all public institutions\n\nThis is event is virtual and social!  No prior knowledge needed—just a willingness to learn.\n\nSign up today: https://umich.qualtrics.com/jfe/form/SV_eznQ4YvMVr3Uo7k
UID:135036-21876013@events.umich.edu
URL:https://events.umich.edu/event/135036
CLASS:PUBLIC
STATUS:CONFIRMED
CATEGORIES:Inclusion,Skill-building,Social,Training
LOCATION:Off Campus Location
CONTACT:
END:VEVENT
BEGIN:VEVENT
DTSTAMP:20250408T135629
DTSTART;TZID=America/Detroit:20250508T090000
DTEND;TZID=America/Detroit:20250508T200000
SUMMARY:Exhibition:Behind the Curve: Rainbows and the Science and Culture of Color
DESCRIPTION:We have many significant books from the history of our understanding of rainbows and color theory\, from the writings of scholar Ḥasan Ibn al-Haytham to Isaac Newton’s 1704 Opticks. Rainbows appear across the spectrum of our collections\, and this exhibit includes a handwritten illuminated manuscript\, practical color manuals of the industrial age\, contemporary artists’ and children’s books\, and more from our vast holdings. \n\nRainbows have captivated people for all of recorded history. It’s hard not to think of them as physical objects\, but they are really just distorted images of the sun\, positioned around the viewer’s head. They require someone to perceive them to exist\, and thus have much in common with colors and color theory in general. And\, like colors\, they are about relationships: of one color next to another\, and of colors and the people who see them. The rainbow has had many different cultural interpretations over the years\, and most recently has become synonymous with gay pride\, appearing all over each June.\n\nHatcher Gallery Exhibit Room Hours:\nSunday\, 2-8pm\nMonday-Thursday\, 9am-8pm\nFriday\, 9am-4pm\nSaturday\, 11am-5pm
UID:134798-21875137@events.umich.edu
URL:https://events.umich.edu/event/134798
CLASS:PUBLIC
STATUS:CONFIRMED
CATEGORIES:Free,Library
LOCATION:Hatcher Graduate Library - Hatcher Gallery Exhibit Room (1st floor)
CONTACT:
END:VEVENT
BEGIN:VEVENT
DTSTAMP:20250211T122734
DTSTART;TZID=America/Detroit:20250508T090000
DTEND;TZID=America/Detroit:20250508T160000
SUMMARY:Exhibition:Redefining the Crown
DESCRIPTION:In Winter 2025\, the Lane Hall exhibit space will feature a portraiture series titled Redefining the Crown showcasing the powerful stories of six Black breast cancer survivors.\n\nBased on a photo essay by U-M Faculty Versha Pleasant (MD/MPH) and Ava Purkiss (PhD) in Medicine at Michigan\, this exhibition examines the cultural and personal significance of hair within Black communities\, particularly through the lens of breast cancer treatment and recovery. The term \"crown\" is deeply symbolic in Black culture\, signifying beauty\, strength\, and identity. The featured photo essay by photographer Tafari Stevenson-Howard captures the intimate journeys of Ann Chatman\, Tanisha Kennedy\, Felecia McDaniel\, Shantell Elaine McCoy\, Tamara Lynn Myles\, and Veleria Banks.\n\nThrough their narratives and portraits\, the exhibit examines how these women have navigated the profound impact of hair loss caused by chemotherapy\, inviting the audience to witness their stories with radical empathy. It explores the cultural pride and personal identity intricately tied to their hair\, and how these elements are redefined amidst their battles with breast cancer.\n\nThe exhibit will be on view from January 21\, 2025 to August 8\, 2025. This exhibition is presented with support from IRWG\, the Department of Women's and Gender Studies\, and Michigan Medicine. \n\nLocated on the first floor of Lane Hall (204 S. State Street)\, the Exhibit Space is free and open to the public\, M-F\, 9am-4pm.
UID:129602-21864125@events.umich.edu
URL:https://events.umich.edu/event/129602
CLASS:PUBLIC
STATUS:CONFIRMED
CATEGORIES:african american,Art,institute for research on women and gender,women,Women's And Gender Studies
LOCATION:Lane Hall
CONTACT:
END:VEVENT
BEGIN:VEVENT
DTSTAMP:20250505T095232
DTSTART;TZID=America/Detroit:20250508T090000
DTEND;TZID=America/Detroit:20250508T180000
SUMMARY:Workshop / Seminar:Thinking With\, About\, and Against “Jewish Reproduction”
DESCRIPTION:Over the past four decades legal scholars\, ethicists\, historians\, anthropologists\, sociologists\, and demographers have laid bare the centrality of reproduction to social life\, power\, and politics. At this convening\, we will think together about how Jewish reproduction shapes kinship structures\, ritual life\, imaginations of Jewish pasts and futures\, concepts of personhood\, and communal boundaries.\n\nSchedule:\n\nWednesday\, May 7\n\n11:30 AM - 1:00 PM - Session 1: Bodies of Knowledge\nChair: Rafe Neis (University of Michigan)\n\nPresenters:\nLaura Yares (Michigan State University)\, Reproduction as a Preoccupation in Jewish Engagement Education:  Domesticity\, Continuity\, and Instagram\n\nBen Kasstan-Dabush (University of Edinburgh and London School of Hygiene & Tropical Medicine)\, “Vaccines\, Jewish reproduction and (un)certain bodies of knowledge”\n\nRespondent: Cara Rock-Singer (University of Michigan)\n\n\n2:30 - 4:00 PM - Session 2: Futurity\nChair: Lauren Gwin (University of Michigan)\n\nPresenters:\nMara Benjamin (Mount Holyoke College)\, Resurrection/compost\n\nTiarra Maznick (Holocaust Educational Foundation of Northwestern University (HEFNU))\, “Nana Didn’t Survive the Camps for Nothing”: The Holocaust and Jewish Reproductive Futurities\n\nRespondent: Lea Taragin-Zeller (The Hebrew University of Jerusalem)\n\n\n4:30 - 6:00 PM - Session 3: Repro Images and Imaginaries\nChair: Deborah Dash Moore (University of Michigan)\n\nPresenters:\nSari Fein (Smith College)\, “‘If Only with a Womb for Bearing I Was Create’: The Image of Sarah’s Womb in Late Antique Jewish Literature”\n \nGabriel Chazan (University of Wisconsin-Madison)\, Between Shteynberg and Steinberg: Leo Steinberg's Translations\n\nRespondent: Deborah Forger (University of Michigan)\n\n\n\nThursday\, May 8\n\n9:00 - 10:30 AM - Session 4: Bio-Theologies of Reproduction\nChair: Seda Saluk (University of Michigan)\n\nPresenters:\nSara Ronis (St. Mary’s University)\, Pregnant with Possibilities\n\nCara Rock-Singer (University of Michigan)\, Birthing a Body Politic: From Reptilian Sovereignty to Amphibious Ecologies\n\nRespondent: Elliot Ginsburg (University of Michigan)\n\n\n11:00 AM - 12:30 PM - Session 5: Making Jewish Families\nChair: Iris Rachamamov (Tel Aviv University/University of Michigan)\n\nPresenters:\nLilach Rosenberg-Friedman (Bar Ilan University)\, “Single Motherhood in Mandatory Palestine: Challenging the Normative Family Model”\n\nCassandra Euphrat Weston (University of Michigan)\, Jewish Socialist Women Parenting Without Marriage: Matilda Robbins\, Pauline Newman\, and Radical Comradeship in the First Red Scare\n\nJordan Katz (University of Massachusetts\, Amherst)\, Beyond Bloodlines: Adoptive Reproduction and the Forging of Alternative Jewish Families in Early Modern Europe\n\nRespondent: Anna Bonnell Freidin (University of Michigan)\n\n\n2:00- 3:30 PM - Session 6: Rituals\, Rites\, and Rights\nChair: Karla Goldman (University of Michigan)\n\nPresenters:\nVanessa Paloma Elbaz (Virtual\, Cambridge University)\, Women and Astronomical Cycles of Sound: Singing for Fertility in Northern Morocco\n\nRachel Kranson (University of Pittsburgh)\, Spiritual Resistance: Making Abortion Sacred Through Communal Jewish Ritual\n\nRespondent: William Calvo-Quirós (University of Michigan)\n\n\n4:00- 5:30 PM - Session 7: (Re)producing Judaism through Activism\nModerator: Melynda Price (University of Michigan)\n\nPresenters:\nLisa Fishbayne-Joffe (Brandeis University)\, Antisemitism in the Struggle for Abortion Rights in Canada\n\nAlice Mishkin (University of Michigan)\, We Will Be the Generation:' Jewish Continuity and Palestine\n\nRespondent: Michal Raucher (Rutgers University)
UID:134338-21874212@events.umich.edu
URL:https://events.umich.edu/event/134338
CLASS:PUBLIC
STATUS:CONFIRMED
CATEGORIES:Activism,Anthropology,Gender,Humanities,Inclusion,Jewish Studies,LGBT,LGBTQ Graduate Student,Middle East Studies,Rackham,Religion,social justice
LOCATION:Michigan League - Koessler Room
CONTACT:
END:VEVENT
BEGIN:VEVENT
DTSTAMP:20240130T121550
DTSTART;TZID=America/Detroit:20250508T100000
DTEND;TZID=America/Detroit:20250508T200000
SUMMARY:Exhibition:A Gathering
DESCRIPTION:Welcome. Make Yourself At Home.\n \nA Gathering brings together the newest works of art to enter UMMA’s collection — many on display here for the first time. \n \nAs a free\, public museum\, UMMA staff takes care of art for the benefit of the community and society at large. The works on view in this exhibition\, all brought into the Museum between 2019 and the present\, shows how institutions like UMMA are becoming more permeable to societal challenges\, and more nimble in responding to them in service to all in their communities. In this exhibition you will find works that reflect on how global migrations\, race\, gender\, and ecological change shape the way we engage with the world and inform our visions for the future.\n \nThis collection of artistic engagements with issues give us tools to envision who we want to be as individuals\, as a museum\, and as a society\, connected to one another across space and experience.\n \nSo gather here to take in these latest works of art brought here for you. Gather here to be engulfed in their forms and meanings\, to discuss their takes\, to learn\, to disagree. Gather to relax\, make a friend\, drink a coffee\, finish the daily Wordle. Gather to feel full\, to be moved and inspired by all the possible imaginations of what is yet to come.\n \nCurated by Félix Zamora Gómez Irving Stenn\, Jr. Fellow in Public Humanities & Museum Pedagogy\n\nLead support for this exhibition is provided by Lizzie and Jonathan Tisch\, the Richard and Rosann Noel Endowment\, and the University of Michigan Office of the Provost.\n 
UID:107870-21818111@events.umich.edu
URL:https://events.umich.edu/event/107870
CLASS:PUBLIC
STATUS:CONFIRMED
CATEGORIES:Art,Exhibition,Free,Humanities,Museum,Staff,UMMA
LOCATION:Museum of Art - Lizzie and Jonathan Tisch Apse
CONTACT:
END:VEVENT
END:VCALENDAR