BEGIN:VCALENDAR
VERSION:2.0
PRODID:-//UM//UM*Events//EN
CALSCALE:GREGORIAN
BEGIN:VTIMEZONE
TZID:America/Detroit
TZURL:http://tzurl.org/zoneinfo/America/Detroit
X-LIC-LOCATION:America/Detroit
BEGIN:DAYLIGHT
TZOFFSETFROM:-0500
TZOFFSETTO:-0400
TZNAME:EDT
DTSTART:20070311T020000
RRULE:FREQ=YEARLY;BYMONTH=3;BYDAY=2SU
END:DAYLIGHT
BEGIN:STANDARD
TZOFFSETFROM:-0400
TZOFFSETTO:-0500
TZNAME:EST
DTSTART:20071104T020000
RRULE:FREQ=YEARLY;BYMONTH=11;BYDAY=1SU
END:STANDARD
END:VTIMEZONE
BEGIN:VEVENT
DTSTAMP:20250414T110515
DTSTART;TZID=America/Detroit:20250509T123000
DTEND;TZID=America/Detroit:20250509T130000
SUMMARY:Tours:Mid-Day Morsel Tour | Gladiators: Life in the Arena
DESCRIPTION:Looking for something to feed your brain on your lunch hour? The Mid-Day Morsel tour at the Kelsey Museum is a 30-minute taste of ancient Mediterranean history and artifact highlights in the Kelsey collection. Led by University Programs Coordinator Shannon Ness\, this tour will provide an in-depth look at the Kelsey in Focus exhibition she curated. “Gladiators: Life in the Arena” explores the lives\, deaths\, careers\, and celebrity status of these athletes through ancient objects\, replica artifacts\, and more.\n\nMid-Day Morsel tours begin at 12:30 PM. No registration is needed. Tour participants should gather at our Maynard Street entrance a few minutes before the tour is scheduled to start.\n\nThis event is free and open to all visitors. If you have any questions or concerns regarding accessing this event\, please visit our accessibility page at https://myumi.ch/zwPkd or contact the education office by calling (734) 647-4167. We ask for advance notice as some accommodations may require more time for the university to arrange.
UID:134965-21875886@events.umich.edu
URL:https://events.umich.edu/event/134965
CLASS:PUBLIC
STATUS:CONFIRMED
CATEGORIES:Tour,Museum,history,Free,Exhibition,Classical Studies,Archaeology,Ancient Rome
LOCATION:Kelsey Museum of Archaeology
CONTACT:
END:VEVENT
BEGIN:VEVENT
DTSTAMP:20260112T132416
DTSTART;TZID=America/Detroit:20250509T133000
DTEND;TZID=America/Detroit:20250509T150000
SUMMARY:Workshop / Seminar:Digital Accessibility Office Hours
DESCRIPTION:Got questions about digital accessibility\, Title II compliance\, or how to make digital content accessible? \n\n-Come to virtual drop-in office hours!\n-Every 2nd and 4th Friday of the month\n-1:30 - 3:00pm \n-Zoom Meeting ID 935 9909 5960\n-Digital accessibility experts available to help you\n\nOpen to everyone from all U-M campuses (Ann Arbor\, Dearborn\, Flint\, Michigan Medicine).\n\nCan’t make it to Office Hours but have a question? Contact us (https://accessibility.umich.edu/contact-services)!\n\nIf you need accommodations to participate in office hours\, let us know by emailing ADAcoordinator@umich.edu.
UID:132601-21871408@events.umich.edu
URL:https://events.umich.edu/event/132601
CLASS:PUBLIC
STATUS:CONFIRMED
CATEGORIES:Communication,Virtual,Staff,Office Hours,Graduate Students,Faculty,Disability,Digital Accessibility,Accessibility,Undergraduate Students
LOCATION:Off Campus Location
CONTACT:
END:VEVENT
BEGIN:VEVENT
DTSTAMP:20250507T154122
DTSTART;TZID=America/Detroit:20250509T140000
DTEND;TZID=America/Detroit:20250509T144500
SUMMARY:Exhibition:Dynamic Earth
DESCRIPTION:The show explores the inner workings of Earth’s climate system. With visualizations based on satellite monitoring data and advanced supercomputer simulations\, this cutting-edge production follows a trail of energy that flows from the Sun into the interlocking systems that shape our climate: the atmosphere\, oceans\, and the biosphere.\n\nAudiences will ride along on swirling ocean and wind currents\, dive into the heart of a monster hurricane\, come face-to-face with sharks and gigantic whales\, and fly into roiling volcanoes.
UID:135104-21876292@events.umich.edu
URL:https://events.umich.edu/event/135104
CLASS:PUBLIC
STATUS:CONFIRMED
CATEGORIES:Museum,natural history museum,Natural Sciences,Planetarium,Space
LOCATION:Museum of Natural History - Planetarium &amp; Dome Theater
CONTACT:
END:VEVENT
BEGIN:VEVENT
DTSTAMP:20250507T135632
DTSTART;TZID=America/Detroit:20250509T140000
DTEND;TZID=America/Detroit:20250509T153000
SUMMARY:Workshop / Seminar:Logic Seminar: Nonstandard analysis in arithmetic Ramsey Theory
DESCRIPTION:Arithmetic Ramsey theory is an area of combinatorics that focuses on the existence\, for any finite coloring (partition)of the natural numbers\, of “monochromatic patterns” defined by arithmetic operations. A classical result is van der Waerden's Theorem\, which states that monochromatic arithmetic progressions of any prescribed (finite) length can always be found. A fundamental result on infinite configurations is Hindman's Theorem\, which states that one can always find an infinite sequence such that all sums of its distinct elements are monochromatic. Various techniques have been successfully applied to the problems of arithmetic Ramsey theory\, including ergodic theory\, discrete harmonic analysis\, topological dynamics\, algebra in the space of ultrafilters. In this seminar I will show some recent applications in this area of nonstandard analysis methods combined with the use of ultrafilters.
UID:135500-21876890@events.umich.edu
URL:https://events.umich.edu/event/135500
CLASS:PUBLIC
STATUS:CONFIRMED
CATEGORIES:Mathematics
LOCATION:East Hall - 2866
CONTACT:
END:VEVENT
BEGIN:VEVENT
DTSTAMP:20250509T142014
DTSTART;TZID=America/Detroit:20250509T150000
DTEND;TZID=America/Detroit:20250509T153000
SUMMARY:Workshop / Seminar:MHealthy Led Desk Exercises
DESCRIPTION:Desk Exercises - led by MHealthy's own Colleen Greene When you don’t have time to leave for a complete work out\, we can show you a few exercises to help you feel better at the end of your otherwise sedentary day! 
UID:135213-21876487@events.umich.edu
URL:https://events.umich.edu/event/135213
CLASS:PUBLIC
STATUS:CONFIRMED
CATEGORIES:Sessions
LOCATION:Zoom
CONTACT:
END:VEVENT
BEGIN:VEVENT
DTSTAMP:20250410T101420
DTSTART;TZID=America/Detroit:20250509T180000
DTEND;TZID=America/Detroit:20250509T193000
SUMMARY:Recreational / Games:Beach Tennis - Learn to Play
DESCRIPTION:Jump into the exciting world of beach tennis! Learn the basics of gameplay\, key techniques\, and winning strategies before putting your skills to test in fun matches with fellow participants. This is a one day class. Open to anyone 21 years of age or older. All equipment is provided.\nMain Topics Covered:\n- Rules and Scoring\n- Equipment and Court\n- Techniques and Strategy\n- Gameplay Practice
UID:134851-21875344@events.umich.edu
URL:https://events.umich.edu/event/134851
CLASS:PUBLIC
STATUS:CONFIRMED
CATEGORIES:Health & Wellness,Rec Sports,Social
LOCATION:Off Campus Location
CONTACT:
END:VEVENT
END:VCALENDAR