BEGIN:VCALENDAR
VERSION:2.0
PRODID:-//UM//UM*Events//EN
CALSCALE:GREGORIAN
BEGIN:VTIMEZONE
TZID:America/Detroit
TZURL:http://tzurl.org/zoneinfo/America/Detroit
X-LIC-LOCATION:America/Detroit
BEGIN:DAYLIGHT
TZOFFSETFROM:-0500
TZOFFSETTO:-0400
TZNAME:EDT
DTSTART:20070311T020000
RRULE:FREQ=YEARLY;BYMONTH=3;BYDAY=2SU
END:DAYLIGHT
BEGIN:STANDARD
TZOFFSETFROM:-0400
TZOFFSETTO:-0500
TZNAME:EST
DTSTART:20071104T020000
RRULE:FREQ=YEARLY;BYMONTH=11;BYDAY=1SU
END:STANDARD
END:VTIMEZONE
BEGIN:VEVENT
DTSTAMP:20250409T113919
DTSTART;TZID=America/Detroit:20250509T180000
DTEND;TZID=America/Detroit:20250509T193000
SUMMARY:Recreational / Games:Bocce Ball - Learn to Play
DESCRIPTION:Get rolling with the basics of bocce ball! Learn gameplay\, tips\, and strategies\, then put your skills to the test in games with fellow participants. All equipment is included.
UID:134825-21875313@events.umich.edu
URL:https://events.umich.edu/event/134825
CLASS:PUBLIC
STATUS:CONFIRMED
CATEGORIES:Social,Rec Sports
LOCATION:Off Campus Location
CONTACT:
END:VEVENT
BEGIN:VEVENT
DTSTAMP:20250506T181516
DTSTART;TZID=America/Detroit:20250509T190000
DTEND;TZID=America/Detroit:20250408T010000
SUMMARY:Sporting Event:Men's Track & Field vs Len Paddock Invitational
DESCRIPTION:Men's Track & Field vs Len Paddock Invitational
UID:134775-21875094@events.umich.edu
URL:https://events.umich.edu/event/134775
CLASS:PUBLIC
STATUS:CONFIRMED
CATEGORIES:Athletics
LOCATION:Off Campus Location
CONTACT:
END:VEVENT
BEGIN:VEVENT
DTSTAMP:20250506T181516
DTSTART;TZID=America/Detroit:20250509T190000
DTEND;TZID=America/Detroit:20250409T010000
SUMMARY:Sporting Event:Women's Track & Field vs Len Paddock Invitational
DESCRIPTION:Women's Track & Field vs Len Paddock Invitational
UID:134817-21875273@events.umich.edu
URL:https://events.umich.edu/event/134817
CLASS:PUBLIC
STATUS:CONFIRMED
CATEGORIES:Athletics
LOCATION:Off Campus Location
CONTACT:
END:VEVENT
BEGIN:VEVENT
DTSTAMP:20250211T085302
DTSTART;TZID=America/Detroit:20250509T200000
SUMMARY:Performance:Cousin Curtiss
DESCRIPTION:Blues at bluegrass speeds\n\nCousin Curtiss brings to the stage a fiery dynamic rarely seen by a solo act and now partnered up with the equally enigmatic and soulfully driven electric guitar prowess of Harrison B\, these two road warriors are on a mission to electrify audiences everywhere with their two-man full-band sound. Think\, \"blues at bluegrass speeds.\" Imagine\, \"rock americana with a soulful drip.\" Experience rapid fire acoustic guitar\, incendiary harmonica\, fiercely energized solos\, all driven by a thunderous kick drum.
UID:132610-21871391@events.umich.edu
URL:https://events.umich.edu/event/132610
CLASS:PUBLIC
STATUS:CONFIRMED
CATEGORIES:Ark,Mutotix
LOCATION:ARK Reserved
CONTACT:
END:VEVENT
BEGIN:VEVENT
DTSTAMP:20250305T120029
DTSTART;TZID=America/Detroit:20250510T000000
DTEND;TZID=America/Detroit:20250510T235959
SUMMARY:Other:Nationals Practice
DESCRIPTION:Training
UID:132608-21871382@events.umich.edu
URL:https://events.umich.edu/event/132608
CLASS:PUBLIC
STATUS:CONFIRMED
CATEGORIES:
LOCATION:Michigan Sailing Club
CONTACT:
END:VEVENT
BEGIN:VEVENT
DTSTAMP:20250304T115736
DTSTART;TZID=America/Detroit:20250510T000000
DTEND;TZID=America/Detroit:20250510T120000
SUMMARY:Class / Instruction:Summer Session in Epidemiology
DESCRIPTION:Join us for the longest-running summer program in epidemiology! Choose from engaging 1-week or 3-week online courses designed to provide skills-based training in applied epidemiology.\n\nFor 60 years\, the University of Michigan's Summer Session in Epidemiology (SSE) has been one of the nation's longest-running and premier summer epidemiology programs. In just one to three intensive weeks\, gain valuable knowledge and skills to enhance your academic and professional journey. SSE is designed for public health and healthcare professionals\, researchers\, and anyone eager to build a foundation in epidemiologic science. We welcome participants from diverse backgrounds\, including undergraduate students\, public health professionals\, clinical and biomedical researchers\, and scholars in related fields such as psychology\, sociology\, and earth sciences. \n\nWhile experience in public health\, epidemiology\, or biostatistics is beneficial\, it is not required. By the end of our program\, you will have developed a solid understanding of key research principles in clinical populations\, covering areas such as: Study Design\, Biostatistical Analysis\, and Causal Inference These essential skills will help you advance in epidemiology\, public health\, and related fields.
UID:133411-21872949@events.umich.edu
URL:https://events.umich.edu/event/133411
CLASS:PUBLIC
STATUS:CONFIRMED
CATEGORIES:Professional Development,Virtual,Undergraduate Students,Undergraduate,Staff,Research,Rackham,Public Health,Pre Med,Postdoctoral Research Fellows,Graduate Students,Graduate and Professional Students,Graduate,Epidemiology,Education,Dentistry,data,Complex Systems,biostatistics,Alumni
LOCATION:Off Campus Location
CONTACT:
END:VEVENT
END:VCALENDAR