BEGIN:VCALENDAR
VERSION:2.0
PRODID:-//UM//UM*Events//EN
CALSCALE:GREGORIAN
BEGIN:VTIMEZONE
TZID:America/Detroit
TZURL:http://tzurl.org/zoneinfo/America/Detroit
X-LIC-LOCATION:America/Detroit
BEGIN:DAYLIGHT
TZOFFSETFROM:-0500
TZOFFSETTO:-0400
TZNAME:EDT
DTSTART:20070311T020000
RRULE:FREQ=YEARLY;BYMONTH=3;BYDAY=2SU
END:DAYLIGHT
BEGIN:STANDARD
TZOFFSETFROM:-0400
TZOFFSETTO:-0500
TZNAME:EST
DTSTART:20071104T020000
RRULE:FREQ=YEARLY;BYMONTH=11;BYDAY=1SU
END:STANDARD
END:VTIMEZONE
BEGIN:VEVENT
DTSTAMP:20250414T003504
DTSTART;TZID=America/Detroit:20250510T133000
DTEND;TZID=America/Detroit:20250510T140000
SUMMARY:Tours:Tour: Museum Highlights
DESCRIPTION:Learn about some of our exciting exhibits and galleries like the Exploring Michigan gallery and Evolution: Life Through Time. Along with learning about the past\, this tour will take a step into the future and explore cutting-edge research being done in the Biological Sciences Building.
UID:125524-21875733@events.umich.edu
URL:https://events.umich.edu/event/125524
CLASS:PUBLIC
STATUS:CONFIRMED
CATEGORIES:natural history museum,Museum
LOCATION:Museum of Natural History
CONTACT:
END:VEVENT
BEGIN:VEVENT
DTSTAMP:20250507T154122
DTSTART;TZID=America/Detroit:20250510T140000
DTEND;TZID=America/Detroit:20250510T144500
SUMMARY:Exhibition:Dynamic Earth
DESCRIPTION:The show explores the inner workings of Earth’s climate system. With visualizations based on satellite monitoring data and advanced supercomputer simulations\, this cutting-edge production follows a trail of energy that flows from the Sun into the interlocking systems that shape our climate: the atmosphere\, oceans\, and the biosphere.\n\nAudiences will ride along on swirling ocean and wind currents\, dive into the heart of a monster hurricane\, come face-to-face with sharks and gigantic whales\, and fly into roiling volcanoes.
UID:135104-21876301@events.umich.edu
URL:https://events.umich.edu/event/135104
CLASS:PUBLIC
STATUS:CONFIRMED
CATEGORIES:Space,Museum,natural history museum,Natural Sciences,Planetarium
LOCATION:Museum of Natural History - Planetarium &amp; Dome Theater
CONTACT:
END:VEVENT
BEGIN:VEVENT
DTSTAMP:20250414T110843
DTSTART;TZID=America/Detroit:20250510T140000
DTEND;TZID=America/Detroit:20250510T150000
SUMMARY:Tours:Saturday Sampler Tour | Connections in the Ancient Mediterranean
DESCRIPTION:We often study the ancient world as if each culture were completely separate\, focusing on ancient Egypt\, Cyprus\, Rome\, Mesopotamia\, and Greece in isolation. But the Mediterranean truly was connected! In this tour\, we’ll look at the connections resulting from such factors as trade\, migration\, and conquest. We’ll look at artifacts found in places we might not expect to find them\, as well as evidence of the blending of cultures and traditions.\n\nThis event is free and open to all visitors. If you have any questions or concerns regarding accessing this event\, please visit our accessibility page at https://myumi.ch/zwPkd or contact the education office by calling (734) 647-4167. We ask for advance notice as some accommodations may require more time for the university to arrange.
UID:134966-21875887@events.umich.edu
URL:https://events.umich.edu/event/134966
CLASS:PUBLIC
STATUS:CONFIRMED
CATEGORIES:Archaeology,Ancient Middle East,Free,history,Multicultural,Museum,Tour,Ancient Egypt,Ancient Greece,Ancient Rome
LOCATION:Kelsey Museum of Archaeology
CONTACT:
END:VEVENT
BEGIN:VEVENT
DTSTAMP:20250414T004931
DTSTART;TZID=America/Detroit:20250510T143000
DTEND;TZID=America/Detroit:20250510T150000
SUMMARY:Presentation:Cow Eye Dissection
DESCRIPTION:Have you ever wondered how we see? To take a closer look at the organ that helps us see the world– by dissecting a cow’s eye. How is it similar to and different from our eyes\, and those of other animals? Learn the parts of the eye and how they work together. How do our eyes talk with our brain? Learn why we actually see upside down!
UID:124738-21875766@events.umich.edu
URL:https://events.umich.edu/event/124738
CLASS:PUBLIC
STATUS:CONFIRMED
CATEGORIES:natural history museum,Museum
LOCATION:Museum of Natural History
CONTACT:
END:VEVENT
BEGIN:VEVENT
DTSTAMP:20250411T121639
DTSTART;TZID=America/Detroit:20250510T180000
DTEND;TZID=America/Detroit:20250510T200000
SUMMARY:Performance:Carson Arcuri\, voice
DESCRIPTION:Graduate student Carson Arcuri\, tenor\, performs a recital.
UID:134911-21875688@events.umich.edu
URL:https://events.umich.edu/event/134911
CLASS:PUBLIC
STATUS:CONFIRMED
CATEGORIES:North Campus,Music,Free
LOCATION:Earl V. Moore Building - Britton Recital Hall
CONTACT:
END:VEVENT
BEGIN:VEVENT
DTSTAMP:20250509T120704
DTSTART;TZID=America/Detroit:20250510T200000
SUMMARY:Performance:Nefesh Mountain
DESCRIPTION:“A Masterclass in string music\, A Powerhouse Unit” –Rolling Stone\n\nThe New York based Progressive Americana group Nefesh Mountain Band has been hailed as one of the formative boundary-pushing ensembles in roots music. The band's creators and dynamic husband and wife team of Eric Lindberg and Doni Zasloff have created a world and sound all their own\; blurring the lines between Americana\, Bluegrass\, Folk\, Jazz and Blues with a masterful hand as songwriters\, instrumentalists and composers alike.\n\nTheir latest album\, Beacons\, emerged from a bold and wholehearted attempt to transform the world around them. Soon after wrapping up a whirlwind tour booked with the mission of spreading their newfound message of radical love\, co-founders Doni Zasloff and Eric Lindberg immersed themselves in the feverish writing of songs that turned their frustrations and fears into irrepressible hope\, all while reaching far beyond their bluegrass roots and forging a fiercely joyful sound unbound by genre convention. By the time they’d completed that process of musical alchemy\, the New York-based husband-and-wife duo had profoundly refined the band’s vision and voice and arrived at the unfettered radiance of Beacons: an epic double album affirming Nefesh Mountain as a singular musical force—one whose deeply impassioned songwriting awakens us to new ways of navigating an endlessly troubled world.
UID:132027-21869808@events.umich.edu
URL:https://events.umich.edu/event/132027
CLASS:PUBLIC
STATUS:CONFIRMED
CATEGORIES:Ark,Mutotix
LOCATION:ARK Reserved
CONTACT:
END:VEVENT
END:VCALENDAR