BEGIN:VCALENDAR
VERSION:2.0
PRODID:-//UM//UM*Events//EN
CALSCALE:GREGORIAN
BEGIN:VTIMEZONE
TZID:America/Detroit
TZURL:http://tzurl.org/zoneinfo/America/Detroit
X-LIC-LOCATION:America/Detroit
BEGIN:DAYLIGHT
TZOFFSETFROM:-0500
TZOFFSETTO:-0400
TZNAME:EDT
DTSTART:20070311T020000
RRULE:FREQ=YEARLY;BYMONTH=3;BYDAY=2SU
END:DAYLIGHT
BEGIN:STANDARD
TZOFFSETFROM:-0400
TZOFFSETTO:-0500
TZNAME:EST
DTSTART:20071104T020000
RRULE:FREQ=YEARLY;BYMONTH=11;BYDAY=1SU
END:STANDARD
END:VTIMEZONE
BEGIN:VEVENT
DTSTAMP:20250407T114957
DTSTART;TZID=America/Detroit:20250512T130000
DTEND;TZID=America/Detroit:20250512T160000
SUMMARY:Conference / Symposium:24th Annual James Neel M.D. Lecture in Human Genetics
DESCRIPTION:Please join us on Monday\, May 12\, 2025\, starting at 1:00 PM in Kahn Auditorium\, BSRB\, for the 24th Annual James V. Neel Lecture in Human Genetics. Professor Matthew Hurles\, the Director of the Wellcome Sanger Institute\, will present \"Causes and Consequences of New Mutations\". Professor Hurles leads a research group focused on deciphering the genetic causes of severe developmental disorders and aims to understand how DNA mutates as it is passed from generation to generation. The lectureship will be followed by a poster session and reception in the ABC Seminar Rooms. The attached flyer provides detailed information\; please share this with your colleagues.  \n\nTHE DEPARTMENT OF HUMAN GENETICS – 24TH ANNUAL JAMES V. NEEL LECTURE IN HUMAN GENETICS\n \n\"Causes and Consequences of New Mutations\"\n \nPresented by:\nProfessor Matthew Hurles\, FMedSci FRS \nDirector of the Wellcome Sanger Institute\nAdditional information on the keynote speaker\n \nMonday\, May 12\, 2025\, | 1:00PM - 4:00PM EST\n1:00PM - Award Presentations & Keynote Lecture - Kahn Auditorium\, Biomedical Science Research Building (BSRB)\n3:00PM - Poster Session & Reception - Seminar Rooms ABC\, Biomedical Science Research Building (BSRB)\n \nSponsored by: The Department of Human Genetics\, University of Michigan Medical School\nHosted by: Dr. Agnieszka Lukaszewicz\, Department of Human Genetics\nEvent Website: https://medschool.umich.edu/events/human-genetics-research-seminar-series/james-v-neel-md-phd-lecture-human-genetics-award/2025-05-12\n \nABOUT ANNUAL JAMES V. NEEL LECTURE IN HUMAN GENETICS\nJames V. Neel Lecture in Human Genetics honors the legacy of James Neel through lectures by prominent genetic researchers and fellowship awards to outstanding graduate education students.  James Van Gundia Neel\, M.D.\, Ph.D.\, was a pioneer in the study of human genetics and one of the first to foresee its importance in the diagnosis and treatment of medical conditions. During his 39-year career in the U-M Medical School\, Neel established one of the first clinics to evaluate and counsel people with hereditary diseases\, as well as the first academic department of human genetics in the United States.  During a distinguished career spanning more than 60 years\, he made major contributions to our understanding of the genetics of several human diseases including diabetes mellitus\, neurofibromatosis\, and sickle cell anemia\, of the effects of atomic radiation on humans\, and of the genetic structure of Amerindian populations.\n \nFollow the DHG events calendar or sign up for our monthly newsletters to stay informed about our upcoming events. For inquiries\, please contact dhgcommunications@umich.edu.
UID:132164-21870522@events.umich.edu
URL:https://events.umich.edu/event/132164
CLASS:PUBLIC
STATUS:CONFIRMED
CATEGORIES:Public Health,lecture,Life Science,lifton,Medicine,Natural Sciences,neel,neurological disease,Postdoctoral Research Fellows,basic sciences,Public Policy,Reception,research,Science,seminar,sodium channel,symposium,Basic Science,human genetics,Information and Technology,biolgical chemistry,biological chemistry,biological science,Biology,Biosciences,Bsbsigns,cancer,Chemistry,Discussion,epilepsy,Faculty,Free,genetics,genome,genomics
LOCATION:Taubman Biomedical Science Research Building - 1020 Kahn Auditorium, BSRB
CONTACT:
END:VEVENT
BEGIN:VEVENT
DTSTAMP:20250328T091313
DTSTART;TZID=America/Detroit:20250512T130000
DTEND;TZID=America/Detroit:20250512T140000
SUMMARY:Workshop / Seminar:Everything You Need to Know About Service Animals at U-M
DESCRIPTION:Join the university's Disability Equity Office to learn about service animals\, service animals in training\, emotional support animals\, and the differences between them. Topics will include service animals in the classroom\, workplace\, and public spaces. Participants will learn what questions can be asked of a handler and how to respond to inquiries about service animals.\n\nAmerican Sign Language (ASL) interpreting services and Communication Access Realtime Translation (CART) captioning services will be provided. If you need additional accommodations to participate in this webinar\, please email the ADA Coordinator at ADAcoordinator@umich.edu.
UID:134146-21873935@events.umich.edu
URL:https://events.umich.edu/event/134146
CLASS:PUBLIC
STATUS:CONFIRMED
CATEGORIES:Accessibility,Disability,Virtual
LOCATION:Off Campus Location
CONTACT:
END:VEVENT
BEGIN:VEVENT
DTSTAMP:20250411T141021
DTSTART;TZID=America/Detroit:20250512T140000
DTEND;TZID=America/Detroit:20250512T160000
SUMMARY:Workshop / Seminar:Practicing Flexibility Using Journal-Keeping in the Classroom
DESCRIPTION:Part of CRLTs Equity-Focused Teaching @ Michigan Series\nJournal-keeping describes a wide range of personal writing\, archiving\, and expressive practices in which no one reads or has access to what is written except the keeper or writer. Combining rhetorical theory with practical experimentation and reflection\, this workshop introduces participants to journal-keeping as a pedagogical practice that both students and instructors can use to deepen our critical engagement with complex questions of power and equity. In particular\, we’ll explore how journal-keeping both enables and requires a high degree of flexibility in instructional expectations.
UID:134886-21875666@events.umich.edu
URL:https://events.umich.edu/event/134886
CLASS:PUBLIC
STATUS:CONFIRMED
CATEGORIES:Virtual,Graduate Students,Free,Faculty,Center For Research On Learning And Teaching,Workshop
LOCATION:Off Campus Location
CONTACT:
END:VEVENT
BEGIN:VEVENT
DTSTAMP:20250507T152747
DTSTART;TZID=America/Detroit:20250512T150000
DTEND;TZID=America/Detroit:20250512T170000
SUMMARY:Presentation:Ryan Lamb - Dissertation Defense
DESCRIPTION:Please join Ryan Lamb for their dissertation defense titled \"Expanding the Ultrafast Toolkit: Employing Polarized Spectroscopy and Multiple Atomic  Perspectives to Better Understand Femtosecond Dynamics of 3d Transition Metal Complexes\".\n\n*Date:* Monday\, May 12th\, 2025\n*Time:* 3:00 p.m.\n*Where:* Room 1640\, Chemistry Building\n\nZoom Link: https://umich.zoom.us/j/99735518314
UID:135406-21876799@events.umich.edu
URL:https://events.umich.edu/event/135406
CLASS:PUBLIC
STATUS:CONFIRMED
CATEGORIES:Chemistry
LOCATION:Chemistry Dow Lab - 1640
CONTACT:
END:VEVENT
BEGIN:VEVENT
DTSTAMP:20250317T154756
DTSTART;TZID=America/Detroit:20250512T180000
DTEND;TZID=America/Detroit:20250512T193000
SUMMARY:Other:CBT Group for Adults with Social or Performance Anxiety – Spring/Summer 2025
DESCRIPTION:Do you get anxious in anticipation of social events or performance situations? Do you find yourself worried about appearing incompetent\, weird\, weak\, unintelligent\, awkward\, or anxious to other people in such situations? Do you ruminate about how you came across even after the event is over? Do you experience heart pounding\, blushing\, shaking\, sweating\, dry throat\, or “blanking out” in these situations? Do you cope by avoiding these situations as much as you can? \n\nIf so\, our Cognitive Behavioral Therapy (CBT) group for Social Anxiety may be right for you. Hosted by our Psychological Clinic\, the group is scheduled for 6-7:30 p.m. on Mondays\, beginning April 21\, 2025. The group will run for 8 weekly 90-minute sessions\, plus a booster session one month afterward the group concludes.\n\nClinicians use evidence-based group therapy to help participants learn to identify and shift unhealthy thinking patterns. You will build coping skills and increase confidence in a supportive environment and at your own pace.\n\nDetails\n+ When: 6-7:30 p.m.\, Tuesdays.\n+ Duration: The group will meet for 8 weeks starting on April 21\, with a follow-up booster session one month after the group concludes.\n+ Cost: $45 per meeting session\, without insurance. Call for information on insurance coverage.\n+ Where: Virtual via Zoom
UID:133976-21873742@events.umich.edu
URL:https://events.umich.edu/event/133976
CLASS:PUBLIC
STATUS:CONFIRMED
CATEGORIES:Undergraduate Students,anxiety,Faculty,Graduate,Graduate and Professional Students,Graduate Students,Group Therapy,Health & Wellness,psychology,Social Anxiety,Staff,Undergraduate,Well-being,Virtual
LOCATION:Off Campus Location
CONTACT:
END:VEVENT
BEGIN:VEVENT
DTSTAMP:20250305T120029
DTSTART;TZID=America/Detroit:20250513T000000
DTEND;TZID=America/Detroit:20250513T235959
SUMMARY:Other:Nationals Practice
DESCRIPTION:Training
UID:132608-21871385@events.umich.edu
URL:https://events.umich.edu/event/132608
CLASS:PUBLIC
STATUS:CONFIRMED
CATEGORIES:
LOCATION:Michigan Sailing Club
CONTACT:
END:VEVENT
END:VCALENDAR