BEGIN:VCALENDAR
VERSION:2.0
PRODID:-//UM//UM*Events//EN
CALSCALE:GREGORIAN
BEGIN:VTIMEZONE
TZID:America/Detroit
TZURL:http://tzurl.org/zoneinfo/America/Detroit
X-LIC-LOCATION:America/Detroit
BEGIN:DAYLIGHT
TZOFFSETFROM:-0500
TZOFFSETTO:-0400
TZNAME:EDT
DTSTART:20070311T020000
RRULE:FREQ=YEARLY;BYMONTH=3;BYDAY=2SU
END:DAYLIGHT
BEGIN:STANDARD
TZOFFSETFROM:-0400
TZOFFSETTO:-0500
TZNAME:EST
DTSTART:20071104T020000
RRULE:FREQ=YEARLY;BYMONTH=11;BYDAY=1SU
END:STANDARD
END:VTIMEZONE
BEGIN:VEVENT
DTSTAMP:20250304T115736
DTSTART;TZID=America/Detroit:20250513T000000
DTEND;TZID=America/Detroit:20250513T120000
SUMMARY:Class / Instruction:Summer Session in Epidemiology
DESCRIPTION:Join us for the longest-running summer program in epidemiology! Choose from engaging 1-week or 3-week online courses designed to provide skills-based training in applied epidemiology.\n\nFor 60 years\, the University of Michigan's Summer Session in Epidemiology (SSE) has been one of the nation's longest-running and premier summer epidemiology programs. In just one to three intensive weeks\, gain valuable knowledge and skills to enhance your academic and professional journey. SSE is designed for public health and healthcare professionals\, researchers\, and anyone eager to build a foundation in epidemiologic science. We welcome participants from diverse backgrounds\, including undergraduate students\, public health professionals\, clinical and biomedical researchers\, and scholars in related fields such as psychology\, sociology\, and earth sciences. \n\nWhile experience in public health\, epidemiology\, or biostatistics is beneficial\, it is not required. By the end of our program\, you will have developed a solid understanding of key research principles in clinical populations\, covering areas such as: Study Design\, Biostatistical Analysis\, and Causal Inference These essential skills will help you advance in epidemiology\, public health\, and related fields.
UID:133411-21872952@events.umich.edu
URL:https://events.umich.edu/event/133411
CLASS:PUBLIC
STATUS:CONFIRMED
CATEGORIES:Alumni,biostatistics,Complex Systems,data,Dentistry,Education,Epidemiology,Graduate,Graduate and Professional Students,Graduate Students,Postdoctoral Research Fellows,Pre Med,Professional Development,Public Health,Rackham,Research,Staff,Undergraduate,Undergraduate Students,Virtual
LOCATION:Off Campus Location
CONTACT:
END:VEVENT
BEGIN:VEVENT
DTSTAMP:20250417T104450
DTSTART;TZID=America/Detroit:20250513T080000
DTEND;TZID=America/Detroit:20250513T123000
SUMMARY:Conference / Symposium:Global Health Summer Institute 2025
DESCRIPTION:This year's global health summer institute will explore the intersection of research\, practice and advocacy as it relates to innovation and technology. By joining the UMSN Global Health Summer Institute\, you will:\n\n- Expand your perspective through interdisciplinary and intercultural keynotes\n- Access real-time captions through the event in the following languages: Arabic\, Cantonese\, Chinese (Mandarin)\, French\, Hindi\, Indonesian\, Japanese\, Korean\, Portuguese\, Spanish\, Tagala\, Tamil\, Telugu\, Thai\, Turkish\, Vietnamese\n- Personalize your experience with breakout sessions focused on clinical practice or research and policy\n- Gain skills in program development\, evaluation\, and advocacy\n- Share your work/learn about innovative ideas through flash presentations\n- Network with practitioners\, researchers\, and professionals across the globe\n- Earn up to 7.0 Nursing Contact hours for Nursing Continuing Professional Development Credits*\n- Receive a University of Michigan School of Nursing Certificate of Attendance\n \n\n*﻿University of Michigan Health Nursing Professional Development & Education is accredited as a provider of nursing continuing professional development by the American Nurses Credentialing Center's Commission on Accreditation.
UID:135094-21876069@events.umich.edu
URL:https://events.umich.edu/event/135094
CLASS:PUBLIC
STATUS:CONFIRMED
CATEGORIES:Global Health,Information and Technology,Interdisciplinary,International,Nursing,Public Health
LOCATION:Off Campus Location
CONTACT:
END:VEVENT
BEGIN:VEVENT
DTSTAMP:20250416T111333
DTSTART;TZID=America/Detroit:20250513T080000
DTEND;TZID=America/Detroit:20250513T235900
SUMMARY:Workshop / Seminar:Let’s Get Accessible! The 10-Day Digital Accessibility Awareness Challenge
DESCRIPTION:Every day we create and share digital content—documents\, emails\, videos\, slides\, social media posts—but have you ever stopped to ask “Is this accessible to everyone?”\nMost of us don’t realize the barriers that exist for people with disabilities until we learn how to remove them. So let’s get accessible!\n\nTogether\, we'll explore practical ways to make digital content more inclusive for all. Whether you're faculty\, staff\, or a student\, this challenge is packed with bite-sized actions and eye-opening insights that will:\n- Equip students with real-world accessibility skills that carry into the workplace\n- Help faculty and staff better support students and colleagues\n- Prepare our school for upcoming Title II updates to the ADA\, which will require greater digital accessibility across all public institutions\n\nThis is event is virtual and social!  No prior knowledge needed—just a willingness to learn.\n\nSign up today: https://umich.qualtrics.com/jfe/form/SV_eznQ4YvMVr3Uo7k
UID:135036-21876018@events.umich.edu
URL:https://events.umich.edu/event/135036
CLASS:PUBLIC
STATUS:CONFIRMED
CATEGORIES:Inclusion,Skill-building,Social,Training
LOCATION:Off Campus Location
CONTACT:
END:VEVENT
BEGIN:VEVENT
DTSTAMP:20250408T135629
DTSTART;TZID=America/Detroit:20250513T090000
DTEND;TZID=America/Detroit:20250513T200000
SUMMARY:Exhibition:Behind the Curve: Rainbows and the Science and Culture of Color
DESCRIPTION:We have many significant books from the history of our understanding of rainbows and color theory\, from the writings of scholar Ḥasan Ibn al-Haytham to Isaac Newton’s 1704 Opticks. Rainbows appear across the spectrum of our collections\, and this exhibit includes a handwritten illuminated manuscript\, practical color manuals of the industrial age\, contemporary artists’ and children’s books\, and more from our vast holdings. \n\nRainbows have captivated people for all of recorded history. It’s hard not to think of them as physical objects\, but they are really just distorted images of the sun\, positioned around the viewer’s head. They require someone to perceive them to exist\, and thus have much in common with colors and color theory in general. And\, like colors\, they are about relationships: of one color next to another\, and of colors and the people who see them. The rainbow has had many different cultural interpretations over the years\, and most recently has become synonymous with gay pride\, appearing all over each June.\n\nHatcher Gallery Exhibit Room Hours:\nSunday\, 2-8pm\nMonday-Thursday\, 9am-8pm\nFriday\, 9am-4pm\nSaturday\, 11am-5pm
UID:134798-21875142@events.umich.edu
URL:https://events.umich.edu/event/134798
CLASS:PUBLIC
STATUS:CONFIRMED
CATEGORIES:Free,Library
LOCATION:Hatcher Graduate Library - Hatcher Gallery Exhibit Room (1st floor)
CONTACT:
END:VEVENT
BEGIN:VEVENT
DTSTAMP:20250206T112023
DTSTART;TZID=America/Detroit:20250513T090000
DTEND;TZID=America/Detroit:20250513T163000
SUMMARY:Lecture / Discussion:BME Symposium and Glenn V. Edmonson Lecture
DESCRIPTION:The annual BME Symposium with Glenn V. Edmonson Lecture is coming soon! Details on submitting a poster proposal and registration will be coming soon.
UID:132437-21870946@events.umich.edu
URL:https://events.umich.edu/event/132437
CLASS:PUBLIC
STATUS:CONFIRMED
CATEGORIES:Basic Science,Biointerfaces,Biology,biomedical,biomedical engineering,Bioninterfaces,Biosciences,Biotechnology,bme,engineer,engineering,Lecture,Medicine,Michigan Engineering,Research,symposium,translational research
LOCATION:
CONTACT:
END:VEVENT
BEGIN:VEVENT
DTSTAMP:20250211T122734
DTSTART;TZID=America/Detroit:20250513T090000
DTEND;TZID=America/Detroit:20250513T160000
SUMMARY:Exhibition:Redefining the Crown
DESCRIPTION:In Winter 2025\, the Lane Hall exhibit space will feature a portraiture series titled Redefining the Crown showcasing the powerful stories of six Black breast cancer survivors.\n\nBased on a photo essay by U-M Faculty Versha Pleasant (MD/MPH) and Ava Purkiss (PhD) in Medicine at Michigan\, this exhibition examines the cultural and personal significance of hair within Black communities\, particularly through the lens of breast cancer treatment and recovery. The term \"crown\" is deeply symbolic in Black culture\, signifying beauty\, strength\, and identity. The featured photo essay by photographer Tafari Stevenson-Howard captures the intimate journeys of Ann Chatman\, Tanisha Kennedy\, Felecia McDaniel\, Shantell Elaine McCoy\, Tamara Lynn Myles\, and Veleria Banks.\n\nThrough their narratives and portraits\, the exhibit examines how these women have navigated the profound impact of hair loss caused by chemotherapy\, inviting the audience to witness their stories with radical empathy. It explores the cultural pride and personal identity intricately tied to their hair\, and how these elements are redefined amidst their battles with breast cancer.\n\nThe exhibit will be on view from January 21\, 2025 to August 8\, 2025. This exhibition is presented with support from IRWG\, the Department of Women's and Gender Studies\, and Michigan Medicine. \n\nLocated on the first floor of Lane Hall (204 S. State Street)\, the Exhibit Space is free and open to the public\, M-F\, 9am-4pm.
UID:129602-21864130@events.umich.edu
URL:https://events.umich.edu/event/129602
CLASS:PUBLIC
STATUS:CONFIRMED
CATEGORIES:african american,Art,institute for research on women and gender,women,Women's And Gender Studies
LOCATION:Lane Hall
CONTACT:
END:VEVENT
END:VCALENDAR