BEGIN:VCALENDAR
VERSION:2.0
PRODID:-//UM//UM*Events//EN
CALSCALE:GREGORIAN
BEGIN:VTIMEZONE
TZID:America/Detroit
TZURL:http://tzurl.org/zoneinfo/America/Detroit
X-LIC-LOCATION:America/Detroit
BEGIN:DAYLIGHT
TZOFFSETFROM:-0500
TZOFFSETTO:-0400
TZNAME:EDT
DTSTART:20070311T020000
RRULE:FREQ=YEARLY;BYMONTH=3;BYDAY=2SU
END:DAYLIGHT
BEGIN:STANDARD
TZOFFSETFROM:-0400
TZOFFSETTO:-0500
TZNAME:EST
DTSTART:20071104T020000
RRULE:FREQ=YEARLY;BYMONTH=11;BYDAY=1SU
END:STANDARD
END:VTIMEZONE
BEGIN:VEVENT
DTSTAMP:20250512T181551
DTSTART;TZID=America/Detroit:20250513T200000
DTEND;TZID=America/Detroit:20250513T213000
SUMMARY:Performance:[Cancelled] Justin Wallace\, harpsichord
DESCRIPTION:This performance has been cancelled. We apologize for any inconvenience.
UID:134912-21875689@events.umich.edu
URL:https://events.umich.edu/event/134912
CLASS:PUBLIC
STATUS:CONFIRMED
CATEGORIES:North Campus,Music,Free
LOCATION:Earl V. Moore Building - Britton Recital Hall
CONTACT:
END:VEVENT
BEGIN:VEVENT
DTSTAMP:20250509T115553
DTSTART;TZID=America/Detroit:20250513T200000
SUMMARY:Performance:Girl Named Tom
DESCRIPTION:Captivating sibling harmonies\n\nThree siblings unlock one harmony to unite the world as Girl Named Tom. The trio—Bekah\, Joshua\, and Caleb Liechty—notably made history as the only group to ever win NBC’s The Voice. Along the way\, they’ve impressively generated over 25 million streams across chart-rattling covers such as “River\,” “The Chain\,” and “Dust in the Wind.” The proud Midwesterners gained further traction with the independent release of Another World EP. In 2022\, they served up their debut holiday EP\, One More Christmas\, which reached #1 on the iTunes Charts\, and embarked on a massive arena tour supporting Pentatonix for “A Christmas Spectacular.” \n\nSince 2022 the group has been living life on the road performing over 200 shows to date. The sibling trio has captivated millions on television\, appearing on The Ellen DeGeneres Show\, singing for the Indy500\, and returning for a heart wrenching performance on The Voice Finale a year after their win. Their inimitable harmony will only continue to resound louder with their most recent release “Locked In Your Love”
UID:134302-21874147@events.umich.edu
URL:https://events.umich.edu/event/134302
CLASS:PUBLIC
STATUS:CONFIRMED
CATEGORIES:Ark,Mutotix
LOCATION:ARK Reserved
CONTACT:
END:VEVENT
BEGIN:VEVENT
DTSTAMP:20250305T120029
DTSTART;TZID=America/Detroit:20250514T000000
DTEND;TZID=America/Detroit:20250514T235959
SUMMARY:Other:Nationals Practice
DESCRIPTION:Training
UID:132608-21871386@events.umich.edu
URL:https://events.umich.edu/event/132608
CLASS:PUBLIC
STATUS:CONFIRMED
CATEGORIES:
LOCATION:Michigan Sailing Club
CONTACT:
END:VEVENT
BEGIN:VEVENT
DTSTAMP:20250304T115736
DTSTART;TZID=America/Detroit:20250514T000000
DTEND;TZID=America/Detroit:20250514T120000
SUMMARY:Class / Instruction:Summer Session in Epidemiology
DESCRIPTION:Join us for the longest-running summer program in epidemiology! Choose from engaging 1-week or 3-week online courses designed to provide skills-based training in applied epidemiology.\n\nFor 60 years\, the University of Michigan's Summer Session in Epidemiology (SSE) has been one of the nation's longest-running and premier summer epidemiology programs. In just one to three intensive weeks\, gain valuable knowledge and skills to enhance your academic and professional journey. SSE is designed for public health and healthcare professionals\, researchers\, and anyone eager to build a foundation in epidemiologic science. We welcome participants from diverse backgrounds\, including undergraduate students\, public health professionals\, clinical and biomedical researchers\, and scholars in related fields such as psychology\, sociology\, and earth sciences. \n\nWhile experience in public health\, epidemiology\, or biostatistics is beneficial\, it is not required. By the end of our program\, you will have developed a solid understanding of key research principles in clinical populations\, covering areas such as: Study Design\, Biostatistical Analysis\, and Causal Inference These essential skills will help you advance in epidemiology\, public health\, and related fields.
UID:133411-21872953@events.umich.edu
URL:https://events.umich.edu/event/133411
CLASS:PUBLIC
STATUS:CONFIRMED
CATEGORIES:Alumni,Virtual,Undergraduate Students,Undergraduate,Staff,Rackham,biostatistics,Complex Systems,data,Dentistry,Education,Epidemiology,Graduate,Graduate and Professional Students,Graduate Students,Postdoctoral Research Fellows,Pre Med,Professional Development,Public Health,Research
LOCATION:Off Campus Location
CONTACT:
END:VEVENT
BEGIN:VEVENT
DTSTAMP:20250416T111333
DTSTART;TZID=America/Detroit:20250514T080000
DTEND;TZID=America/Detroit:20250514T235900
SUMMARY:Workshop / Seminar:Let’s Get Accessible! The 10-Day Digital Accessibility Awareness Challenge
DESCRIPTION:Every day we create and share digital content—documents\, emails\, videos\, slides\, social media posts—but have you ever stopped to ask “Is this accessible to everyone?”\nMost of us don’t realize the barriers that exist for people with disabilities until we learn how to remove them. So let’s get accessible!\n\nTogether\, we'll explore practical ways to make digital content more inclusive for all. Whether you're faculty\, staff\, or a student\, this challenge is packed with bite-sized actions and eye-opening insights that will:\n- Equip students with real-world accessibility skills that carry into the workplace\n- Help faculty and staff better support students and colleagues\n- Prepare our school for upcoming Title II updates to the ADA\, which will require greater digital accessibility across all public institutions\n\nThis is event is virtual and social!  No prior knowledge needed—just a willingness to learn.\n\nSign up today: https://umich.qualtrics.com/jfe/form/SV_eznQ4YvMVr3Uo7k
UID:135036-21876019@events.umich.edu
URL:https://events.umich.edu/event/135036
CLASS:PUBLIC
STATUS:CONFIRMED
CATEGORIES:Inclusion,Skill-building,Social,Training
LOCATION:Off Campus Location
CONTACT:
END:VEVENT
BEGIN:VEVENT
DTSTAMP:20250514T072015
DTSTART;TZID=America/Detroit:20250514T080000
DTEND;TZID=America/Detroit:20250514T160000
SUMMARY:Workshop / Seminar:Tableau Training
DESCRIPTION:This course is an introduction to Tableau\, covering the basics of data connection\, visualization creation\, and best practices for those just getting started with building (not consuming) reports and dashboards in Tableau.\n
UID:107039-21876525@events.umich.edu
URL:https://events.umich.edu/event/107039
CLASS:PUBLIC
STATUS:CONFIRMED
CATEGORIES:Sessions
LOCATION:
CONTACT:
END:VEVENT
END:VCALENDAR