BEGIN:VCALENDAR
VERSION:2.0
PRODID:-//UM//UM*Events//EN
CALSCALE:GREGORIAN
BEGIN:VTIMEZONE
TZID:America/Detroit
TZURL:http://tzurl.org/zoneinfo/America/Detroit
X-LIC-LOCATION:America/Detroit
BEGIN:DAYLIGHT
TZOFFSETFROM:-0500
TZOFFSETTO:-0400
TZNAME:EDT
DTSTART:20070311T020000
RRULE:FREQ=YEARLY;BYMONTH=3;BYDAY=2SU
END:DAYLIGHT
BEGIN:STANDARD
TZOFFSETFROM:-0400
TZOFFSETTO:-0500
TZNAME:EST
DTSTART:20071104T020000
RRULE:FREQ=YEARLY;BYMONTH=11;BYDAY=1SU
END:STANDARD
END:VTIMEZONE
BEGIN:VEVENT
DTSTAMP:20250411T141320
DTSTART;TZID=America/Detroit:20250515T100000
DTEND;TZID=America/Detroit:20250515T120000
SUMMARY:Workshop / Seminar:GSIs Critically Engaging with Difference: Noticing Students’ Lived Experiences
DESCRIPTION:Part of CRLT's Equity-focused Teaching @ Michigan Series\n\nTeacher noticing is a framework that describes how teachers attend to instructional moments\, interpret these moments\, and respond to these instructional moments. Teacher noticing is a skill that develops reciprocally with experience and can be useful to notice students’ disciplinary understanding and enacting equity-focused teaching\, primarily through tenets like academic belonging and critical engagement of difference. As GSIs develop their framing\, or their commitments for equity\, these frames can influence how and what GSIs notice in the classroom to counter the culturally dominant frames of higher education (e.g.\, meritocracy\, objectivity\, etc.). Given that GSIs have powerful opportunities to leverage equity\, learning how to reflect upon your noticing can be a useful tool to further develop your commitment and ability to identify areas to enact your equity-focused teaching in the classroom. In this session\, we will focus primarily on how to use the teacher noticing framework to critically engage with difference in your classroom by taking an asset-based approach to noticing students’ understanding and lived experiences.
UID:134935-21875694@events.umich.edu
URL:https://events.umich.edu/event/134935
CLASS:PUBLIC
STATUS:CONFIRMED
CATEGORIES:Workshop,Center For Research On Learning And Teaching,Graduate Students,gsi,Virtual
LOCATION:Off Campus Location
CONTACT:
END:VEVENT
BEGIN:VEVENT
DTSTAMP:20250422T113832
DTSTART;TZID=America/Detroit:20250515T100000
DTEND;TZID=America/Detroit:20250515T110000
SUMMARY:Presentation:Long-term Care: What Do Michigan’s Older Adults Need to Know?
DESCRIPTION:A new report from the Michigan Poll on Healthy Aging highlights major gaps in planning and preparedness for long-term care among older Michiganders\, and their peers nationwide.\n\nJoin us for a webinar with the report's authors from the University of Michigan Institute for Healthcare Policy and Innovation\, who will describe the findings and their implications for older adults\, families\, communities\, policymakers\, and beyond. We'll hear more about older Michiganders' experiences\, knowledge\, and attitudes related to long-term care\, along with how these compare to the nation as a whole.\n\nWe'll also take questions about what we know — and don’t know — about long-term care and older adults. The Michigan Health Endowment Fund will join to reflect on how this new information connects to its efforts to support older adults and their caregivers across the state\, and a representative from the Michigan Department of Health and Human Services will discuss forthcoming resources to help families understand the long-term care landscape and access the support they need.\n\nThe Michigan Poll on Healthy Aging\, and its counterpart the National Poll on Healthy Aging\, are based at the U-M Institute for Healthcare Policy and Innovation and supported by the Michigan Health Endowment Fund and Michigan Medicine.\n\nThis event will be live-captioned.
UID:135160-21876435@events.umich.edu
URL:https://events.umich.edu/event/135160
CLASS:PUBLIC
STATUS:CONFIRMED
CATEGORIES:health care policy,Virtual,Public Policy,Public Health,Medicine,health care,Health & Wellness
LOCATION:Off Campus Location
CONTACT:
END:VEVENT
BEGIN:VEVENT
DTSTAMP:20250304T131847
DTSTART;TZID=America/Detroit:20250515T100000
DTEND;TZID=America/Detroit:20250515T163000
SUMMARY:Other:Moth Eden
DESCRIPTION:Explore \"Moth Eden\,\" an evocative art exhibit by Anne Erlewine\, running from April 19 to July 6\, 2025. ‘Moth Eden’ is a series of works exploring the relationship between the sacred reverence of the female form depicted as landscape and the conditioned tension of objectification contrasted by omission through eclipsing desire with the natural essence of bloom and nectar as it pertains to moth sustenance.\n\nAnne Erlewine\, an artist from Ann Arbor\, Michigan\, cultivated her artistic talents from an early age\, inspired by her fine artist grandmother. Her creative journey was further developed at the University of Michigan\, where she studied art and writing.
UID:133414-21873002@events.umich.edu
URL:https://events.umich.edu/event/133414
CLASS:PUBLIC
STATUS:CONFIRMED
CATEGORIES:Art,Exhibition,Free,In Person,Visual Arts
LOCATION:Matthaei Botanical Gardens
CONTACT:
END:VEVENT
BEGIN:VEVENT
DTSTAMP:20250121T123127
DTSTART;TZID=America/Detroit:20250515T100000
DTEND;TZID=America/Detroit:20250515T113000
SUMMARY:Careers / Jobs:U.S. EPA Regions 8\, 9\, and 10 Federal Careers Virtual Workshop
DESCRIPTION:Come learn about Federal Employment at Region 8 (Denver)\, Region 9 (San Francisco)\, and Region 10 (Seattle) of the EPA! Entry level\, early and mid-career professionals are all welcome to attend. Our work at EPA has purpose and impact. From tackling the climate crisis to advancing environmental justice\, what happens here changes our world. Our mission is to protect human health and safeguard the environment – theair\, water\, and land upon which life depends.At EPA\, you can make a real difference for the environment and the lives of others.Participants have the opportunity to learn about EPA’s mission\, how to navigate USAJOBS and creating a federal resume. There will be panel discussion to provide a glimpse into variety of careers within the EPA.Thisevent begins at 10:00 AM Mountain Time (11:00 AM CentralTime\, 12:00 PM Eastern Time\, 9:00 AM Pacific Time.)No pre-registration required!  Just click on the linka few minutes before the event and you’ll be directed to the MS Teams site.For more information or to request accommodations\, please contact mutter.andrew@epa.gov\, verges.michelle@epa.gov\, weber.camille@epa.gov\, or drummond.shawn@epa.gov.
UID:126467-21857171@events.umich.edu
URL:https://events.umich.edu/event/126467
CLASS:PUBLIC
STATUS:CONFIRMED
CATEGORIES:
LOCATION:
CONTACT:
END:VEVENT
BEGIN:VEVENT
DTSTAMP:20240130T121551
DTSTART;TZID=America/Detroit:20250515T100000
DTEND;TZID=America/Detroit:20250515T200000
SUMMARY:Exhibition:Unsettling Histories: Legacies of Slavery and Colonialism
DESCRIPTION:Organized as a response to the Museum’s recent acquisition of Titus Kaphar’s Flay (James Madison)\, this upcoming reinstallation of one of our most prominent gallery spaces forces us to grapple with our collection of European and American art\, 1650-1850.\n \nIn recent times\, growing public awareness of the continued reverberations of the legacy of slavery and colonization has challenged museums to examine the uncomfortable histories contained in our collections\, and challenged the public to probe the choices we make about those stories. Choices about which artists you see in our galleries\, choices about what relevant facts we share about the works\, and choices about what - out of an infinite number of options - we don’t say about them.\n \nPieces in this exhibition were made at a time when the world came to be shaped by the ideologies of colonial expansion and Western domination. And yet\, that history and the stories of those marginalized do not readily appear in the still lives and portraits on display here. By grappling with what is visible and what remains hidden\, we are forced to examine whose stories and histories are prioritized and why.  \n \nIn this online exhibition\, you can explore our efforts to deeply question the Museum’s collection and our own past complicity in favoring colonial voices. In the Museum gallery\, which will open in early 2021\, you’ll be able to experience the changes we’re making to the physical space to highlight a more honest version of European and American history. \n \nBy challenging our own practice\, and continuing to add to what we know and what we write about the works we display\, UMMA tells a more complex and more complete story of this nation - one that unsettles\, and fails to settle for\, simple narratives. \n \n“Invisible things are not necessarily ‘not there’.... Certain absences are so stressed\, so ornate\, so planned\, they call attention to themselves\; arrest us with intentionality and purpose\, like neighborhoods that are defined by the population held away from them.” \n \n— Toni Morrison\n\nLead support for Unsettling Histories: Legacies of Slavery and Colonialism is provided by the University of Michigan Office of the Provost\, the U-M Arts Initiative\, and the Susan and Richard Gutow Endowed Fund.\n 
UID:84303-21621596@events.umich.edu
URL:https://events.umich.edu/event/84303
CLASS:PUBLIC
STATUS:CONFIRMED
CATEGORIES:Art,History,European,Exhibition,Museum,UMMA
LOCATION:Museum of Art - European and American Decorative Art
CONTACT:
END:VEVENT
BEGIN:VEVENT
DTSTAMP:20250402T100903
DTSTART;TZID=America/Detroit:20250515T103000
DTEND;TZID=America/Detroit:20250515T150000
SUMMARY:Conference / Symposium:Global Accessibility Awareness Day (GAAD) - Committing to Change
DESCRIPTION:Global Accessibility Awareness Day is a virtual accessibility event on Thursday\, May 15\, 2025\, aimed at engaging in conversation\, thinking\, and learning about access and inclusion. This year’s event is sponsored by the University of Minnesota and co-sponsored by the University of Illinois system and the University of Michigan. The year’s theme is “Committing to Change” considering the many ways we\, our departments\, our colleges and universities\, and communities can commit to making the changes needed to be more inclusive. The event is organized by a volunteer group of dedicated University employees.\n\nDirector of Disability Equity and ADA Coordinator Allison Kushner and Senior Accessibility Specialist Erin Metz will present \"Creating Awareness & Empowering Change: Building a Campus-wide Disability Awareness Program\" on Track C of Session 1. This presentation focuses on how to develop and implement a comprehensive disability awareness training program designed to educate a university community on its disability compliance obligations but also foster a culture of disability inclusion and accessibility. This presentation by UM's Disability Equity Office will highlight the key challenges\, successes\, and impacts of implementing its own disability education and training program. Participants will gain insight into leveraging their available resources to build a training program\, including creating a strategic mission and roadmap for implementation\, and how to utilize objective data to gain buy-in and enthusiasm for growth from key stakeholders.
UID:134569-21874536@events.umich.edu
URL:https://events.umich.edu/event/134569
CLASS:PUBLIC
STATUS:CONFIRMED
CATEGORIES:Accessibility,Virtual,Digital Accessibility
LOCATION:Off Campus Location
CONTACT:
END:VEVENT
END:VCALENDAR